BEGIN:VCALENDAR
VERSION:2.0
PRODID:-//Клуб планинара &quot;АВАНТУРИСТА&quot; - ECPv5.14.1//NONSGML v1.0//EN
CALSCALE:GREGORIAN
METHOD:PUBLISH
X-WR-CALNAME:Клуб планинара &quot;АВАНТУРИСТА&quot;
X-ORIGINAL-URL:https://planinariavanturisti.org.rs
X-WR-CALDESC:Events for Клуб планинара &quot;АВАНТУРИСТА&quot;
BEGIN:VTIMEZONE
TZID:Europe/Paris
BEGIN:DAYLIGHT
TZOFFSETFROM:+0100
TZOFFSETTO:+0200
TZNAME:CEST
DTSTART:20160327T010000
END:DAYLIGHT
BEGIN:STANDARD
TZOFFSETFROM:+0200
TZOFFSETTO:+0100
TZNAME:CET
DTSTART:20161030T010000
END:STANDARD
END:VTIMEZONE
BEGIN:VEVENT
DTSTART;TZID=Europe/Paris:20160320T080000
DTEND;TZID=Europe/Paris:20160320T210000
DTSTAMP:20260421T104715
CREATED:20160315T194235Z
LAST-MODIFIED:20160315T194734Z
UID:382-1458460800-1458507600@planinariavanturisti.org.rs
SUMMARY:Археолошки парк Виминациум – Стари Костолац – Љубичево – брдо Чачалица
DESCRIPTION:ПОЛАЗАК: Окупљамо се на паркингу испред центра „Сава“ (савска страна) и полазимо тачно у 8 сати.\n\nСтижемо на локалитет Археолошког парка Виминациум уз претходну паузу за јутарњу кафу и доручак. \nОбилазимо локалитет старог римског града и војног логора уз стручног водича и предавање у трајању од два сата.\nОко 12 и 30 часова полазимо на пешачку туру у трајању око три сата. Пролазимо поред ергеле коња у Љубичеву\, а крајњи циљ нам је брдо Чачалица код Пожаревца.\nОко 17 часова је предвиђен ручак и дружење у центру Пожаревца\, до поласка за Београд.\n\nСтаза је лагана и рекреативна. Погодна за све узрасте планинара. \nОчекивано време доласка испред Центра Сава је до 21 час\, а можда и мало раније. \nОПРЕМА: мали ранац са водом и храном за једнодневни излет\, планинарске ципеле. Одећа прилагођена временским приликама. \nЦена акције: 1.200 динара путујемо минибусом \nУ цену акције није урачуната улазница за Археолошки парк Виминациум\, која се плаћа приликом уласка на локалитет. \nАкцију реализују Радован Симоновић и Борис Братић\nТел: 064/195-15-65 \nВише о Виминациуму можете прочитати на званичном сајту: http://www.viminacium.org.rs/
URL:https://planinariavanturisti.org.rs/dogadjaj/arheoloski-park-viminacium-stari-kostolac-ljubicevo-brdo-cacalica/
LOCATION:Пожаревац\, Пожаревац\, Srbija
CATEGORIES:Планинарске акције
END:VEVENT
END:VCALENDAR