BEGIN:VCALENDAR
VERSION:2.0
PRODID:-//Клуб планинара &quot;АВАНТУРИСТА&quot; - ECPv5.14.1//NONSGML v1.0//EN
CALSCALE:GREGORIAN
METHOD:PUBLISH
X-WR-CALNAME:Клуб планинара &quot;АВАНТУРИСТА&quot;
X-ORIGINAL-URL:https://planinariavanturisti.org.rs
X-WR-CALDESC:Events for Клуб планинара &quot;АВАНТУРИСТА&quot;
BEGIN:VTIMEZONE
TZID:Europe/Paris
BEGIN:DAYLIGHT
TZOFFSETFROM:+0100
TZOFFSETTO:+0200
TZNAME:CEST
DTSTART:20160327T010000
END:DAYLIGHT
BEGIN:STANDARD
TZOFFSETFROM:+0200
TZOFFSETTO:+0100
TZNAME:CET
DTSTART:20161030T010000
END:STANDARD
END:VTIMEZONE
BEGIN:VEVENT
DTSTART;TZID=Europe/Paris:20161224T080000
DTEND;TZID=Europe/Paris:20161224T170000
DTSTAMP:20260423T043951
CREATED:20161221T212034Z
LAST-MODIFIED:20161221T212034Z
UID:987-1482566400-1482598800@planinariavanturisti.org.rs
SUMMARY:АВАЛА ИЗ ЧЕТИРИ ПРАВЦА
DESCRIPTION:Клуб планинара „АВАНТУРИСТА„ вас позива на традиционалну планинарску акцију \nАВАЛА ИЗ ЧЕТИРИ ПРАВЦА \nУ организацији ПСК „Копаоник„ из Београда у сарадњи са ПСК „Авала„ Београд \nАкција ће се одржати у суботу 24. Децембар 2016. године \nПОЛАЗАК: Окупљамо се на ТРОШАРИНИ и полазимо градским аутобусом ИТС-ГСП број 405 који полази тачно у 8 сати. Веома је важно да не касните\, јер нас градски аутобус неће чекати. Молим вас дођите 10 – 15 минута раније. \nДо трошарине се долази Трамвајима 9\, 10 и 14 ;  Аутобусима 33\, 39\, 47\, 48\, 50 и 78 ; Тролејбусима 40 и 41 до Паунове улице. \nИз аутобуса број 405 излазимо у центру Рипња где чекамо планинаре\, који са нама пешаче ка врху Авале. \nОкупљање свих учесника акције је у центру Рипња до 9 и 45. Полазимо на стазу тачно у 10 сати. \nПешачимо СТАЗОМ број 3 (јужни правац) РИПАЊ – ШУПЉА СТЕНА – АВАЛА \nРелација пешачења: центар Рипња – Шупља стена – Римски бунар – врх Авале – ТВ торањ – планинарски дом „Чарапићев брест„. \nДужина стазе је око 9 км\, висинска разлика 340 м. Стаза се умереним ходом прелази за 3 – 4 сата. \nВодич на стази испред клуба домаћина је Јелена Моловић. \nДомаћини акције нам по доласку у планинарски дом „Чарапићев брест„ обезбеђују ручак по цени од 150 динара. \nНакон ручка и доделе захвалница планинарским клубовима који су учествовали на овој лепој акцији и диплома\, полазимо од Дома ка аутобуском стајалишту ИТС – ГСП у центру села Пиносава на Авалском путу. \nПриликом пријављивања\, молим постављајте питања чији одговори ће вам помоћи и разјаснити све евентуалне недоумице. Водичу саопштите\, да ли сте за посан оброк/ручак уколико желите. Ручак кошта 150 динара. \nОПРЕМА: Мали ранац са водом и храном за једнодневни излет\, планинарске ципеле (могу и дубље патике са вибрам ђоном). Одећа прилагођена временским приликама (ветровка\, капа и рукавице)\, имајте у виду хладније време и пресвлака.  \nУ случају\, да нас на кратко пред крај стазе (око 16 и 30 часова – „кратак дан„) сустигне мрак\, понети чеону или батеријску лампу. Планинарски штапови нису обавезни\, али јесу стална и добронамерна препорука водича. \nПРИЈАВЕ за акцију и информације четвртком од 19 до 21 час на састанцима Клуба у Старом Меркатору „PLANETA„ Coffee Shop \nЦена акције:  БЕСПЛАТНА АКЦИЈА \nАкцију реализује планински водич \nБорис Братић – Боки \nТелефони за пријављивање на акцију и информације: \n064/99-248-11  МТС мрежа \n063/11-357-99  Теленор мрежа \nДОБРО ДОШЛИ НА НАШЕ АВАНТУРЕ! \n  \n  \n  \n  \n  \n  \n  \n 
URL:https://planinariavanturisti.org.rs/dogadjaj/avala-iz-cetiri-pravca/
LOCATION:Авала\, Београд\, 11000\, Srbija
CATEGORIES:Планинарске акције
ATTACH;FMTTYPE=image/jpeg:https://planinariavanturisti.org.rs/wp-content/uploads/2016/12/Avala-iz-4-pravca-naslovna.jpg
ORGANIZER;CN="%D0%91%D0%BE%D1%80%D0%B8%D1%81%20%D0%91%D1%80%D0%B0%D1%82%D0%B8%D1%9B%20-%20%D0%91%D0%BE%D0%BA%D0%B8":MAILTO:instruktorboris@gmail.com
END:VEVENT
END:VCALENDAR