BEGIN:VCALENDAR
VERSION:2.0
PRODID:-//Клуб планинара &quot;АВАНТУРИСТА&quot; - ECPv5.14.1//NONSGML v1.0//EN
CALSCALE:GREGORIAN
METHOD:PUBLISH
X-WR-CALNAME:Клуб планинара &quot;АВАНТУРИСТА&quot;
X-ORIGINAL-URL:https://planinariavanturisti.org.rs
X-WR-CALDESC:Events for Клуб планинара &quot;АВАНТУРИСТА&quot;
BEGIN:VTIMEZONE
TZID:Europe/Paris
BEGIN:DAYLIGHT
TZOFFSETFROM:+0100
TZOFFSETTO:+0200
TZNAME:CEST
DTSTART:20170326T010000
END:DAYLIGHT
BEGIN:STANDARD
TZOFFSETFROM:+0200
TZOFFSETTO:+0100
TZNAME:CET
DTSTART:20171029T010000
END:STANDARD
END:VTIMEZONE
BEGIN:VEVENT
DTSTART;TZID=Europe/Paris:20170618T063000
DTEND;TZID=Europe/Paris:20170618T223000
DTSTAMP:20260422T222030
CREATED:20170612T150805Z
LAST-MODIFIED:20170612T151004Z
UID:2746-1497767400-1497825000@planinariavanturisti.org.rs
SUMMARY:Ђердап – Соколовац – кањон Бољетинске реке – Лепенски Вир
DESCRIPTION:Ђердап – Соколовац – кањон Бољетинске реке – Лепенски Вир \n18. Јун 2017 – недеља \nПОЛАЗАК: Окупљамо се на паркингу испред центра „Сава“ (савска страна) и полазимо тачно у 6 и 30 часова. \nМолим вас\, дођите 10-ак минута раније како бисмо кренули на време. \nПЛАН АКЦИЈЕ \nПутујемо аутопутем\, до искључења за Пожаревац. Правимо две кратке паузе успут. Прва за куповину одличних сендвича и кафе за понети (добијали смо кафу гратис) у продавници уз магистралу (преко пута продавнице\, на пумпи постоји тоалет ако има потребе) а друга у Великом Градишту приликом сусрета са пријатељима.  \nСа нашим домаћинима\, планинарима из БПК „ГОЛУБАЦ„ из Великог Градишта познатијим као „ШТРУМПФОВИ„ полазимо ка ушћу Песаче у Дунав на почетак наше планинарске стазе.  \nОд изласка из возила пешачимо колским путем ка врху Соколовца и његовим панорамским видиковцима\, Сећински врх и Бандера. Са Соколовца се пружа одличан поглед на клисуру Госпођин вир. Након уживања у лепоти призора са Соколовца се спуштамо ка Песачи и даље идемо у правцу ка Чока Њалти.  \nПосебно атрактиван је гребенски пут којим идемо преко великих и пространих ливада са величанственим погледом на моћни Дунав. Спуштамо се у Лепенски вир\, односно ка најлепшем делу кањона Бољетинске реке. \nУкупна дужина данашње стазе је око 17 км . Активно боравимо у природи око 6 сати. \nНа стази ка врху Соколовца имамо извор пијаће воде (чесма). \nУ Лепенском виру посећујемо археолошки локалитет (постоји могућност групног или индивидуалног обиласка) и одлични ресторан у којем можемо ручати. Праве врхунску рибљу чорбу и локални специјалитет Влашки качамак и сир на роштиљу. \nЗа Београд полазимо најкасније у 19 часова\, како би стигли на велики паркинг испред центра „Сава„ до 22 и 30 часова. \nОПРЕМА: Мали ранац са водом и храном за једнодневни излет\, планинарске ципеле или трекинг патике са вибрам ђоном. Одећа прилагођена временским приликама и пресвлака. Планинарски штапови нису обавезни\, али јесу стална препорука водича. \nПРИЈАВЕ за акцију и информације на редовним Клупским састанцима: четвртком на састанку КП „АВАНТУРИСТА„ Београд од 19 до 21 час у Старом Меркатору на Новом Београду „PLANETA„ Coffee Shop и понедељком на састанку ПСК „АВАЛА„ Београд\, улица Мурска бр. 14 са почетком у 19 часова.  \nЦена акције: 1.700 динара \nАкцију реализује планински водич \nБорис Братић – Боки \nТелефони за пријављивање на акцију код водича:  \n064/99-248-11  МТС мрежа \n       063/11-357-99  Теленор мрежа \nДОБРО ДОШЛИ НА НАШЕ ЗАЈЕДНИЧКЕ АВАНТУРЕ!
URL:https://planinariavanturisti.org.rs/dogadjaj/djerdap-sokolovac-lepenski-vir/
LOCATION:Lepenski vir\, Donji Milanovac\, Srbija
CATEGORIES:Планинарске акције
ATTACH;FMTTYPE=image/jpeg:https://planinariavanturisti.org.rs/wp-content/uploads/2017/06/Naslovnica-Ðerdap-Sokolovac-kanjon-Boljetinske-reke-Lepenski-vir-18.-Jun-2017..jpg
ORGANIZER;CN="%D0%91%D0%BE%D1%80%D0%B8%D1%81%20%D0%91%D1%80%D0%B0%D1%82%D0%B8%D1%9B%20-%20%D0%91%D0%BE%D0%BA%D0%B8":MAILTO:instruktorboris@gmail.com
END:VEVENT
END:VCALENDAR