BEGIN:VCALENDAR
VERSION:2.0
PRODID:-//Клуб планинара &quot;АВАНТУРИСТА&quot; - ECPv5.14.1//NONSGML v1.0//EN
CALSCALE:GREGORIAN
METHOD:PUBLISH
X-WR-CALNAME:Клуб планинара &quot;АВАНТУРИСТА&quot;
X-ORIGINAL-URL:https://planinariavanturisti.org.rs
X-WR-CALDESC:Events for Клуб планинара &quot;АВАНТУРИСТА&quot;
BEGIN:VTIMEZONE
TZID:Europe/Paris
BEGIN:DAYLIGHT
TZOFFSETFROM:+0100
TZOFFSETTO:+0200
TZNAME:CEST
DTSTART:20160327T010000
END:DAYLIGHT
BEGIN:STANDARD
TZOFFSETFROM:+0200
TZOFFSETTO:+0100
TZNAME:CET
DTSTART:20161030T010000
END:STANDARD
END:VTIMEZONE
BEGIN:VEVENT
DTSTART;TZID=Europe/Paris:20160402T073000
DTEND;TZID=Europe/Paris:20160402T210000
DTSTAMP:20260423T120316
CREATED:20160325T191413Z
LAST-MODIFIED:20160325T191814Z
UID:416-1459582200-1459630800@planinariavanturisti.org.rs
SUMMARY:ДОСИТЕЈЕВИМ СТАЗАМА - Фрушка гора
DESCRIPTION:ДОСИТЕЈЕВИМ СТАЗАМА – Фрушка гора \n\n Април 2016. – Субота\n\nКлуб планинара „Авантуриста“ учествује у Традиционалној  акцији Планинарског  Друштва “ Др Лаза Марковић “ из Ирига \nПОЛАЗАК: Окупљамо се на паркингу испред центра „Сава“ (савска страна) и полазимо тачно у 7 и 30   \nДолазимо до Планинарског дома „Војводина„ на Иришком Венцу и пријављујемо се домаћинима акције. Домаћини припремају за све планинаре освежење. \nНакон отварања акције и поздравне речи домаћина\, полазимо на две стазе по избору: \nВелика стаза: Планинарски дом (Иришки Венац) – манастир Ново Хопово – манастир Старо Хопово – манастир Гргетег – хотел „НОРЦЕВ“ (РТВ торањ) – Планинарски дом => укупна дужина стазе 20\,9 км \nМала стаза: Планинарски дом (Иришки Венац) – манастир Ново Хопово – манастир Старо Хопово – Иришки Венац – Планинарски дом => укупна дужина стазе 9 км \nСтазе су  погодне за све узрасте планинара. \nЗавршетак стаза је код Планинарског дома „Војводина„ на Иришком Венцу. \nДомаћини спремају  Ручак (казански ГУЛАШ\, по цени од 350 динара) за све заинтересоване планинаре. Приликом пријављивања за акцију\, уједно се пријављујете и за ручак уколико желите. Потребно је понети прибор за јело. \nНакон ручка полазимо за Сремске Карловце у којима остајемо до повратка за Београд.  У Сремским Карловцима обилазимо Саборну цркву\, Гимназију\, планирамо и дегустацију чувених Карловачких вина и Бермета у једној породичној винарији. \nОчекивано време доласка испред Центра Сава је до 21 час\, а можда и мало раније. \nОПРЕМА: мали ранац са водом и храном за једнодневни излет\, планинарске ципеле. Одећа прилагођена временским приликама и пресвлака.Планинарски штапови нису обавезни\, али јесу стална препорука водича.  \nЦена акције:  1.100 динара   путујемо минибусом \nАкцију реализује планинарски водич Борис Братић \nТел: 064/99-248-11 \n 
URL:https://planinariavanturisti.org.rs/dogadjaj/dositejevim-stazama-fruska-gora/
CATEGORIES:Планинарске акције
ATTACH;FMTTYPE=image/jpeg:https://planinariavanturisti.org.rs/wp-content/uploads/2016/03/Dositejevim-stazama-naslovna-Kuda-skitamo-za-vikend.jpg
END:VEVENT
END:VCALENDAR