BEGIN:VCALENDAR
VERSION:2.0
PRODID:-//Клуб планинара &quot;АВАНТУРИСТА&quot; - ECPv5.14.1//NONSGML v1.0//EN
CALSCALE:GREGORIAN
METHOD:PUBLISH
X-WR-CALNAME:Клуб планинара &quot;АВАНТУРИСТА&quot;
X-ORIGINAL-URL:https://planinariavanturisti.org.rs
X-WR-CALDESC:Events for Клуб планинара &quot;АВАНТУРИСТА&quot;
BEGIN:VTIMEZONE
TZID:Europe/Paris
BEGIN:DAYLIGHT
TZOFFSETFROM:+0100
TZOFFSETTO:+0200
TZNAME:CEST
DTSTART:20160327T010000
END:DAYLIGHT
BEGIN:STANDARD
TZOFFSETFROM:+0200
TZOFFSETTO:+0100
TZNAME:CET
DTSTART:20161030T010000
END:STANDARD
END:VTIMEZONE
BEGIN:VEVENT
DTSTART;TZID=Europe/Paris:20160910T060000
DTEND;TZID=Europe/Paris:20160910T210000
DTSTAMP:20260423T055300
CREATED:20160831T130134Z
LAST-MODIFIED:20160831T130134Z
UID:717-1473487200-1473541200@planinariavanturisti.org.rs
SUMMARY:ГЛЕДИЋКЕ ПЛАНИНЕ – прелепи део Шумадије
DESCRIPTION:ГЛЕДИЋКЕ ПЛАНИНЕ – прелепи део Шумадије \nГЛЕДИЋКЕ ПЛАНИНЕ – Аџине Ливаде – Бајчетина – Дуленски Црни врх – Орловица – Трешњевачка река – Дрен – планинарски дом у Аџиним Ливадама \n\n10.Септембар 2016 – субота\n\nРепубличка планинарска акција ГЛЕДИЋКА ТРАНСВЕРЗАЛА се реализује у организацији наших добрих домаћина и пријатеља ПД „ЖЕЖЕЉ„ из Крагујевца и Планинарског Савеза Србије. \nАкција се изводи на подручју Гледићких планина\, са намером да се види и упозна овај прелепи и мало познати део Шумадије. \nГледићке планине се простиру јужно од Крагујевца\, у правцу Трстеника и долине Западне Мораве у дужини од 35 км. Венац ових планина је широк  око 20 км и раздваја долину Груже на Западу од Левча на истоку. \nПосле Рудника то су највише Шумадијске планине\, које спадају у ред нижих планина испод 1.000м надморске висине. Највиши врх је Самар (922 м)\, а ту су и Јасеновита глава (906 м)\, Црни врх (897 м) и Шиљата Стена (868 м). \n  \nПЛАН АКЦИЈЕ: \n  \nПОЛАЗАК: Окупљамо се на паркингу испред центра „Сава“ (савска страна) и полазимо тачно у 6 часова. Mолим вас\, дођите 10-ак минута раније како би кренули на време. \nПутујемо аутопутем до искључења Мали Пожаревац\, затим преко Младеновца\, Тополе и Крагујевца до села Аџине Ливаде. У Тополи правимо полусатну паузу за прву јутарњу кафу\, доручак у пекари или краћи обилазак лепе варошице. \nПо доласку у село Аџине Ливаде\, код планинарског дома\, наши домаћини ПД „Жежељ„ из Крагујевца свечано отварају акцију. Затим се нашим возилом превозимо око 4 км до села Бајчетина\, на почетак наше лепе пешачке стазе. \nСтаза креће из села Бајчетина ка Дуленском Црном врху (897м)\, затим спуст ка Орловици и Трешњевачкој реци\, успон на Дрен и потом спуст ка планинарском дому у Аџиним Ливадама. \nСтаза је динамична\, крећемо се колским\, шумским путевима\, делимично коритом реке и преко чистих и лепих пространих ливада са дивним погледима на Шумадијске пределе и околне врхове. \nУкупна дужина стазе је око 17 км\, са успоном од 670 м и спустом од 780 м. \nПостоји и краћа стаза укупне дужине 15 км за оне који желе мање пешачења. Домаћини акције обезбеђују водиче на обе стазе. \nПо доласку испред планинарског дома у Аџиним Ливадама\, наши домаћини нам обезбеђују ручак по симболичној цени од 150 динара. Потребно је понети са собом прибор за јело (препорука: две пластичне посуде и кашика). \nНаши добри домаћини током и након ручка приређују музички програм уживо (песма уз пратњу хармонике) и клупску захвалницу за учешће на акцији. Такође\, учесници акције добијају пригодан беџ и дневник Гледићке трансверзале. \nОко 18 и 30 се очекује затварање акције и наш полазак за Београд. \nИспред центра Сава би требали бити до 21 час. \nОПРЕМА и ХРАНА: мали ранац са водом и храном за једнодневни излет – акцију\, планинарске ципеле (могу и патике са вибрам ђоном\, уколико је суво време)\, одећа прилагођена временским приликама и пресвлака\, планинарски штапови нису обавезни\, али јесу стална препорука водича.  \nВАЖНА НАПОМЕНА: На овој лепој традиционалној (републичкој) акцији\, домаћини нам спремају ручак по симболичној цени од 150 динара. Приликом пријављивања за акцију уједно се пријављујете и за ручак. \nПОТРЕБНО ЈЕ ПОНЕТИ СА СОБОМ ПРИБОР ЗА ЈЕЛО! \nПРИЈАВЕ за акцију и информације четвртком од 19 до 21 час на састанцима Клуба у Старом Меркатору\, локал „ПЛАНЕТА„ \nЦена акције: 1.500 динара \n (путујемо одличним минибусом) \nАкцију реализује \n Борис Братић \nТел:  064/99-248-11  МТС мрежа \n   063/11-357-99 Теленор мрежа \nДОБРО ДОШЛИ НА НАШЕ АВАНТУРЕ! \n  \nГледићке планине се пружају између реке Груже на западу\, реке Лепенице на северу\, реке Ждраљице и долине Левча на истоку и реке Западне Мораве на југу\, у правцу север-југ\, дужином од 35 км. \nПосле Рудника то су највише Шумадијске планине\, које спадају у ред нижих планина испод 1.000м надморске висине. Највиши врх је Самар (922 м)\, а ту су и Јасеновита глава (906 м)\, Црни врх (897 м) и Шиљата Стена (868 м). \nПредео је таласасто испресецан\, обилује шумама\, ливадама и изворима. Насеља су сеоска\, раштркана по долинама река и потока као и на нижим брдима. \nПешачка стаза\, дужине 73\,5 км\, обухвата већи део планине\, њене највише врхове\, део насеља\, кањон Дуленске реке и четири манастира. \nМанастир Каленић – саграђен је између 1407 и 1413 године\, налази се у Левчу\, у шумовитој дубодолини Каленићке реке. Посвећен је Ваведењу Пресвете Богородице. \nПодигао га је пехарник са двора деспота Стефана Лазаревића. Пример је најраскошније декорације Моравског стила. Од 1815 године у манастиру се налазе мошти Стефана Првовенчаног. \nМанастир Каменац – саграђен је почетком XV века и задужбина је деспота Стефана Лазаревића. Посвећен је рођењу Пресвете Богородице\, а налази се у селу Честин\, окружен падинама Гледићких планина у уској долини Честинске реке. \nМанастирак – сазидан је за време владавине деспота Стефана Лазаревића крајем XIV и почетком XV века од стране непознатог властелина. Смештен је у клисури Мочилске реке\, недалеко од села Велика Крушевица. Манастир је посвећен преносу моштију Светог Николе. \nМанастир Ралетинац – налази се у живописном делу клисуре Ралетиначког потока. Саграђен је у време деспота Стефана Лазаревића\, почетком XV века. Према предању\, три девојке\, Рала\, Дена и Сара\, кћери српских племића који су погинули у Косовском боју\, саградиле су три цркве на подручју данашњег села Велике Пчелице\, које су по њима назване Ралетинац\, Денковац и Саринац. Манастир Ралетинац посвећен је апостолима Петру и Павлу. Манастири Денковац и Саринац су недавно у потпуности обновљени. \n  \n  \n 
URL:https://planinariavanturisti.org.rs/dogadjaj/gledicke-planine-prelepi-deo-sumadije/
CATEGORIES:Планинарске акције
ATTACH;FMTTYPE=image/jpeg:https://planinariavanturisti.org.rs/wp-content/uploads/2016/08/насловна-Гледићка-трансверзала.jpg
ORGANIZER;CN="%D0%91%D0%BE%D1%80%D0%B8%D1%81%20%D0%91%D1%80%D0%B0%D1%82%D0%B8%D1%9B%20-%20%D0%91%D0%BE%D0%BA%D0%B8":MAILTO:instruktorboris@gmail.com
END:VEVENT
END:VCALENDAR