BEGIN:VCALENDAR
VERSION:2.0
PRODID:-//Клуб планинара &quot;АВАНТУРИСТА&quot; - ECPv5.14.1//NONSGML v1.0//EN
CALSCALE:GREGORIAN
METHOD:PUBLISH
X-WR-CALNAME:Клуб планинара &quot;АВАНТУРИСТА&quot;
X-ORIGINAL-URL:https://planinariavanturisti.org.rs
X-WR-CALDESC:Events for Клуб планинара &quot;АВАНТУРИСТА&quot;
BEGIN:VTIMEZONE
TZID:Europe/Paris
BEGIN:DAYLIGHT
TZOFFSETFROM:+0100
TZOFFSETTO:+0200
TZNAME:CEST
DTSTART:20170326T010000
END:DAYLIGHT
BEGIN:STANDARD
TZOFFSETFROM:+0200
TZOFFSETTO:+0100
TZNAME:CET
DTSTART:20171029T010000
END:STANDARD
END:VTIMEZONE
BEGIN:VEVENT
DTSTART;TZID=Europe/Paris:20170102T063000
DTEND;TZID=Europe/Paris:20170102T220000
DTSTAMP:20260423T031903
CREATED:20161214T111515Z
LAST-MODIFIED:20161227T101453Z
UID:978-1483338600-1483394400@planinariavanturisti.org.rs
SUMMARY:Новогодишњи успон на КОЗОМОР + водопад Скакавци
DESCRIPTION:Аутор насловне фотографије акције Новогодишњи успон на КОЗОМОР + водопад Скакавци је планинар Никола Бјелобаба \nФотографија је направљена 23. Новембра 2014. године \nИмали смо одлично време и екипу. \nНовогодишњи успон на КОЗОМОР + водопад Скакавци \nРажана – Обртаљка – врх Велики Козомор 1.007 м – Мали Козомор – Брана – водопад Скакавци \n 2. Јануар 2017 – Понедељак \nПОЛАЗАК: Окупљамо се на паркингу испред центра „Сава“ (савска страна) и полазимо тачно у 6 и 30 часова. \nМолим вас\, дођите 10-ак минута раније како би смо кренули на време. \nПЛАН АКЦИЈЕ \nПутујемо ибарском магистралом до Ћелија. Правимо краћу успутну паузу за јутарњу кафу\, доручак и тоалет на пумпи или у центру Лајковца.  \nНастављамо пут ка Ваљеву и обилазницом око града ка Косјерићу. На уласку у Ражану\, код Дечјег игралишта излазимо из нашег минибуса и полазимо на пешачку стазу. \nПрелазимо магистралу и мостић\, и улазимо у четинарску шуму. Идући широким колским путем у правцу севера\, прелазимо поток и напредујемо „ка гребену Обртаљке„. \nОн се налази на 775 метара висине и представља диван видиковац према Каони и даље према Ластви. Гребенски успон траје око 40 минута. Прочишћеним делом шуме стижемо на врх Велики Козомор који се налази на 1.007 метара надморске висине. Са врха се пружа леп поглед према Паљби и централном делу Маљена\, а насупрот су остале Ваљевске планине.  \nСа врха се спуштамо широким гребеном\, преко Малог Козомора и Росића до бране и села Скакавци. Обилазимо водопад Скакавци на речици Котлина\, у истоименом селу (добило име по водопадима који „скакућу„). Затим одлазимо на заједнички ручак у породично домаћинство Лазовић\, где остајемо у пријатном амбијенту до поласка за Београд. \nЗа Београд полазимо најкасније у 19 часова\, како би стигли на велики паркинг испред центра „Сава„ до 22 часа. \nДужина стазе ове акције износи око 14 км. Стаза највећим делом иде кроз шуму\, ливадама и колским путем. Није тешка\, а ни пуно кондиционо захтевна\, при изласку на врх је кружна. \nИмамо 501 м успона и око 400 м спуста. Aктивно боравимо у природи око 6 сати. \nУспон иде преко Обртаљке\, гребеном до врха Велики Козомор 1.007 м. Спуст широком гребенском стазом преко врха Мали Козомор. Са врха се виде Субјел\, Кик\, Маглеш\, Повлен и врхови Маљена (Црни врх и Паљба) као на длану. \nПо повратку са пешачке туре имамо договорену вечеру у породичном домаћинству Лазовића у Скакавцима за оне који то желе. Комплетан ручак (аперитив\, предјело\, главно јело – кувано\, салата + хлеб и колач) кошта 500 динара. Изјашњавање за ручак је приликом пријављивања за акцију. \nОПРЕМА: Мали ранац са водом и храном за једнодневни излет\, планинарске ципеле. Одећа прилагођена временским приликама (ветровка\, капа и рукавице)\, имајте у виду хладније зимско време и пресвлака.  \nУ случају\, да нас на кратко пред крај планинарске стазе (око 16 и 30 часова – „кратак дан„) сустигне мрак\, понети чеону или батеријску лампу. Планинарски штапови нису обавезни\, али јесу стална и добронамерна препорука водича. \nПРИЈАВЕ за акцију и информације четвртком од 19 до 21 час на састанцима Клуба у Старом Меркатору „PLANETA„ Coffee Shop \nЦена акције: 1.450 динара (путујемо минибусом) \nУколико путујемо рентираним комбијем од 8 места + возач\, цена акције је 200 динара већа. \nАкцију реализује планински водич \nБорис Братић – Боки \nТелефони за пријављивање на акцију код Водича:  \n064/99-248-11  МТС мрежа \n       063/11-357-99  Теленор мрежа \nДОБРО ДОШЛИ НА НАШЕ АВАНТУРЕ! \n  \n                                                                                             \n 
URL:https://planinariavanturisti.org.rs/dogadjaj/kozomor-vodopad-skakavci/
LOCATION:Косјерић – Скакавци\, Srbija
CATEGORIES:Планинарске акције
ATTACH;FMTTYPE=image/jpeg:https://planinariavanturisti.org.rs/wp-content/uploads/2016/12/насловна-КОЗОМОР-2016-КП-АВАНТУРИСТА.jpg
ORGANIZER;CN="%D0%91%D0%BE%D1%80%D0%B8%D1%81%20%D0%91%D1%80%D0%B0%D1%82%D0%B8%D1%9B%20-%20%D0%91%D0%BE%D0%BA%D0%B8":MAILTO:instruktorboris@gmail.com
END:VEVENT
END:VCALENDAR