BEGIN:VCALENDAR
VERSION:2.0
PRODID:-//Клуб планинара &quot;АВАНТУРИСТА&quot; - ECPv5.14.1//NONSGML v1.0//EN
CALSCALE:GREGORIAN
METHOD:PUBLISH
X-WR-CALNAME:Клуб планинара &quot;АВАНТУРИСТА&quot;
X-ORIGINAL-URL:https://planinariavanturisti.org.rs
X-WR-CALDESC:Events for Клуб планинара &quot;АВАНТУРИСТА&quot;
BEGIN:VTIMEZONE
TZID:Europe/Paris
BEGIN:DAYLIGHT
TZOFFSETFROM:+0100
TZOFFSETTO:+0200
TZNAME:CEST
DTSTART:20160327T010000
END:DAYLIGHT
BEGIN:STANDARD
TZOFFSETFROM:+0200
TZOFFSETTO:+0100
TZNAME:CET
DTSTART:20161030T010000
END:STANDARD
END:VTIMEZONE
BEGIN:VEVENT
DTSTART;TZID=Europe/Paris:20160717T060000
DTEND;TZID=Europe/Paris:20160717T223000
DTSTAMP:20260423T073818
CREATED:20160615T224910Z
LAST-MODIFIED:20160626T005408Z
UID:567-1468735200-1468794600@planinariavanturisti.org.rs
SUMMARY:Национални Парк ЂЕРДАП – Мироч – видиковци Плоче – Велики Штрбац – Мали Прилаз – Лепенски Вир
DESCRIPTION:Национални Парк ЂЕРДАП – Мироч – видиковци Плоче – Велики Штрбац – Мали Прилаз – Лепенски Вир \n\n17. Јул 2016 – НЕДЕЉА\n\nПОЛАЗАК: Окупљамо се на паркингу испред центра „Сава“ (савска страна) и полазимо тачно у 6 сати.  \nМолим вас\, дођите 10-ак минута раније како бисмо кренули на време! \n  \nПЛАН АКЦИЈЕ \nПутујемо аутопутем\, до искључења за Пожаревац\, обилазницом око града\, путем према Великом Градишту и Голупцу. Имаћемо паузу у Великом Градишту за доручак у одличној пекари и јутарњу кафу. \nПролазимо поред старе Голубачке тврђаве у реконструкцији\, настављамо Дунавском магистралом и имамо још једну краћу успутну паузу на пумпи у Доњем Милановцу. \nСтижемо на локалитет Пецка бара и проширење на магистрали са уређеним одмориштем и чесмом са пијаћом водом. Одавде полази наша изузетно лепа кружна стаза. Најпре ходамо око 800 метара дуж магистралног пута ка Кладову\, затим скрећемо десно и пролазимо поред рампе и путоказних табли које нас обавештавају да смо на територији Националног парка Ђердап и да се крећемо маркираном стазом ка најлепшим видиковцима на Дунав\, Велики Казан и околину. \nСтаза нас води шумским колским путем до видиковца Плоче (тачније три одлична видиковца) где се уз право уживање упознајемо са Великим Казаном и околином. Настављамо стазом и пролазимо поред визиторског центра Плоче\, где имамо други и последњи извор пијаће воде (чесма). \nШумском стазом заклоњени од јаког сунца настављамо успон ка највишем врху Мироч планине\, Велики Штрбац 768 м. Пролазићемо поред попадалог и дрвећа ишчупаног из корења\, које природа сама регулише. Задихани од успона и узбуђења које следи стижемо на врх. Очарани погледом на моћни Дунав и његов ток\, на врху остајемо довољно дуго да упијемо енергију места и задовољно се исфотографишемо. \nСа Великог Штрпца се спуштамо узбудљивом и маркираном шумском стазом\, преко Малог прилаза\, чији видиковац даје потпуну слику терена којим смо прошли. Уживаћемо и у изненадним погледима – призорима ка Дунаву кроз растиње у спусту непосредно пре завршетка стазе.   \nЗавршавамо нашу кружну стазу изласком на магистралу недалеко од чесме и места где нас чека наше возило.  \nУкупна дужина стазе је око 15 км. Најнижа тачка је 95 м\, а највиша 768 м. Стаза највећим делом иде кроз шуму. На стази имамо два извора пијаће воде (две чесме).  \nУ повратку ка Београду\, ако нам пролазно време дозволи\, планиран је краћи обилазак локалитета Лепенски Вир где можемо и вечерати у локалном ресторану. Односно\, направићемо паузу за брзу вечеру у провереном ресторану у Доњем Милановцу.   \nПланирани повратак за Београд је у 18 и 30 часова\, како би били испред центра Сава око 22 и 30 часова. \nОПРЕМА: Мали ранац са водом и храном за једнодневни излет\, планинарске ципеле\, одећа прилагођена временским приликама и пресвлака. Планинарски штапови нису обавезни\, али јесу стална препорука водича. \nПРИЈАВЕ за акцију и информације четвртком од 19 до 21 час на састанцима Клуба у Старом Меркатору\, локал „ПЛАНЕТА„ \nНапомена за пријаве за акцију: Водич је у Грчкој до 3. Јула\, па вас молим да се јављате путем Фејсбука или на мејл: instruktorboris@gmail.com или путем VIBER-a. ХВАЛА! \nЦена акције: 1.900 динара \n(путујемо одличним минибусом) \nАкцију реализује \n Борис Братић \nТел: 064/99-248-11  МТС мрежа \n063/11-357-99 Теленор мрежа \nДОБРО ДОШЛИ НА НАШЕ АВАНТУРЕ! \n  \nНа левој обали Дунава\, у близини Малог Казана и румунског града Оршава\, преко пута чувене Трајанове табле\, путнике намернике који се крећу уз и низ Дунав погледом прати Децебал\, последњи краљ Дакије уклесан у стену. Урезана у камен\, статуа Дакијског краља Децебала са својих 40 метара висине највећа је скулптура у стени у Европи. Чувена Статуа слободе виша је од Децебала за свега шест метара\, док је ова камена глава у Ђердапу осам метара виша него Христова статуа у Рио де Жанеиру. \n  \n  \n  \n  \n 
URL:https://planinariavanturisti.org.rs/dogadjaj/nacionalni-park-djerdap-miroc-vidikovci-ploce-veliki-strbac-mali-prilaz-lepenski-vir/
ATTACH;FMTTYPE=image/jpeg:https://planinariavanturisti.org.rs/wp-content/uploads/2016/06/naslovna-Miroč-Veliki-Štrbac-PLANINARI-AVANTURISTI.jpg
ORGANIZER;CN="%D0%91%D0%BE%D1%80%D0%B8%D1%81%20%D0%91%D1%80%D0%B0%D1%82%D0%B8%D1%9B%20-%20%D0%91%D0%BE%D0%BA%D0%B8":MAILTO:instruktorboris@gmail.com
END:VEVENT
END:VCALENDAR