BEGIN:VCALENDAR
VERSION:2.0
PRODID:-//Клуб планинара &quot;АВАНТУРИСТА&quot; - ECPv5.14.1//NONSGML v1.0//EN
CALSCALE:GREGORIAN
METHOD:PUBLISH
X-WR-CALNAME:Клуб планинара &quot;АВАНТУРИСТА&quot;
X-ORIGINAL-URL:https://planinariavanturisti.org.rs
X-WR-CALDESC:Events for Клуб планинара &quot;АВАНТУРИСТА&quot;
BEGIN:VTIMEZONE
TZID:Europe/Paris
BEGIN:DAYLIGHT
TZOFFSETFROM:+0100
TZOFFSETTO:+0200
TZNAME:CEST
DTSTART:20160327T010000
END:DAYLIGHT
BEGIN:STANDARD
TZOFFSETFROM:+0200
TZOFFSETTO:+0100
TZNAME:CET
DTSTART:20161030T010000
END:STANDARD
END:VTIMEZONE
BEGIN:VEVENT
DTSTART;TZID=Europe/Paris:20161217T070000
DTEND;TZID=Europe/Paris:20161218T220000
DTSTAMP:20260423T031437
CREATED:20161207T015850Z
LAST-MODIFIED:20161213T202920Z
UID:972-1481958000-1482098400@planinariavanturisti.org.rs
SUMMARY:Палићко језеро - Суботица – Сегедин – Декатлон - Морахалом
DESCRIPTION:Аутор насловне фотографије ове акције је планинарка и неуморнa путница Маја Мирановић из Новог Сада \nПалићко језеро – Суботица – Сегедин – Декатлон – Морахалом \nПарк природе Палић – Палићко језеро – Чарда Капетански Рит – Винарија Звонко Богдан – Суботица – Сегедин – Декатлон – Бања Ержебет – Морахалом \n  17 – 18. Децембар 2016 – Субота и Недеља \nПОЛАЗАК: Окупљамо се на паркингу испред центра „Сава“ (савска страна) и полазимо тачно у 7 сати. \nМолим вас\, дођите 10-ак минута раније како би смо кренули на време. \nПЛАН АКЦИЈЕ \nПутујемо аутопутем према Суботици и Палићком језеру. На пригодној пумпи (највероватније ОМВ после наплатне рампе Нови Сад) правимо паузу за јутарњу кафу и тоалет. \nСтижемо до локалитета Бунарић надомак Палића где нас чека водич из планинарског клуба Спартак из Суботице који ће нас провести лепом стазом дугом око 12 км дуж другог\, трећег и четвртог сектора Палићког језера. Стаза је осмишљена тако\, да се завршава код туристичког комплекса на језеру.  \nСтаза данашње акције није захтевна\, спада у рекреативне и погодује свим узрастима планинара. Активно боравимо у природи око 5 сати. \nОбилазимо велику терасу\, водоторањ\, парк\, Золошки врт и „објекте сецесије„ који су заштићени законом.  \nУ том стиже и време за ручак\, који је планиран у чувеној „Чарди Капетански Рит„ на самој обали Палићког језера на мушком штранду. Након ручка нам је у плану да посетимо Винарију Звонко Богдан која се налази на свега 2-3 км од туристичког комплекса. Посета винарији је ствар договора свих учесника акције\, јер се само улаз и обилазак уз стручног водича плаћа 200 динара без конзумације вина и траје око пола сата.  \nПотом се смештамо у Вилу Верона на Палићу\, која се налази у близини „Омладинског језера„ и око 200 метара од Палићког језера. Собе су дво и трокреветне са сопственим купатилом и чајном кухињом. Слободно време по смештају до ноћења искористићемо за вечерњи обилазак знаменитости и шетњу градом Суботица. \nДруги дан\, 18. Децембар – Недеља \nУстајање у 6 и 30 часова. Пијемо прву јутарњу кафу код домаћина\, а затим одлазимо на доручак по жељи у оближњи ресторан – пицерија Омега\, или доручак у сопственој режији. Цена доручка у ресторану је 300 динара.  \nНакон доручка напуштамо са стварима Вилу Верона и полазимо возилом ка граничном прелазу и Мађарској. Најпре долазимо у бању Свети Ержебет у Морахалому\, где остају они који се купају цео дан и не иду у Сегедин.  \nОстали иду у Сегедин\, првенствено за куповину планинарске и друге спортске опреме у робну кућу Декатлон. Ако нам пролазно време дозволи\, могућ је и краћи обилазак знаменитости града Сегедина. \nНакон куповине у Декатлону\, враћамо се у Морахалом на купање. У бањи остајемо најкасније до 17 часова\, када полазимо за Београд. У бањи постоји одличан ресторан у коме можемо ручати по коректним ценама.  \nУкључујући граничне формалности и прелазак у Србију\, очекујем да стигнемо на велики паркинг испред центра Сава до 22 часа. \nОПРЕМА: Мали ранац са водом и храном за једнодневни излет\, планинарске ципеле (могу и дубље патике са вибрам ђоном). Одећа прилагођена временским приликама (ветровка\, капа и рукавице)\, имајте у виду хладније јесење време и пресвлака.  \nЗа оне који желе купање: Понети опрему за купање (пешкир\, купаћи\, папуче) у бањи Свети Ержебет у Морахалому. \nНАПОМЕНА: Обавезно понети важећи пасош за прелазак државне границе. \nПРИЈАВЕ за акцију и информације четвртком од 19 до 21 час на састанцима Клуба у Старом Меркатору „PLANETA„ Coffee Shop \nЦена акције: 2.000 динара + 10 евра (превоз + ноћење) \nАкцију реализује планински водич  \nБорис Братић – Боки \nТелефони за пријављивање на акцију и информације:  \n064/99-248-11  МТС мрежа \n       063/11-357-99  Теленор мрежа \nДОБРО ДОШЛИ НА НАШЕ АВАНТУРЕ! \n 
URL:https://planinariavanturisti.org.rs/dogadjaj/palicko-jezero-subotica-segedin-dekatlon-morahalom/
LOCATION:Палић
CATEGORIES:Планинарске акције
ATTACH;FMTTYPE=image/jpeg:https://planinariavanturisti.org.rs/wp-content/uploads/2016/12/naslovna-Morahalom.jpg
ORGANIZER;CN="%D0%91%D0%BE%D1%80%D0%B8%D1%81%20%D0%91%D1%80%D0%B0%D1%82%D0%B8%D1%9B%20-%20%D0%91%D0%BE%D0%BA%D0%B8":MAILTO:instruktorboris@gmail.com
END:VEVENT
END:VCALENDAR