BEGIN:VCALENDAR
VERSION:2.0
PRODID:-//Клуб планинара &quot;АВАНТУРИСТА&quot; - ECPv5.14.1//NONSGML v1.0//EN
CALSCALE:GREGORIAN
METHOD:PUBLISH
X-WR-CALNAME:Клуб планинара &quot;АВАНТУРИСТА&quot;
X-ORIGINAL-URL:https://planinariavanturisti.org.rs
X-WR-CALDESC:Events for Клуб планинара &quot;АВАНТУРИСТА&quot;
BEGIN:VTIMEZONE
TZID:Europe/Paris
BEGIN:DAYLIGHT
TZOFFSETFROM:+0100
TZOFFSETTO:+0200
TZNAME:CEST
DTSTART:20160327T010000
END:DAYLIGHT
BEGIN:STANDARD
TZOFFSETFROM:+0200
TZOFFSETTO:+0100
TZNAME:CET
DTSTART:20161030T010000
END:STANDARD
END:VTIMEZONE
BEGIN:VEVENT
DTSTART;TZID=Europe/Paris:20160423T060000
DTEND;TZID=Europe/Paris:20160423T223000
DTSTAMP:20260422T105629
CREATED:20160315T195655Z
LAST-MODIFIED:20160325T215319Z
UID:386-1461391200-1461450600@planinariavanturisti.org.rs
SUMMARY:Парк природе Гвоздена Врата у Румунији – вулкански врх Тресковац
DESCRIPTION:Парк природе Гвоздена Врата у Румунији – вулкански врх Тресковац \n23. Април 2016 – СУБОТА \nПОЛАЗАК: Окупљамо се на паркингу испред центра „Сава“ (савска страна) и полазимо тачно у 6 сати. Молим вас\, дођите 10-ак минута раније како бисмо кренули на време. \nПЛАН АКЦИЈЕ \nПутујемо преко Панчева и Ковина до Беле Цркве где правимо краћу успутну паузу за доручак и јутарњу кафу\, куповину у пекари и продавници и евентуалну размену новца у мењачници. \nИз Беле Цркве полазимо ка Калуђерову и граничном прелазу са Румунијом. Око 15 – ак минута (11 км) вожње нас дели од граничног прелаза Калуђерово – Најдаш. По преласку границе\, пут настављамо ка Дунаву и градићу МОЛДОВА НОВА. Ако нам пролазно време дозволи\, могућа је кратка пауза у Лидлу\, а свакако на пумпи где купујемо обавезну вињету. Возећи се дуж питомије Румунске стране Дунава\, уживаћемо у погледу на Српску обалу\, Голубачку тврђаву\, бројне тунеле и мале заливе све до феноменалног погледа на модерну грађевину којом је покривен археолошки локалитет Лепенски Вир. \nТоком нашег пута ка локалитету\, одакле крећемо на успон ка врху Тресковац\, видећемо изблиза чувену стену на улазу у Ђердапску клисуру БАБАКАЈ\, Ветрењаче\, симпатични пиратски ресторан на самој обали\, пуно лепо уређених поседа и ресторанчића\, остатке тврђаве у сред моћне реке који одолевају деценијама уназад од изградње хидроелектране Ђердап I \nНа магистрали имамо и један квалитетан извор пијаће воде код којег можемо застати. \nТребало би да стигнемо око 11 и 30 до места на магистрали са којега полазимо на успон ка врху Тресковац (Varful Trescovat 755 м) Екотуристичка и маркирана планинарска стаза почиње недалеко од магистрале умереним успоном кроз шуму ширим колским путем\, до изласка на ливаду са које видимо као на длану наш Лепенски Вир. Затим путем поред воћњака\, старе куће и даље шумском стазом у благом\, па јачем успону до изласка на врх Тресковац. \nВременски\, већи део успона уживамо у погледу на величанствену охлађену вулканску громаду. А са Тресковца фасцинантан поглед на моћни Дунав у великом луку и врхове изнад реке у нашој Србији. \nКада се изнауживамо у лепоти видика са врха и исфотографишемо\, полазимо назад другом\, можда и лепшом стазом. Она је такође спој шумских и ливадских путева. \nУкупна дужина стазе износи 10 км\, са успоном око 550 м и спустом око 625 м. Стаза највећим делом иде кроз шуму и неспада у тешке и кондиционо захтевне. Имаћемо активан боравак у природи око 6\,5 сати. \n  \nИзлазимо на магистралу\, где нас чека наше возило и крећемо пут Београда. \nПланирани повратак за Београд је у 18 часова\, како би били испред центра Сава око 22 и 30 часова. Имаћемо у повратку по преласку границе краћу паузу у Белој Цркви за вечеру по жељи (роштиљ и колачи). \nОПРЕМА: мали ранац са водом и храном за једнодневни излет\, планинарске ципеле\, одећа прилагођена временским приликама (у случају најаве кише\, понети кабаницу и камашне)\, планинарски штапови као стална препорука водича\, заштита од сунца и ветра и пресвлака. \nЦена акције: 1.800 динара \nАкцију реализује Борис Братић \nТел: 064/99-248-11[su_custom_gallery source=“media: 425\,426\,427″ limit=“22″ link=“lightbox“ width=“100″ height=“100″ title=“never“]
URL:https://planinariavanturisti.org.rs/dogadjaj/park-prirode-gvozdena-vrata-u-rumuniji-vulkanski-vrh-treskovac/
CATEGORIES:Планинарске акције
ATTACH;FMTTYPE=image/jpeg:https://planinariavanturisti.org.rs/wp-content/uploads/2016/03/Treskovac-naslovna-Kuda-skitamo-za-vikend-e1458072179700.jpg
END:VEVENT
END:VCALENDAR