BEGIN:VCALENDAR
VERSION:2.0
PRODID:-//Клуб планинара &quot;АВАНТУРИСТА&quot; - ECPv5.14.1//NONSGML v1.0//EN
CALSCALE:GREGORIAN
METHOD:PUBLISH
X-WR-CALNAME:Клуб планинара &quot;АВАНТУРИСТА&quot;
X-ORIGINAL-URL:https://planinariavanturisti.org.rs
X-WR-CALDESC:Events for Клуб планинара &quot;АВАНТУРИСТА&quot;
BEGIN:VTIMEZONE
TZID:Europe/Paris
BEGIN:DAYLIGHT
TZOFFSETFROM:+0100
TZOFFSETTO:+0200
TZNAME:CEST
DTSTART:20230326T010000
END:DAYLIGHT
BEGIN:STANDARD
TZOFFSETFROM:+0200
TZOFFSETTO:+0100
TZNAME:CET
DTSTART:20231029T010000
END:STANDARD
END:VTIMEZONE
BEGIN:VEVENT
DTSTART;TZID=Europe/Paris:20231105T060000
DTEND;TZID=Europe/Paris:20231105T223000
DTSTAMP:20260419T190242
CREATED:20231101T141025Z
LAST-MODIFIED:20231101T143743Z
UID:9048-1699164000-1699223400@planinariavanturisti.org.rs
SUMMARY:Плавачка планина – врх 812м
DESCRIPTION:Плавачка планина – врх 812м \nУшће – Плавачка планина – Горње Лозно – Главчићи – Ушће \nПлавачка планина се налази у централној Србији\, у Копаоничко – Ибарском крају\, простире се југоисточно од варошице Ушће\, уз реку Ибар\, до села Лозно и Бојанићи на југу\, Тадење на југозападу. Припада групи Копаоничких планина са највишим\, неименованим врхом 812мнв \n5. Новембар 2023. – Недеља (од 6 до 22 и 30) \nПОЛАЗАК: Окупљамо се на платоу – код паркинга испред центра „Сава“ (Савска страна зграде – сада у реновирању) и полазимо тачно у 6 сати. Молим вас\, дођите 10-ак минута раније како би смо кренули на време! \nПЛАН АКЦИЈЕ \nПутујемо ка Обреновцу (могућни успутни уласци) и аутопутем Милош Велики до излаза код Прељине (пауза на Газпром пумпи)\, затим у правцу Краљева до места Ушће у долини Ибра. На успон ка врху Плавачке планине\, полазимо недалеко од железничког моста у Ушћу. \nЛепим фотографијама планинара Горана Николића из Ушћа смо илустровали план акције у наставку 🙂 \n   \nОпис стазе: \nМост на Ибру 354м – брдо Молитва 472м – засеок Главчићи 496м – Три видиковца (први 557м\, други 710м\, трећи 798м) – врх Вучја глава 804м – Бабин гроб 791м – видиковац 778м – врх Плавачке планине 812м Током успона\, на стази ка врху\, пролазимо кроз храстове и букове шуме\, преко пашњака и пропланака са којих се виде оближња Жарачка планина и Жељин. Са видиковаца се пружа изузетан панорамски поглед на Ибарску долину\, од Маглича па све до Рашке и околне Копаоничке планине: Радочело\, Чемерно\, Голија\,… \nУживаћемо ходајући травнатим стазама прошараним клекама\, крај старих храстова\, четинара\, и других многобројних биљних врста. Имаћемо паузе за фотографисање\, разгледање\, опуштање\,… \n   \nПовратак у Ушће преко југозападних падина планине. Дужина кружне стазе је око 14\,3 км са кумулативним успоном од око 580м и спустом од око 590м. \nСтаза спада у средње тешке\, није много захтевна\, прилагођена је свим категоријама планинара и љубитеља природе. Уколико нам буде добро пролазно време на стази\, по завршетку планинарења је могућ одлазак у ресторан „Долина Ибра“ на договорену вечеру. Након вечере повратак за Београд\, истим путем и аутопутем Милош Велики. \n   \nОПРЕМА: Мали ранац са водом минимум 1\,5 литара (на стази немамо извор воде) и храном (воће\, сендвич\, слаткиши) за једнодневни излет\, планинарске ципеле најбоље\, односно чвршће спортске патике са Вибрам ђоном\, камашне. Одећа прилагођена временским приликама\, ветровка\, капа\, резервна пресвлака. Имајте у виду могуће хладније време и јачи ветар на планини\, користите заштиту од сунчевог зрачења на планини. Пожељно је\, али није услов\, понети и штапове за планинарење\, као и батеријску (најбоље чеону) лампу. \nХРАНА: Из свог ранца. Доручкујемо своју понету храну а кафу можете купити на пумпи. По завршетку планинско – пешачког дела акције\, можемо имати вечеру у ресторану. \nОчекујем да се вратимо у Београд на велики паркинг испред центра „Сава„ око 22 и 30 \nПРИЈАВА за акцију код водича – Борис Братић\, позивом на број 064 99 248 11 или SMS\, преко Viber-a на број 063 11 357 99 E-mail: instruktorboris@gmail.com \nНа акцију се иде\, реализоваће се без обзира на временску прогнозу! \nИзнос Котизације: 3.200 динара \nКотизација за акцију обухвата реалне трошкове организације и превоза\, не обухвата исхрану\, улазнице и индивидуалне трошкове\, непрофитног је карактера и зависи од више елемената. Уплата за акцију је обавезна приликом пријаве. \nДОБРО ДОШЛИ НА ОВУ ИЗУЗЕТНУ ПЛАНИНСКУ АКЦИЈУ – АВАНТУРУ ЗА ПАМЋЕЊЕ! \nВаш Клуб планинара „АВАНТУРИСТА„ \nВАЖНЕ НАПОМЕНЕ: Учесници акције „Плавачка планина“ дана 5. Новембар 2023. планинаре на сопствену одговорност\, уз дужно придржавање Правилника о безбедности и одговорности у извођењу планинарских активности Планинарског Савеза Србије. \nНапомињемо да према Закону о туризму (члан 86. став 4) за путовање (за једнодневне излете – акције\, путовања краћа од 24 сата) није обезбеђена заштита у погледу гаранција путовања. \nВодич задржава право измене плана или отказивања акције у случају непредвиђених околности\, односно недовољног броја пријављених учесника. Приликом пријаве за акцију\, обавезна је уплата износа котизације у целости\, ако је остало мање од 10 дана до реализације акције. У случају одустајања\, наћи адекватну замену\, у супротном уплаћени новац се не враћа\, нити преноси на наредне акције.
URL:https://planinariavanturisti.org.rs/dogadjaj/plavacka-planina-vrh-812m/
LOCATION:Plavačka planina\, vrh Plavačke planine\, Ušće\, Srbija
CATEGORIES:Акција Гљиварска едукација,Високогорска акција,кањонска авантура,Пећинска авантура,Планинарска едукација,Планинарске акције,Трекинг акција
ATTACH;FMTTYPE=image/jpeg:https://planinariavanturisti.org.rs/wp-content/uploads/2023/11/Насловна.jpg
ORGANIZER;CN="%D0%91%D0%BE%D1%80%D0%B8%D1%81%20%D0%91%D1%80%D0%B0%D1%82%D0%B8%D1%9B%20-%20%D0%91%D0%BE%D0%BA%D0%B8":MAILTO:instruktorboris@gmail.com
END:VEVENT
END:VCALENDAR