BEGIN:VCALENDAR
VERSION:2.0
PRODID:-//Клуб планинара &quot;АВАНТУРИСТА&quot; - ECPv5.14.1//NONSGML v1.0//EN
CALSCALE:GREGORIAN
METHOD:PUBLISH
X-WR-CALNAME:Клуб планинара &quot;АВАНТУРИСТА&quot;
X-ORIGINAL-URL:https://planinariavanturisti.org.rs
X-WR-CALDESC:Events for Клуб планинара &quot;АВАНТУРИСТА&quot;
BEGIN:VTIMEZONE
TZID:Europe/Paris
BEGIN:DAYLIGHT
TZOFFSETFROM:+0100
TZOFFSETTO:+0200
TZNAME:CEST
DTSTART:20230326T010000
END:DAYLIGHT
BEGIN:STANDARD
TZOFFSETFROM:+0200
TZOFFSETTO:+0100
TZNAME:CET
DTSTART:20231029T010000
END:STANDARD
END:VTIMEZONE
BEGIN:VEVENT
DTSTART;TZID=Europe/Paris:20230501T060000
DTEND;TZID=Europe/Paris:20230501T220000
DTSTAMP:20260419T185359
CREATED:20180418T154954Z
LAST-MODIFIED:20230424T093627Z
UID:4871-1682920800-1682978400@planinariavanturisti.org.rs
SUMMARY:Ђердап – Соколовац – кањон Бољетинске реке – Лепенски Вир :-)
DESCRIPTION:Ђердап – Соколовац – кањон Бољетинске реке – Лепенски Вир 🙂 \nРезервати НП Ђердап: Босман – Соколовац\, Чока њалта са Песачом и Лепенски Вир \n1. Мај 2023. – Понедељак (од 6 до 22 часа) \nПОЛАЗАК:  Окупљамо се на паркингу испред центра „Сава„ (савска страна) и полазимо тачно у 6 сати. \nМолим вас\, дођите 10-ак минута раније како би смо кренули на време! \nПЛАН АКЦИЈЕ \nПутујемо аутопутем\, до искључења за Пожаревац. Имамо успутну паузу за куповину више врста проверено добрих сендвича (одлични су\, а повољније је него да правите своје)\, воде\, слаткиша у продавници уз магистралу за понети. Кафу или Капућино из аутомата по жељи добијамо на поклон од наших добрих домаћина 🙂 Ако има потребе за тоалетом\, можете обавити на новој пумпи преко пута. \n   \nУ наставку пута\, Дунавском магистралом од Великог Градишта се возимо до ушћа реке Песаче у Дунав на почетак наше планинске стазе 🙂  \n   \nИз буса излазимо на магистрали (мало проширење) код тунела број 17 и пешачимо шумско – колским путем узводно у доњем делу слива реке Песача\, изузетно лепом кањонском долином. \n  \nНа стази ка врху Соколовца и његовим панорамским видиковцима\, „Сећински врх и Бандера“\, пролазимо поред салаша\, где можемо уточити воду. Са Соколовца се пружа одличан поглед на клисуру Госпођин Вир 🙂 \n   \nНакон уживања у лепоти призора са Соколовца се спуштамо ка Песачи и даље идемо у правцу ка Чока Њалти. \n   \nПосебно атрактиван је гребенски пут којим идемо преко великих и пространих ливада са величанственим погледом на моћни Дунав 🙂 и горде стене вулканског врха Тресковац на другој страни реке у Румунији 🙂 \n   \nСпуштамо се ка Лепенском Виру старим Милановачким друмом и пространим ливадама са пуно панорамских видика за уживање 🙂 \n   \nСтаза је дугачка око 17 км (може и краћа верзија) и прилагођена свим категоријама планинара и љубитеља природе 🙂 \n   \nАктивно боравимо у природи око седам сати 🙂 \n   \nНа стази ка врху Соколовца „у малом салашу“ имамо извор квалитетне пијаће воде (чесма) 🙂 \n   \nУ Лепенском Виру по жељи посећујемо Археолошки локалитет (постоји могућност групног или индивидуалног обиласка – цена групне улазнице износи 400 динара по посетиоцу) и одлични ресторан у којем можемо ручати 🙂 \n   \nПраве врхунску рибљу чорбу\, као и локални специјалитет „Влашки качамак и сир на роштиљу“ 🙂 \n   \nЗа Београд полазимо по обиласку Архео парка и након касног ручка – ране вечере. Очекујем да се на велики паркинг испред центра „Сава“ вратимо до 22 часа. \n   \nОПРЕМА: Мали ранац са водом и храном за једнодневни излет\, планинарске ципеле. Одећа прилагођена временским приликама и пресвлака. Понети батеријску лампу а пожељно је и штапове за планинарење. \nХРАНА: Из свог ранца. Сендвиче\, воду и слаткише можемо купити у доласку на првој паузи\, када добијамо кафу\, капућино из аутомата по жељи 🙂 По завршетку планинско – пешачког дела акције\, имамо врхунски ручак по избору у ресторану у Лепенском Виру. \nВажна напомена: Улазница за НП Ђердап је обавезна и износи 150 рсд по особи. \nПРИЈАВЕ за акцију и информације путем телефона а уплата износа котизације и учлањење електронским путем\, односно на дан реализације акције. \nИзнос Котизације: 2.500 динара \nКотизација обухвата: превоз и трошкове организације  \nКотизација НЕ обухвата: исхрану\, улазнице\, додатно осигурање\, индивидуалне трошкове \n(уплата за акцију и чланарина се врши на текући рачун или на дан пута) \nАкцију реализује планински водич \nБорис Братић – Боки \nТелефони за пријављивање на акцију код водича: \n064/99-248-11  или  063/11-357-99 \nДОБРО ДОШЛИ НА ОВУ ИЗУЗЕТНУ АКЦИЈУ – АВАНТУРУ ЗА ПАМЋЕЊЕ! \nВаш Клуб планинара „АВАНТУРИСТА„
URL:https://planinariavanturisti.org.rs/dogadjaj/sokolovac-boljetin-lepenski-vir-4/
LOCATION:Sokolovac\, Đerdap\, Boljetin\, Lepenski Vir\, Srbija
CATEGORIES:Акција Гљиварска едукација,Високогорска акција,кањонска авантура,Пећинска авантура,Планинарска едукација,Планинарске акције,Трекинг акција
ATTACH;FMTTYPE=image/jpeg:https://planinariavanturisti.org.rs/wp-content/uploads/2018/04/Naslovnica-Ðerdap-vidikovac-Sokolovac-kanjon-Boljetinske-reke-Lepenski-vir-27.-April-2019.-subota-KP-Avanturista.jpg
ORGANIZER;CN="%D0%91%D0%BE%D1%80%D0%B8%D1%81%20%D0%91%D1%80%D0%B0%D1%82%D0%B8%D1%9B%20-%20%D0%91%D0%BE%D0%BA%D0%B8":MAILTO:instruktorboris@gmail.com
END:VEVENT
END:VCALENDAR