BEGIN:VCALENDAR
VERSION:2.0
PRODID:-//Клуб планинара &quot;АВАНТУРИСТА&quot; - ECPv5.14.1//NONSGML v1.0//EN
CALSCALE:GREGORIAN
METHOD:PUBLISH
X-WR-CALNAME:Клуб планинара &quot;АВАНТУРИСТА&quot;
X-ORIGINAL-URL:https://planinariavanturisti.org.rs
X-WR-CALDESC:Events for Клуб планинара &quot;АВАНТУРИСТА&quot;
BEGIN:VTIMEZONE
TZID:Europe/Paris
BEGIN:DAYLIGHT
TZOFFSETFROM:+0100
TZOFFSETTO:+0200
TZNAME:CEST
DTSTART:20260329T010000
END:DAYLIGHT
BEGIN:STANDARD
TZOFFSETFROM:+0200
TZOFFSETTO:+0100
TZNAME:CET
DTSTART:20261025T010000
END:STANDARD
END:VTIMEZONE
BEGIN:VEVENT
DTSTART;TZID=Europe/Paris:20260426T060000
DTEND;TZID=Europe/Paris:20260426T220000
DTSTAMP:20260420T172913
CREATED:20180210T232756Z
LAST-MODIFIED:20260420T113458Z
UID:4230-1777183200-1777240800@planinariavanturisti.org.rs
SUMMARY:Старица – Рајкова пећина – Вучја долина - понор Паскове и Рајкове реке
DESCRIPTION:Старица – Рајкова пећина – Вучја долина – понор Паскове и Рајкове реке \n26. Април 2026. – Недеља (Полазимо у 6 сати – Враћамо се око 22 часа) \nМајданпек – Рајкова пећина – језеро Велики Затон – извор Бушотина – врх Старице 796м – прераст реке Рађина – Вучја долина (Ваља Лупјаску) – понор Паскове реке – понор Рајкове реке – Раденкова бина – Рајкова пећина \n   \nПОЛАЗАК: Окупљамо се на платоу – односно на паркингу иза Сава центра (Савска страна зграде – Гледа ка реци Сави) и полазимо тачно у 6 сати. \nМолим вас\, дођите 10-ак минута раније како би смо кренули на време! \nТачно место поласка: куцајте на GOOGLE MAPS – „parking iza sava centra“ \nПЛАН АКЦИЈЕ \nПутујемо аутопутем\, до искључења за Пожаревац. Имамо успутну паузу за куповину више врста проверено добрих сендвича (одлични су\, а повољније је него да правите своје)\, воде\, слаткиша у продавници „ЈЕРА“ уз магистралу за понети. Кафу или Капућино из аутомата по жељи добијамо на поклон од наших добрих домаћина. Ако има потребе за тоалетом\, можете обавити на НИС-овој пумпи преко пута. Мања група – пауза у Кучеву! \n   \nПролазимо кроз Кучево и даље преко Нереснице и Благојевог Камена стижемо у Мајданпек\, недалеко од Рајкове пећине\, на полазну тачку наше планинске стазе. Стаза полази путем уз језеро Велики Затон\, омиљено купалиште у топлим летњим данима\, уз могућност да пре уласка у стазу ка врху Старица посетимо извор „Бушотина“ са изузетно квалитетном пијаћом водом коју можемо уточити и понети. \n   \nШироком шумском стазом са лаганим успоном пењемо врх истоимене планине СТАРИЦА 796м са којег се пружа јединствен и незабораван поглед на град рудара Мајданпек као на длану\, рудничке копове и „рупу која као да усисава град“. Пожелећете да останете дуже на врху\, јер је савршен видиковац са кога се пружа поглед на планине у окружењу: Стол\, Дели Јован\, Попадија\, Мали и Велики Крш\, Велики Штрбац и Дунав\, Бељаница\, а по кристално јасном времену се виде и Карпати у Румунији. \n   \nСа врха се спуштамо ка прерасти (природни камени мост) изнад реке Рађина. Пролазимо кроз прераст коритом плитке реке и лепом шумском стазом пратећи речне меандре до њеног ушћа у Паскову реку. \n   \nНа ушћу река\, улазимо у Вучју долину\, на Влашком језику „Ваља Лупјаску„ и крећемо се бајковитом шумом\, у којој наилазимо на понор Паскове реке (река понире у стену и губи јој се траг\, а потом величанствено извире непосредно испред Рајкове пећине). Паскова река са Рајковом реком из истоимене пећине чини реку Мали Пек\, који након само 200 метара свог тока\, преграђивањем ствара језеро Велики Затон\, које снабдева Мајданпек пијаћом водом. \n   \nПре него изађемо из шуме\, пред Рајкову пећину\, скрећемо са стазе око 150 – ак метара и долазимо до јединствене природне лепоте\, уклесане дворане у стени која је у народу познатија као „Раденкова бина„ по научнику\, спелеологу и географу  Раденку Лазаревићу. \n   \nОн је радио на истраживању природе и околине Мајданпека\, истраживао и промовисао пећину која данас носи његово име. Уз Раденкову бину се налази мини пећина са леве стране\, у коју можемо ући и кретати се до њеног понора. \n   \nПри крају стазе кроз Вучју долину\, краћим успоном и равнијим делом кроз шуму\, долазимо до пред стрми одсек са кога видимо понор Рајкове реке која је створила чудесну пећину. \n   \nСтаза је кружна\, почиње и завршава се код Рајкове пећине. Посећујемо пећину у трајању од око 40-50 минута уз стручног водича. Цена улазнице за обилазак Рајкове пећине износи 400 динара. Посета пећини није обавезна\, већ је за оне који то желе. \n   \nПећина се убраја\, сврстава у најлепше у Србији. Обилује пећинским накитом: сталактитима\, сталагнитима\, Бигреним кадама и раскошним драперијама. Кроз пећину тече Рајкова река. \n   \nУкупна дужина стазе износи 14\,3 км. Кумулативни успон дуж стазе износи око 400 м. Добро је маркирана и прелази се за око 6 сати лаганим ходом са све паузама. \n   \nЛепо планинарење и дружење крунишемо одласком у чувени ресторан „Кафана код Буфана„ крај стадиона у Мајданпеку у коме можемо вечерати. \nБуфани су староседеоци Мајданпека и данас по њима се називају становници овог лепог града у источној Србији. \nЗа Београд полазимо после вечере. Очекивано време повратка на велики паркинг испред центра „Сава“ је око 22 часа. \nОПРЕМА: Мали ранац са водом и храном за једнодневни излет\, планинарске ципеле. Одећа прилагођена временским приликама и пресвлака. Понети батеријску лампу за Рајкову пећину а пожељно је и штапове за планинарење. \nХРАНА: Из свог ранца. Сендвиче\, кафу\, воду и слаткише можемо купити у доласку на првој паузи\, у продавници Јера у Љубичеву. Увече имамо најављену вечеру у ресторану „Кафана код Буфана“\, по завршетку планинског дела акције. \nПРИЈАВА за акцију код водича – Борис Братић\, позивом на бројеве 063 11 357 99 и/или 064 99 248 11 или SMS поруком\, односно путем Viber-а (како год будете желели) E-mail: instruktorboris@gmail.com \nНа акцију се иде\, реализоваће се без обзира на најаву временске прогнозе! \nИзнос Котизације: 3.400 динара (превоз минибусем или рентираним комбијем\, аутима) \n\nСвојим превозом 1.500 динара по особи\n\nПриликом пријављивања за Акцију\, уплаћује се износ котизације на текући рачун. \nКотизација за акцију обухвата реалне трошкове организације и превоза\, путарине ако је има\, не обухвата исхрану\, евентуалне улазнице и ваше индивидуалне трошкове\, непрофитног је карактера и зависи од више елемената. Уплата за акцију је обавезна приликом вашег пријављивања за исту! \nДОБРО ДОШЛИ НА ОВУ ВРХУНСКУ АКЦИЈУ – АВАНТУРУ ЗА ПАМЋЕЊЕ! \nВаш Клуб планинара „АВАНТУРИСТА„ \nВАЖНЕ НАПОМЕНЕ: Учесници акције „Старица – Рајкова пећина – Вучја долина – понор Паскове и Рајкове реке“ дана 26. Април 2026. – Недеља – планинаре на сопствену одговорност\, уз дужно придржавање Правилника о безбедности и одговорности у извођењу планинарских активности Планинарског Савеза Србије. \nНапомињемо да према Закону о туризму (члан 86. став 4) за путовање (за једнодневне излете – акције\, путовања краћа од 24 сата) није обезбеђена заштита у погледу гаранција путовања. \nВодич задржава право измене плана или отказивања акције у случају непредвиђених околности\, односно недовољног броја пријављених учесника. Приликом пријаве за акцију\, обавезна је уплата износа котизације у целости\, ако је остало мање од 10 дана до реализације акције. У случају одустајања\, наћи адекватну замену\, у супротном уплаћени новац се не враћа\, нити преноси на наредне акције.
URL:https://planinariavanturisti.org.rs/dogadjaj/starica-rajkova-pecina-5/
LOCATION:Majdanpek\, Starica\, Rajkova pećina\, Majdanpek\, Srbija
CATEGORIES:Акција Гљиварска едукација,кањонска авантура,Пећинска авантура,Планинарска едукација,Планинарске акције,Трекинг акција
ATTACH;FMTTYPE=image/jpeg:https://planinariavanturisti.org.rs/wp-content/uploads/2018/02/Naslovnica-Starica-Maj-2019..jpg
ORGANIZER;CN="%D0%91%D0%BE%D1%80%D0%B8%D1%81%20%D0%91%D1%80%D0%B0%D1%82%D0%B8%D1%9B%20-%20%D0%91%D0%BE%D0%BA%D0%B8":MAILTO:instruktorboris@gmail.com
END:VEVENT
END:VCALENDAR