BEGIN:VCALENDAR
VERSION:2.0
PRODID:-//Клуб планинара &quot;АВАНТУРИСТА&quot; - ECPv5.14.1//NONSGML v1.0//EN
CALSCALE:GREGORIAN
METHOD:PUBLISH
X-WR-CALNAME:Клуб планинара &quot;АВАНТУРИСТА&quot;
X-ORIGINAL-URL:https://planinariavanturisti.org.rs
X-WR-CALDESC:Events for Клуб планинара &quot;АВАНТУРИСТА&quot;
BEGIN:VTIMEZONE
TZID:Europe/Paris
BEGIN:DAYLIGHT
TZOFFSETFROM:+0100
TZOFFSETTO:+0200
TZNAME:CEST
DTSTART:20190331T010000
END:DAYLIGHT
BEGIN:STANDARD
TZOFFSETFROM:+0200
TZOFFSETTO:+0100
TZNAME:CET
DTSTART:20191027T010000
END:STANDARD
END:VTIMEZONE
BEGIN:VEVENT
DTSTART;TZID=Europe/Paris:20190310T070000
DTEND;TZID=Europe/Paris:20190310T213000
DTSTAMP:20260422T151151
CREATED:20171103T235813Z
LAST-MODIFIED:20190226T215304Z
UID:3474-1552201200-1552253400@planinariavanturisti.org.rs
SUMMARY:Штубеј + пећине Церемошња и Равништарка :-)
DESCRIPTION:Штубеј + пећине Церемошња и Равништарка 🙂 \nЦеремошња – Чучек – Штубејске стене – Хајдучки Кладенац – Штубеј – Равништарка \n10. Март 2019. – НЕДЕЉА (од 7 до 21 и 30) \nПОЛАЗАК:  Окупљамо се на паркингу испред центра „Сава„ (савска страна) и полазимо тачно у 7 сати. \nМолим вас\, дођите 10-ак минута раније како би смо кренули на време! \nПЛАН АКЦИЈЕ \nПутујемо аутопутем\, до искључења за Пожаревац. Правимо успутну паузу за куповину више врста проверено добрих сендвича\, воде\, слаткиша у продавници уз магистралу за понети. Кафу или Капућино по жељи добијамо на поклон од наших добрих домаћина 🙂 Ако има потребе за тоалетом\, може на новој пумпи преко пута 🙂 \nНастављамо у правцу Кучева и Кучајне до паркинга пред пећином Церемошња у истоименом селу 🙂 Кроз скривена блага пећинског накита\, сталактита\, сталагмита и величанствених драперија ће нас провести локални водич Љубиша. Цена улазнице износи 200 рсд и није обавезна ако не идете у пећину.  \n   \n   \n   \n   \n   \nПо обиласку прелепе пећине Церемошња полазимо на стазу најпре листопадном шумом\, затим колским путем у правцу села Равниште.  \nБлагим успоном кроз шуму бајковитог изгледа 🙂 и преко ливада стижемо до врха Чучек 822м – стене са које се пружа изванредан поглед у круг од 360 степени 🙂 \nПролазимо поред неколико пастирских колиба\, улазимо у магични део шуме и веома чудном – вијугавом стазом стижемо до јединог извора питке воде на подручју Штубеја – Хајдучки Кладенац. Вода је одличног квалитета\, међутим извор периодично пресушује (нетреба рачунати на њега). Недалеко од извора се излази на Штубејске стене\, видиковац са изузетним погледом на источне пределе Хомољских планина 🙂 \n   \n   \n   \n   \nЈош око километар стазе нас дели до изласка на највиши врх Хомоља Штубеј 940 мнв 🙂 Недалеко од врха се налази и телекомуникациона антена\, као и неколико клупица за одмор и обедовање.  \nНакон одмора на врху или подно њега\, лагано се спуштамо кроз букову шуму „Фика„ и ширим колским путем у правцу пећине Равништарка. „Стаза у спусту“ је динамична и атрактивна 🙂 Све време се крећемо широким гребеном и преко ливада колским путем. По изласку из шуме долазимо до првих кућа у Равништу. \n  \n  \n  \nЗа крај ове дивне акције нас чека обилазак бисера подземног света Хомоља\, пећина Равништарка 🙂 Кроз пећину ће нас провести водич из ТО Кучева. Цена улазнице износи 200 рсд и није обавезна ако не идете у пећину. По обиласку пећине можемо имати ручак (искључиво уз претходни договор о врсти хране и цени) или се само освежити уз неко пиће или кафу у њиховом ресторанском делу визиторског центра 🙂 \n   \n   \n   \nДужина ове изузетно лепе планинске стазе износи 13\,8 км са кумулативним успоном од 640м. Прелази се за око пет и по сати хода са успутним паузама за фото и друга уживања. \nСтаза није технички а ни кондиционо захтевна\, спада у рекреативне и погодује свим узрастима планинара 🙂 Највећим делом иде шумом (широким шумско – колским путевима) и преко ливада кроз ониже растиње 🙂 \nЗа Београд полазимо по обиласку пећине Равништарка и евентуалног ручка у њиховом ресторану. Очекујем да се на велики паркинг испред центра „Сава“ вратимо до 21 и 30 🙂 \nОПРЕМА: Мали ранац са водом и храном за једнодневни излет\, планинарске ципеле. Одећа прилагођена временским приликама (ветровка\, капа и рукавице)\, имајте у виду хладније време и пресвлака. Понети чеону или батеријску лампу. Пожељно је понети и штапове за ходање 🙂 \nХРАНА: Из свог ранца 🙂 Сендвиче\, воду и слаткише можемо купити у доласку на првој паузи\, када добијамо кафу из аутомата по жељи 🙂 По завршетку планинско – пешачког дела акције\, можемо уз претходни договор са домаћинима добити ручак.  \nПРИЈАВЕ за акцију\, уплата аконтације\, учлањење и информације на нашим редовним Клупским састанцима четвртком од 19 до 21 час у Старом Меркатору на Новом Београду „PLANETA„ Coffee Shop \nЦена акције: 1.450 динара за 35 и више уплата (основна цена) \n(уплата се врши на редовним састанцима Клуба или на текући рачун) \nодносно ДОПЛАТА у износу од 250 динара за сваки мањи број уплата учесника акције\, која се плаћа најкасније на дан реализације акције у нашем превозу 🙂 \nАкцију реализује планински водич \nБорис Братић – Боки \nТелефони за пријављивање на акцију код водича:  \n064/99-248-11 или 063/11-357-99   \nДОБРО ДОШЛИ НА НАШЕ ЗАЈЕДНИЧКЕ АВАНТУРЕ! \nВаш Клуб планинара „АВАНТУРИСТА„
URL:https://planinariavanturisti.org.rs/dogadjaj/stubej-ceremosnja-ravnistarka-3/
LOCATION:Ravnište\, Ceremošnja\, Kučajna\, Srbija
CATEGORIES:Пећинска авантура,Планинарске акције
ATTACH;FMTTYPE=image/jpeg:https://planinariavanturisti.org.rs/wp-content/uploads/2017/11/Naslovnica-Štubej-pećine-Mart-2019..jpg
ORGANIZER;CN="%D0%91%D0%BE%D1%80%D0%B8%D1%81%20%D0%91%D1%80%D0%B0%D1%82%D0%B8%D1%9B%20-%20%D0%91%D0%BE%D0%BA%D0%B8":MAILTO:instruktorboris@gmail.com
END:VEVENT
END:VCALENDAR