BEGIN:VCALENDAR
VERSION:2.0
PRODID:-//Клуб планинара &quot;АВАНТУРИСТА&quot; - ECPv5.14.1//NONSGML v1.0//EN
CALSCALE:GREGORIAN
METHOD:PUBLISH
X-WR-CALNAME:Клуб планинара &quot;АВАНТУРИСТА&quot;
X-ORIGINAL-URL:https://planinariavanturisti.org.rs
X-WR-CALDESC:Events for Клуб планинара &quot;АВАНТУРИСТА&quot;
BEGIN:VTIMEZONE
TZID:Europe/Paris
BEGIN:DAYLIGHT
TZOFFSETFROM:+0100
TZOFFSETTO:+0200
TZNAME:CEST
DTSTART:20180325T010000
END:DAYLIGHT
BEGIN:STANDARD
TZOFFSETFROM:+0200
TZOFFSETTO:+0100
TZNAME:CET
DTSTART:20181028T010000
END:STANDARD
END:VTIMEZONE
BEGIN:VEVENT
DTSTART;TZID=Europe/Paris:20181109T170000
DTEND;TZID=Europe/Paris:20181111T210000
DTSTAMP:20260421T104515
CREATED:20181022T192946Z
LAST-MODIFIED:20181022T225656Z
UID:5677-1541782800-1541970000@planinariavanturisti.org.rs
SUMMARY:Традиционална акција - ШАТОРИЦЕ 2018.
DESCRIPTION:Акцију организује планинарски Клуб \nКлуб Планинара „АВАНТУРИСТА„ из Београда \nТрадиционална акција ПСС – ШАТОРИЦЕ 2018. \nЧланови ПК “ Копаоник“ из Лепосавића\, у своје име и у име планинара са Косова и Метохије\, нас позивају на традиционалну акцију “ Шаторице – 2018„ \, која се изводи од 9. до 11. новембра 2018. године на јужним гребенима планине Копаоник\, под слоганом „Митров данак\, хајдучки растанак„. \n*** „Влада Републике Србије\, Министарство омладине и спорта и Планинарски Савез Србије допринели су у значајној мери реализацију нашег пројекта обезбеђивањем дела неопходних средстава за њено финансирање.“ (ПК “ Копаоник“ из Лепосавића) \n9 – 11. Новембар 2018. ~ петак – недеља  \nПЛАН АКЦИЈЕ \nПОЛАЗАК: Окупљамо се на паркингу испред центра „Сава“ (савска страна) у петак 9. Новембар и полазимо тачно у 17 часова. \nМолим вас\, дођите 10-ак минута раније како би смо кренули на време! \nУ Лепосавић стижемо око 23 часа и смештамо се у собе хостела 🙂 \nДруги дан\, Субота 10. Новембар \n7:00 Полазак организованим превозом учесника акције из Лепосавића до рудника Жута Прла \n8:00 Полазак на успон Маршрутом: рудник Жута Прла – село Јелакце – Шиљак (1.630 мнв) – Kозница (1.442 мнв) – Лукаре – Kнежево брдо – Цуцулин (1.057 мнв) – село Мошнице. \nОрганизован превоз до Лепосавића. Ручак за све учеснике акције. \nДужина стазе око 20км \, са успоном око 700м и спуштањем око 1200м. \nДругарско вече “ Митров данак\, хајдучки растанак“ 🙂 \nТрећи дан\, Недеља 11. Новембар \n9:00 Полазак на успон из Лепосавића на Kамиљу (906 мнв) уз обилазак манастира Свете Петке. Повратак у Лепосавић. \nДужина стазе око 7км са успоном око 400м и спуштањем око 400м. \n   \n    \n   \nПолазак за Београд око 14 часова. Очекујем да се на паркинг испред центра „Сава“ вратимо најкасније до 21 час 🙂 \nОРГАНИЗАТОР ОБЕЗБЕЂУЈЕ: превоз учесника акције\, ручак у суботу\, учесничке књижице\, печате врхова и другарско вече „Митров данак – хајдучки растанак“ 🙂 \n ЗА УЧЕШЋЕ НА ОВОЈ АKЦИЈИ ПОТРЕБНА ЈЕ физичка припремљеност учесника за дводневну средње напорну планинарску туру\, адекватна обућа и одећа\, чеона лампа и пробор за јело. \nОПРЕМА: Мали ранац са водом и храном за једнодневни излет\, планинарске ципеле (могу и патике са вибрам ђоном). Одећа прилагођена временским приликама и пресвлака. Планинарски штапови нису обавезни\, али јесу стална и добронамерна препорука водича 🙂 \nПРИЈАВЕ за акцију\, уплата аконтације\, учлањење и информације на нашим редовним Клупским састанцима четвртком од 19 до 21 час у Старом Меркатору на Новом Београду „PLANETA„ Coffee Shop \nЦена акције: 3.600 динара (два ноћења и превоз) \n(уплата се врши на редовним састанцима Клуба или на текући рачун) \nАкцију реализује планински водич \nБорис Братић – Боки \nТелефони за пријављивање на акцију код водича:  \n064/99-248-11  МТС мрежа \n063/11-357-99  Теленор мрежа \nДОБРО ДОШЛИ НА НАШЕ ЗАЈЕДНИЧКЕ АВАНТУРЕ! \nВаш Клуб планинара „АВАНТУРИСТА„
URL:https://planinariavanturisti.org.rs/dogadjaj/tradicionalna-akcija-satorice-2018/
LOCATION:Leposavić\, Kosovo i Metohija\, Leposavić\, Srbija
CATEGORIES:Планинарске акције
ATTACH;FMTTYPE=image/jpeg:https://planinariavanturisti.org.rs/wp-content/uploads/2018/10/Naslovnica-Šatorice-2018.-KP-Avanturista.jpg
ORGANIZER;CN="%D0%91%D0%BE%D1%80%D0%B8%D1%81%20%D0%91%D1%80%D0%B0%D1%82%D0%B8%D1%9B%20-%20%D0%91%D0%BE%D0%BA%D0%B8":MAILTO:instruktorboris@gmail.com
END:VEVENT
END:VCALENDAR