BEGIN:VCALENDAR
VERSION:2.0
PRODID:-//Клуб планинара &quot;АВАНТУРИСТА&quot; - ECPv5.14.1//NONSGML v1.0//EN
CALSCALE:GREGORIAN
METHOD:PUBLISH
X-WR-CALNAME:Клуб планинара &quot;АВАНТУРИСТА&quot;
X-ORIGINAL-URL:https://planinariavanturisti.org.rs
X-WR-CALDESC:Events for Клуб планинара &quot;АВАНТУРИСТА&quot;
BEGIN:VTIMEZONE
TZID:Europe/Paris
BEGIN:DAYLIGHT
TZOFFSETFROM:+0100
TZOFFSETTO:+0200
TZNAME:CEST
DTSTART:20220327T010000
END:DAYLIGHT
BEGIN:STANDARD
TZOFFSETFROM:+0200
TZOFFSETTO:+0100
TZNAME:CET
DTSTART:20221030T010000
END:STANDARD
END:VTIMEZONE
BEGIN:VEVENT
DTSTART;TZID=Europe/Paris:20221001T070000
DTEND;TZID=Europe/Paris:20221001T220000
DTSTAMP:20260419T174452
CREATED:20211012T133902Z
LAST-MODIFIED:20220927T073627Z
UID:7936-1664607600-1664661600@planinariavanturisti.org.rs
SUMMARY:Злакуса – Терзића авлија – Дрежничка Градина – Потпећка пећина :-)
DESCRIPTION:Злакуса – Терзића авлија – Дрежничка Градина – Потпећка пећина 🙂 \n1. Октобар 2022. – Субота (од 7 до 22 часа) \nПОЛАЗАК: Окупљамо се на платоу – код паркинга испред центра „Сава“ (Савска страна зграде – сада у реновирању) и полазимо тачно у 7 сати. \nМолим вас\, дођите 10-ак минута раније како би смо кренули на време! \nПЛАН АКЦИЈЕ \nПутујемо ка Обреновцу (могућни успутни уласци) и аутопутем Милош Велики (пауза на пумпи) до изласка Паковраће. Пролазимо Овчар бању и стижемо у село Злакуса код школе\, одакле полази наша стаза. \nОПИС АКЦИЈЕ: \nМесто одржавања: Злакуса\, Терзића авлија\, Дрежничка Градина\, Потпећка пећина. \nСтаза полази од Основне школе у селу Злакуса. Пролазимо поред Терзића авлије\, благим успоном до локалитета Вршељак а затим и до КТ-3 засеока Марковићи. Настављамо ка врху Градина благом узбрдицом а затим и стрмијим успоном до спомен обележја „Часни крст“ а затим и до врха на коме се налази споменик из НОБ-а. Стрмим каменитим спустом до КТ-4 а недуго затим равним делом до КТ-6 Бацетићи (вода). Након одмора настављамо у правцу Потпећке пећине\, пењемо Караџину стену а затим у спусту\, ободом Злакусе и поред Терзића авлије се враћамо до школе. \nМала стаза – дужина стазе: око 16\,1 км. Успон: кумулативно 840 м\, планирано време пешачења: пет и по сати. Тежина стазе: Средње захтевна\, умерене тежине\, за све узрасте планинара. \nОчекујем да се вратимо у Београд\, стигнемо на велики паркинг испред Сава центра око 22 часа. \nОПРЕМА: Мали ранац са водом минимум 1\,5 литара (на стази немамо извор воде) и храном (воће\, сендвич\, слаткиши) за једнодневни излет\, планинарске ципеле најбоље\, односно чвршће спортске патике са Вибрам ђоном. Одећа прилагођена временским приликама\, ветровка и пресвлака\, заштита од сунца на планини. Пожељно је\, али није услов\, понети и штапове за планинарење\, као и батеријску (најбоље чеону) лампу. \nХРАНА: Из свог ранца. По завршетку планинарења\, можемо свратити на ручак-вечеру у успутни ресторан. \nПРИЈАВА за акцију код водича – Борис Братић\, позивом на број 064 99 248 11 или SMS\, преко Viber-a на број 063 11 357 99 E-mail: instruktorboris@gmail.com \nНа акцију се иде\, реализоваће се без обзира на временску прогнозу! \nИзнос Котизације: 2.500 динара \nКотизација за акцију обухвата реалне трошкове организације и превоза\, не обухвата исхрану\, улазнице и индивидуалне трошкове\, непрофитног је карактера и зависи од више елемената. Уплата за акцију је обавезна приликом пријаве. \nДОБРО ДОШЛИ НА ОВУ ИЗУЗЕТНУ ПЛАНИНСКУ АКЦИЈУ – АВАНТУРУ ЗА ПАМЋЕЊЕ! \nВаш Клуб планинара „АВАНТУРИСТА„ \nВАЖНЕ НАПОМЕНЕ: Учесници акције „Злакуса – Терзића авлија – Дрежничка Градина – Потпећка пећина“ дана 1. Октобар 2022. планинаре на сопствену одговорност\, уз дужно придржавање Правилника о безбедности и одговорности у извођењу планинарских активности Планинарског Савеза Србије. \nНапомињемо да према Закону о туризму (члан 86. став 4) за путовање (за једнодневне излете – акције\, путовања краћа од 24 сата) није обезбеђена заштита у погледу гаранција путовања. \nВодич задржава право измене плана или отказивања акције у случају непредвиђених околности\, односно недовољног броја пријављених учесника. Приликом пријаве за акцију\, обавезна је уплата износа котизације у целости\, ако је остало мање од 10 дана до реализације акције. У случају одустајања\, наћи адекватну замену\, у супротном уплаћени новац се не враћа\, нити преноси на наредне акције.
URL:https://planinariavanturisti.org.rs/dogadjaj/zlakusa-terzica-avlija-2/
LOCATION:Zlakusa\, Terzića avlija\, Drežnička Gradina\, Potpećka pećina\, Srbija
CATEGORIES:Акција Гљиварска едукација,Високогорска акција,кањонска авантура,Пећинска авантура,Планинарска едукација,Планинарске акције,Трекинг акција
ATTACH;FMTTYPE=image/jpeg:https://planinariavanturisti.org.rs/wp-content/uploads/2021/10/Насловна-Октобар-2021.-Zlakusa-Dreznicka-Gradina-Potpecka-pecina.jpg
ORGANIZER;CN="%D0%91%D0%BE%D1%80%D0%B8%D1%81%20%D0%91%D1%80%D0%B0%D1%82%D0%B8%D1%9B%20-%20%D0%91%D0%BE%D0%BA%D0%B8":MAILTO:instruktorboris@gmail.com
END:VEVENT
END:VCALENDAR