BEGIN:VCALENDAR
VERSION:2.0
PRODID:-//Клуб планинара &quot;АВАНТУРИСТА&quot; - ECPv5.14.1//NONSGML v1.0//EN
CALSCALE:GREGORIAN
METHOD:PUBLISH
X-WR-CALNAME:Клуб планинара &quot;АВАНТУРИСТА&quot;
X-ORIGINAL-URL:https://planinariavanturisti.org.rs
X-WR-CALDESC:Events for Клуб планинара &quot;АВАНТУРИСТА&quot;
BEGIN:VTIMEZONE
TZID:Europe/Paris
BEGIN:DAYLIGHT
TZOFFSETFROM:+0100
TZOFFSETTO:+0200
TZNAME:CEST
DTSTART:20210328T010000
END:DAYLIGHT
BEGIN:STANDARD
TZOFFSETFROM:+0200
TZOFFSETTO:+0100
TZNAME:CET
DTSTART:20211031T010000
END:STANDARD
END:VTIMEZONE
BEGIN:VEVENT
DTSTART;TZID=Europe/Paris:20211002T060000
DTEND;TZID=Europe/Paris:20211002T230000
DTSTAMP:20260420T013601
CREATED:20200924T121300Z
LAST-MODIFIED:20210921T182126Z
UID:7121-1633154400-1633215600@planinariavanturisti.org.rs
SUMMARY:Путевима римских легија - Град Камен - кањон Љубовиђе - Римски мост :-)
DESCRIPTION:Путевима римских легија – Град Камен – кањон Љубовиђе – Римски мост 🙂 \nДоња Оровица – црква брвнара – Ђурим – Звериња врата – град Камен – клисура и кањон реке Љубовиђе – брана – Римски мост 🙂 \n2. Октобар 2021. – субота (од 6 до 23 часа) \nПОЛАЗАК: Окупљамо се на паркингу испред центра „Сава“ (савска страна) и полазимо тачно у 6 сати. \nМолим вас\, дођите 10-ак минута раније како би смо кренули на време! \nПЛАН АКЦИЈЕ \nПутујемо Ибарском магистралом до Ћелија\, где скрећемо ка Лајковцу. На уласку у Ваљево правимо полусатну паузу код пекаре „НАНА“ у месту Попучке за доручак\, односно јутарњу кафу у оближњој кафаници 🙂 \nПут настављамо кроз Ваљево према Осечини и Пецки – превоју Прослоп (662 м)\, након кога се спуштамо ка Љубовији до раскрснице на Раиновачи\, где  скрећемо ка планини Бобија и Доњој Оровици. \nДуж пута\, док се возимо\, имаћемо прилику да уживамо у лепоти предела Азбуковице 🙂 Наша стаза полази из Доње Оровице и цркве брвнаре у правцу кањона реке Љубовиђе и Римског моста. \n   \nСтаза пролази испод „Ђурима„ некадашњег римског града\, чији остаци су затрпани земљом\, затим кроз „Звериња врата“ раскрснице путева испод Оровичких планина. Опчињени амбијентом\, настављамо до остатака зидина римског града – „Град Камен„. \n   \n   \nЗатим се спуштамо у клисуру реке Љубовиђа\, чији прелепи кањонски део никога неће оставити равнодушним 🙂 Стазом долазимо до бране и слапа а недалеко се налази чувени Римски мост на реци Љубовиђи из првог века нове ере 🙂 \n   \n   \n  \nНаша данашња стаза је дуга око 18\,5 км са око 300 м кумулативног успона и прелази се за око шест сати умереног хода са све паузама 🙂 Стаза није много захтевна\, умерен је успон и спуст и погодује свим узрастима планинара и љубитеља природе 🙂 \nПешачки део акције завршавамо код ушћа река Козловца у Љубовиђу. Бус нас чека код моста на главном путу. \nУколико нам пролазно време буде добро\, могуће је свраћање до оближње продавнице а затим повратак за Београд. \nОчекујем да се на паркинг испред центра „Сава“ вратимо до 23 часа. \nОПРЕМА: Мали ранац са водом и храном за једнодневни излет\, планинарске ципеле (могу и патике са вибрам ђоном)\, одећа прилагођена временским приликама и пресвлака. Планинарски штапови нису обавезни\, али јесу стална и добронамерна препорука водича. \nХРАНА: Из свог ранца. Доручак и куповину пецива\, сендвича за цео дан\, имамо у одличној пекари „Нана“. \nПРИЈАВЕ за акцију\, информације путем телефона\, као и уплата износа котизације и учлањење електронским путем благовремено\, односно најкасније на дан реализације акције. \nИзнос Котизације: 1.700 динара за 40 и више уплата (основна цена) \nодносно ДОПЛАТА у износу од 300 динара за сваки мањи број уплата учесника акције\, која се плаћа најкасније на дан реализације акције у нашем превозу \nКотизација обухвата: превоз и трошкове организације  \nКотизација НЕ обухвата: исхрану\, индивидуалне трошкове \n(уплата за акцију се врши на текући рачун\, у крајњем случају на дан пута) \nАкцију реализује планински водич \nБорис Братић – Боки \nТелефони за пријављивање на акцију код водича:  \n064/99-248-11  или  063/11-357-99 \nДОБРО ДОШЛИ НА ОВУ ИЗУЗЕТНУ ПЛАНИНСКУ АКЦИЈУ – АВАНТУРУ ЗА ПАМЋЕЊЕ! \nВаш Клуб планинара „АВАНТУРИСТА„
URL:https://planinariavanturisti.org.rs/dogadjaj/grad-kamen-rimski-most-2/
LOCATION:Grad Kamen\, kanjon Ljuboviđe\, Rimski most\, Putevima rimskih legija\, Donja Orovica\, Ljubovija\, Srbija
CATEGORIES:Акција Гљиварска едукација,Високогорска акција,кањонска авантура,Пећинска авантура,Планинарска едукација,Планинарске акције,Трекинг акција
ATTACH;FMTTYPE=image/jpeg:https://planinariavanturisti.org.rs/wp-content/uploads/2020/09/Putevima-rimskih-legija-NASLOVNA-Oktobar-2020..jpg
ORGANIZER;CN="%D0%91%D0%BE%D1%80%D0%B8%D1%81%20%D0%91%D1%80%D0%B0%D1%82%D0%B8%D1%9B%20-%20%D0%91%D0%BE%D0%BA%D0%B8":MAILTO:instruktorboris@gmail.com
END:VEVENT
END:VCALENDAR