BEGIN:VCALENDAR
VERSION:2.0
PRODID:-//Клуб планинара &quot;АВАНТУРИСТА&quot; - ECPv5.14.1//NONSGML v1.0//EN
CALSCALE:GREGORIAN
METHOD:PUBLISH
X-WR-CALNAME:Клуб планинара &quot;АВАНТУРИСТА&quot;
X-ORIGINAL-URL:https://planinariavanturisti.org.rs
X-WR-CALDESC:Events for Клуб планинара &quot;АВАНТУРИСТА&quot;
BEGIN:VTIMEZONE
TZID:Europe/Paris
BEGIN:DAYLIGHT
TZOFFSETFROM:+0100
TZOFFSETTO:+0200
TZNAME:CEST
DTSTART:20210328T010000
END:DAYLIGHT
BEGIN:STANDARD
TZOFFSETFROM:+0200
TZOFFSETTO:+0100
TZNAME:CET
DTSTART:20211031T010000
END:STANDARD
BEGIN:DAYLIGHT
TZOFFSETFROM:+0100
TZOFFSETTO:+0200
TZNAME:CEST
DTSTART:20220327T010000
END:DAYLIGHT
BEGIN:STANDARD
TZOFFSETFROM:+0200
TZOFFSETTO:+0100
TZNAME:CET
DTSTART:20221030T010000
END:STANDARD
END:VTIMEZONE
BEGIN:VEVENT
DTSTART;TZID=Europe/Paris:20211231T180000
DTEND;TZID=Europe/Paris:20220102T200000
DTSTAMP:20260420T013437
CREATED:20211208T120118Z
LAST-MODIFIED:20211211T170719Z
UID:8048-1640973600-1641153600@planinariavanturisti.org.rs
SUMMARY:Дочек нове године - Авантуристи на Бобији :-)
DESCRIPTION:Дочек нове године – Авантуристи на Бобији 🙂 \nБобија – планинска лепотица Азбуковице! \n31. Децембар 2021. – 2. Јануар 2022. \n(петак у 18 часова до недеље око 20 часова) \nПОЛАЗАК: Окупљамо се на паркингу испред центра „Сава“ (савска страна) у Петак 31. Децембар 2021. и полазимо тачно у 18 часова!  \nМолим вас\, дођите 10-ак минута раније како би смо кренули на време! \nПЛАН АКЦИЈЕ \nПутујемо ИБАРСКОМ магистралом до Ћелија (пауза у маркету ДИС за индивидуалну набавку ПИЋА)\, а затим кроз Ваљево и Пецку ка Љубовији и селу Савковић – Торник на планини Торничка Бобија. \nСмештамо се у вишекреветне собе са заједничким купатилом у планинарској кући на Бобији\, село Торник\, власника Селимира Јањића. Припрема за славље у најлуђој новогодишњој ноћи! Имаћемо спремну свечану вечеру која укључује: супу\, прасеће печење\, салата\, сир\, кајмак\, домаћи хлеб из фуруне и торта а пиће је у нашој режији. За нас ће свирати оркестар „Стара Варош“ певач је и гитариста (наш другар – планинар) и хармоникаш 🙂 Ноћење и одмор пред сутрашње планинарење. \nДруги дан – субота 1. Јануар 2022. \nНа основу искуства\, процењујемо да ће лакше шетње у околини бити права ствар за први дан Нове године 🙂 Након бесане новогодишње ноћи\, устајемо око 10 сати\, доручкујемо (пита-гибаница\, кисело млеко\, пршут\, сланина\, сир\, кајмак) и око 11 полазимо на нашу лепу новогодишњу шетњу\, лаганијом стазом\, баш за ову прилику – Азбуковачка „Рамна гора“. Посетили би видиковце: Озрим\, Жута стена\, Стража. Наша кружна стаза је комбинација шетње кроз насеље\, преко ливада\, шумским колским путевима до видиковаца са којих се види „Дринска Омега“\, Ваљевске планине\, Оровичка планина\,… Укупна дужина стазе би била око 11 км\, са висинском разликом од око 350 м\, у трајању од око четири и по сата.  Повратак у планинарску кућу на наставак дружења\, ручак-вечеру (сарме\, печење\, салата\, сир\, кајмак\, домаћи хлеб) и репризу дочека нове године уз живу музику. \n   \n   \nТрећи дан – недеља 2. Јануар 2022. \nДанас је коначно дан за праву акцију! Након доручка који би био у 8 сати (кобасица\, пире кромпир\, шницла\, сир\, кајмак\, домаћи хлеб)\, полазимо око 9 сати на стазу ка врху Бобије 🙂 Стаза полази од нашег смештаја\, ка Оштрој стени (Шиљатом врху)\, преко површинског копа рудника Барита\, а затим и до самог врха на Бобији 1.272м.  \n   \n   \nПовратак ка планинарској кући би био краћи\, пречицом. Укупна дужина трасе је око 10 км. Ручамо врхунски пасуљ наших домаћина\, пакујемо своје ствари и полазимо за Београд. \nОчекујем да се на паркинг испред центра „Сава“ вратимо најкасније до 20 часова. \nОПРЕМА: Мали ранац са водом и храном за једнодневне излете\, планинарске ципеле. Одећа прилагођена временским приликама (ветровка\, капа и рукавице)\, имајте у виду хладније зимско време на планини и пресвлака. Пиџама за ноћење и прибор за личну хигијену. Понети батеријску\, најбоље чеону лампу. Пожељно је понети и планинске штапове. \nХРАНА и ПИЋЕ: Храну није потребно носити\, комплетно смо обезбеђени и више од тога! Пиће сами обезбеђујемо\, по жељи и потреби! \nПРИЈАВЕ за акцију\, информације путем телефона\, као и уплата износа котизације и учлањење електронским путем благовремено\, односно најкасније на дан реализације акције. \nИзнос Котизације: 9.200 динара \nКотизација обухвата: превоз комбијем или минибусем (храна и смештај за возача)\, два ноћења у планинарској кући и пет оброка (новогодишњу свечану вечеру\, два доручка\, ручак и вечеру)\, живу музику и трошкове организације акције \nКотизација НЕ обухвата: ПИЋЕ (свако доноси или купује пиће за себе)\, индивидуалне трошкове \n(уплата за акцију се врши на текући рачун\, у крајњем случају на дан пута) \nАкцију реализује планински водич \nБорис Братић – Боки \nТелефони за пријављивање на акцију код водича: \n064/99-248-11  или  063/11-357-99 \nОва новогодишња Акција је намењена добро расположеним планинарима\, који знају да цене истинске вредности\, лепоту природе\, здраву домаћу храну\, чисту средину\, честите домаћине и њихове вредне руке. Имајте на уму да је ово права планинарска прича\, смештај је вишекреветан\, није хотелски\, није апартмански. \nДОБРО ДОШЛИ НА ОВУ ИЗУЗЕТНУ НОВОГОДИШЊУ АКЦИЈУ – АВАНТУРУ ЗА ПАМЋЕЊЕ! \nВаш Клуб планинара „АВАНТУРИСТА„ \nВАЖНЕ НАПОМЕНЕ: Учесници акције планинаре на сопствену одговорност\, уз дужно придржавање Правилника о безбедности и одговорности у извођењу планинарских активности Планинарског Савеза Србије. \nНапомињемо да према Закону о туризму (члан 86. став 4) за путовање није обезбеђена заштита у погледу гаранција путовања. \nВодич задржава право измене плана или отказивања акције у случају непредвиђених околности\, односно недовољног броја пријављених учесника. Приликом пријаве за акцију\, пожељна је уплата аконтације\, односно целокупног износа котизације уколико је пријављивање неколико дана пред реализацију акције. У случају одустајања\, наћи адекватну замену\, у супротном уплаћени новац се не враћа\, нити преноси на наредне акције. \nУживајмо пешачећи планинама Азбуковице 🙂
URL:https://planinariavanturisti.org.rs/dogadjaj/nova-godina-avanturisti-na-bobiji/
LOCATION:Tornička Bobija\, Savković\, Azbukovica\, Srbija
CATEGORIES:Акција Гљиварска едукација,Високогорска акција,кањонска авантура,Пећинска авантура,Планинарска едукација,Планинарске акције,Трекинг акција
ATTACH;FMTTYPE=image/jpeg:https://planinariavanturisti.org.rs/wp-content/uploads/2021/12/Насловна-Дочек-нове-године-Децембар-2021.jpg
ORGANIZER;CN="%D0%91%D0%BE%D1%80%D0%B8%D1%81%20%D0%91%D1%80%D0%B0%D1%82%D0%B8%D1%9B%20-%20%D0%91%D0%BE%D0%BA%D0%B8":MAILTO:instruktorboris@gmail.com
END:VEVENT
END:VCALENDAR