BEGIN:VCALENDAR
VERSION:2.0
PRODID:-//Клуб планинара &quot;АВАНТУРИСТА&quot; - ECPv5.14.1//NONSGML v1.0//EN
CALSCALE:GREGORIAN
METHOD:PUBLISH
X-WR-CALNAME:Клуб планинара &quot;АВАНТУРИСТА&quot;
X-ORIGINAL-URL:https://planinariavanturisti.org.rs
X-WR-CALDESC:Events for Клуб планинара &quot;АВАНТУРИСТА&quot;
BEGIN:VTIMEZONE
TZID:Europe/Paris
BEGIN:DAYLIGHT
TZOFFSETFROM:+0100
TZOFFSETTO:+0200
TZNAME:CEST
DTSTART:20220327T010000
END:DAYLIGHT
BEGIN:STANDARD
TZOFFSETFROM:+0200
TZOFFSETTO:+0100
TZNAME:CET
DTSTART:20221030T010000
END:STANDARD
END:VTIMEZONE
BEGIN:VEVENT
DTSTART;TZID=Europe/Paris:20220213T070000
DTEND;TZID=Europe/Paris:20220213T220000
DTSTAMP:20260420T044604
CREATED:20220206T165517Z
LAST-MODIFIED:20220206T194611Z
UID:8211-1644735600-1644789600@planinariavanturisti.org.rs
SUMMARY:Велики и Мали Вукан + бања Ждрело :-)
DESCRIPTION:Велики и Мали Вукан + бања Ждрело 🙂 \nТрадиционална акција Клуба планинара „АВАНТУРИСТА„ \n13. Фебруар 2022. – недеља (од 7 до 22 часа) \nПОЛАЗАК:  Окупљамо се на паркингу испред центра „Сава“ (савска страна – улаз А) и полазимо тачно у 7 сати. \nМолим вас\, дођите 10-ак минута раније како би смо кренули на време! \nПЛАН АКЦИЈЕ \nПутујемо аутопутем\, до искључења за Пожаревац. Имамо успутну паузу за куповину више врста проверено добрих сендвича (одлични су\, а повољније је него да правите своје)\, воде\, слаткиша у продавници уз магистралу за понети. Кафу или Капућино из аутомата по жељи добијамо на поклон од наших добрих домаћина 🙂 Ако има потребе за тоалетом\, можете отићи – обавити на „новој“ пумпи преко пута. \nСлике у наставку су наших драгих планинара\, стваране годинама уназад са ове дивне акције! \n   \nНастављамо пут преко Салаковца\, Каменова\, Петровца на Млави до села Ждрело. На стазу полазимо од „ДОМ ИЗВИЂАЧА“ у селу Ждрело. Најпре стаза кривуда од дома\, изнад последњих кућа у насељу до уласка у шуму\, прати је маркација и води ка Великом Вукану. \n   \nУспон је испрва благ а касније и стрм до изласка на плато. Преко онижег растиња стижемо и до врха Велики Вукан 825мнв\, на коме нас чека феноменалан поглед на целокупно Хомоље и његове врхове (Јежевац\, Крилаш\, Мали и Велики Суморовац\, Стрњак\, Штубеј\, Врањ\, …) а у даљини Шомрда\, Дели Јован\, Бељаница 🙂 На врху краћи заслужени одмор\, уживање у погледу и фоткање. \n   \nНаше планинарење по Вукану настављамо ка седлу са којег у благом успону пењемо врх Мали Вукан 752мнв. Са врха Мали Вукан се враћамо на седло\, где је терен питомији (бајковита четинарска шума са пуно иња на гранама и по стаблима) и договарамо\, ко се спушта ка селу\, односно изузетно лепом православном манастиру Свете Тројице. \n    \nПосећујемо манастир а затим колским\, асвалтним путем спуштамо у центар села Ждрело где нас чека возило и вози у бању Ждрело на купање у базенима и уживање (бањање) у термалним водама температуре до 42 степена. \n   \nДруга група\, надам се већа\, са седла се спушта стазом\, делимично и гребенском\, стрмијом кроз букову шуму\, до изласка на колски и кружни пут ка Малом Суморовцу. У ходу широким путем\, пролазимо поред Ловачке чесме\, преко потока\, а касније и скретања за манастир Решковица\, који би обишли уколико нам добро пролазно време дозволи. Враћамо се до дома извиђача где нас чека возило и вози у бању Ждрело на ручак и евентуално купање. \n   \nДужина ове изузетно лепе зимске акције\, за прву (краћа стаза) групу износи око 12 км а за другу (дуга стаза) групу око 17\,5 км. Краћа стаза се прелази за око пет сати умереним ходом са успутним паузама а дужа стаза за седам сати хода. Акција је осмишљена тако\, да могу учествовати све старосне и кондиционе групе планинара. Стаза спада у јаче рекреативне и одлична је за постепено стицање кондиције. \n   \nВреме предвиђено за купање\, ручак и боравак у бањи Ждрело је до три сата за прву групу\, односно до времена поласка за Београд за другу групу. У склопу бање Ждрело постоји ресторан у коме можете ручати\, попити пиће после купања. \nЗа Београд из бање Ждрело полазимо најкасније у 20 часова\, како би стигли на велики паркинг испред центра „Сава“ око 22 часа. \nОПРЕМА: Мали ранац са водом (на стази нема извора воде) и храном за једнодневни излет\, планинарске ципеле\, камашне. Дерезе нису услов\, али су добро дошле у појединим клизавим\, залеђеним деловима стазе ако их буде\, а нарочито су корисне у спусту на углачаној стази ако је неко био пре наше групе. Одећа прилагођена временским приликама (ветровка\, капа и рукавице обавезно)\, имајте у виду хладније зимско време\, јак ветар на планини и пресвлака. Пожељно је понети и штапове за ходање са зимским крпљицама\, као и батеријску (најбоље чеону) лампу. \nПонети опрему за купање (пешкир\, купаћи\, папуче) у Млавским термама бање Ждрело. \nПојединачна улазница за базене у бањи Ждрело износи 1.000 динара\, а за групу од нас 10 и више је 500 динара по особи. \nХРАНА: Из свог ранца. Обилне сендвиче\, воду и слаткише можемо купити у доласку на првој паузи\, у продавници Јера у Љубичеву. Ручак\, вечеру имамо у ресторану бање Ждрело. \nПРИЈАВЕ за акцију\, информације путем телефона\, као и уплата износа котизације и учлањење електронским путем благовремено\, односно најкасније на дан реализације акције. \nИзнос Котизације: 1.400 динара за велики бус 40 и више уплата \n1.700 динара за сваки мањи број уплата учесника акције \nКотизација обухвата: превоз\, путарину и трошкове организације \nКотизација НЕ обухвата: исхрану\, улазнице за базене и индивидуалне трошкове \n(уплата за акцију се врши на текући рачун\, у крајњем случају на дан пута) \nАкцију реализује планински водич \nБорис Братић – Боки \nТелефони за пријављивање на акцију код водича: \n064/99-248-11  или  063/11-357-99 \nДОБРО ДОШЛИ НА ОВУ ИЗУЗЕТНУ ЗИМСКУ АКЦИЈУ – АВАНТУРУ ЗА ПАМЋЕЊЕ! \nВаш Клуб планинара „АВАНТУРИСТА„ \nВАЖНЕ НАПОМЕНЕ: Учесници акције планинаре на сопствену одговорност\, уз дужно придржавање Правилника о безбедности и одговорности у извођењу планинарских активности Планинарског Савеза Србије. \nНапомињемо да према Закону о туризму (члан 86. став 4) за путовање није обезбеђена заштита у погледу гаранција путовања. \nВодич задржава право измене плана или отказивања акције у случају непредвиђених околности\, односно недовољног броја пријављених учесника. Приликом пријаве за акцију\, пожељна је уплата аконтације\, односно целокупног износа котизације уколико је пријављивање неколико дана пред реализацију акције. У случају одустајања\, наћи адекватну замену\, у супротном уплаћени новац се не враћа\, нити преноси на наредне акције.
URL:https://planinariavanturisti.org.rs/dogadjaj/veliki-i-mali-vukan-banja-zdrelo/
LOCATION:Ždrelo\, Petrovac na Mlavi\, Srbija
CATEGORIES:Акција Гљиварска едукација,Високогорска акција,кањонска авантура,Пећинска авантура,Планинарска едукација,Планинарске акције,Трекинг акција
ATTACH;FMTTYPE=image/jpeg:https://planinariavanturisti.org.rs/wp-content/uploads/2022/02/naslovna-Мali-i-Veliki-Vukan-2020.-decembar.jpg
ORGANIZER;CN="%D0%91%D0%BE%D1%80%D0%B8%D1%81%20%D0%91%D1%80%D0%B0%D1%82%D0%B8%D1%9B%20-%20%D0%91%D0%BE%D0%BA%D0%B8":MAILTO:instruktorboris@gmail.com
END:VEVENT
END:VCALENDAR