BEGIN:VCALENDAR
VERSION:2.0
PRODID:-//Клуб планинара &quot;АВАНТУРИСТА&quot; - ECPv5.14.1//NONSGML v1.0//EN
CALSCALE:GREGORIAN
METHOD:PUBLISH
X-WR-CALNAME:Клуб планинара &quot;АВАНТУРИСТА&quot;
X-ORIGINAL-URL:https://planinariavanturisti.org.rs
X-WR-CALDESC:Events for Клуб планинара &quot;АВАНТУРИСТА&quot;
BEGIN:VTIMEZONE
TZID:Europe/Paris
BEGIN:DAYLIGHT
TZOFFSETFROM:+0100
TZOFFSETTO:+0200
TZNAME:CEST
DTSTART:20220327T010000
END:DAYLIGHT
BEGIN:STANDARD
TZOFFSETFROM:+0200
TZOFFSETTO:+0100
TZNAME:CET
DTSTART:20221030T010000
END:STANDARD
END:VTIMEZONE
BEGIN:VEVENT
DTSTART;TZID=Europe/Paris:20220215T060000
DTEND;TZID=Europe/Paris:20220215T220000
DTSTAMP:20260420T044733
CREATED:20190121T205959Z
LAST-MODIFIED:20220206T205029Z
UID:6031-1644904800-1644962400@planinariavanturisti.org.rs
SUMMARY:Сретење на Столовима :-)
DESCRIPTION:Сретење на Столовима 🙂 \nСтолови – у сусрет полу дивљим коњима 🙂 \n15. Фебруар 2022. – Уторак (од 6 до 22 часа) \nПОЛАЗАК:  Окупљамо се на паркингу испред центра „Сава“ у Уторак на Сретење (савска страна – „Улаз А“) и полазимо тачно у 6 сати! \nМолим вас\, дођите 10-ак минута раније како би смо кренули на време! \nПЛАН АКЦИЈЕ \nПутујемо ка Обреновцу и Аутопутем Милош Велики у правцу Краљева и села Брезна уз успутну паузу по потреби. Згодно место је Етно кућа „Ерић“ на улазу у Мрчајевце за јутарњу кафу\, брзи доручак и тоалет. \n   \nНа успон ка врху Столова (Усовица 1.375м) полазимо од планинарског дома „Зорица Гиздавић“ у Брезни (680м) трасом – Дебело брдо – Орловац – Равни сто – Ниловска превоја – Усовица. \n   \nУживаћемо у снежној белини и лепим видицима на околне планине а ако будемо имали добру видљивост можемо досегнути погледом и до врхова у Црној Гори 🙂 \n   \nЛепоту ове зимске акције ће сигурно употпунити сусрет са полу дивљим коњима на Столовима\, који се слободно крећу и бораве на планини током читаве године 🙂 \n   \nПретходних година смо их хранили из руке шаргарепом\, јабукама и коцкицама шећера 🙂 Лепо би било да и ове године исто поновимо\, зато вас молим (ко жели и може) да понесе наведену храну. \n   \nДужина стазе од дома до врха Усовица износи 11 км са око 700м кумулативног успона у једном смеру. Добро је маркирана и није много захтевна. Спада у средње тешке\, прилагођена је свим категоријама планинара и љубитеља природе. \n   \nУколико желите краћу стазу\, имате више могућности\, КТ – позиција где можете сачекати повратак групе са врха\, стазе или се вратити истим путем назад у Дом уз претходни договор са водичем! Најлепше уређено одмориште „ГУСЛЕ“ кота „РАВНИ СТОЛ“ 1.000мнв\, где најчешће долазе полу дивљи коњи\, је згодно место за уживање у погледу\, сусрет и храњење коња и сликање са њима 🙂 \n   \nПовратак истом стазом до ДОМ-а у коме нас чекају љубазни домаћини – Краљевачки планинари\, који ће за нас припремити обилат планинарски ручак по изузетно коректној цени 🙂 \nАко због ситуације са вирусом Корона не будемо гости у ДОМ-у\, или не буде ручка\, можемо се спустити у село Каменица у повратку\, и ручати у одабраном ресторану у Краљеву или Мрчајевцима по претходној најави и договору. \nЛепа вест у међувремену! Дом ће бити отворен за нас. Наши добри домаћини спремају ручак: планински пасуљ са салатом од свежег купуса и хлеб по цени од 350 динара за оне који буду желели 🙂 \nОчекујем да се вратимо у Београд на велики паркинг испред центра „Сава“ око 22 часа. \nОПРЕМА: Мали ранац са водом (на стази нема извора воде) и храном за једнодневни излет\, планинарске ципеле\, камашне. Дерезе нису услов\, али су добро дошле у појединим клизавим\, залеђеним деловима стазе\, нарочито су корисне у спусту на углачаној стази. Одећа прилагођена временским приликама (ветровка\, капа и рукавице обавезно)\, имајте у виду хладније зимско време\, јак ветар на планини и пресвлака. Пожељно је понети и штапове за ходање са зимским крпљицама\, као и батеријску (најбоље чеону) лампу. \nПРИЈАВЕ за акцију\, информације путем телефона\, као и уплата износа котизације и учлањење електронским путем благовремено\, односно најкасније на дан реализације акције. \nИзнос Котизације: 1.600 динара за 40 и више уплата \nСвих претходних година смо ишли великим бусем\, верујем и ове! \n1.900 динара за сваки мањи број уплата учесника акције \nКотизација обухвата: превоз\, путарину и трошкове организације  \nКотизација НЕ обухвата: исхрану и индивидуалне трошкове \n(уплата за акцију се врши на текући рачун\, у крајњем случају на дан пута) \nАкцију реализује планински водич \nБорис Братић – Боки \nТелефони за пријављивање на акцију код водича: \n064/99-248-11  или  063/11-357-99 \nДОБРО ДОШЛИ НА ОВУ ИЗУЗЕТНУ ЗИМСКУ АКЦИЈУ – АВАНТУРУ ЗА ПАМЋЕЊЕ! \nВаш Клуб планинара „АВАНТУРИСТА„ \nВАЖНЕ НАПОМЕНЕ: Учесници акције планинаре на сопствену одговорност\, уз дужно придржавање Правилника о безбедности и одговорности у извођењу планинарских активности Планинарског Савеза Србије. \nНапомињемо да према Закону о туризму (члан 86. став 4) за путовање није обезбеђена заштита у погледу гаранција путовања. \nВодич задржава право измене плана или отказивања акције у случају непредвиђених околности\, односно недовољног броја пријављених учесника. Приликом пријаве за акцију\, пожељна је уплата аконтације\, односно целокупног износа котизације уколико је пријављивање неколико дана пред реализацију акције. У случају одустајања\, наћи адекватну замену\, у супротном уплаћени новац се не враћа\, нити преноси на наредне акције.
URL:https://planinariavanturisti.org.rs/dogadjaj/stolovi-usovica-divlji-konji-4/
LOCATION:Stolovi\, Brezna\, Kraljevo\, Srbija
CATEGORIES:Акција Гљиварска едукација,Високогорска акција,кањонска авантура,Пећинска авантура,Планинарска едукација,Планинарске акције,Трекинг акција
ATTACH;FMTTYPE=image/jpeg:https://planinariavanturisti.org.rs/wp-content/uploads/2019/01/Naslovnica-Stolovi.jpg
ORGANIZER;CN="%D0%91%D0%BE%D1%80%D0%B8%D1%81%20%D0%91%D1%80%D0%B0%D1%82%D0%B8%D1%9B%20-%20%D0%91%D0%BE%D0%BA%D0%B8":MAILTO:instruktorboris@gmail.com
END:VEVENT
END:VCALENDAR