BEGIN:VCALENDAR
VERSION:2.0
PRODID:-//Клуб планинара &quot;АВАНТУРИСТА&quot; - ECPv5.14.1//NONSGML v1.0//EN
CALSCALE:GREGORIAN
METHOD:PUBLISH
X-WR-CALNAME:Клуб планинара &quot;АВАНТУРИСТА&quot;
X-ORIGINAL-URL:https://planinariavanturisti.org.rs
X-WR-CALDESC:Events for Клуб планинара &quot;АВАНТУРИСТА&quot;
BEGIN:VTIMEZONE
TZID:Europe/Paris
BEGIN:DAYLIGHT
TZOFFSETFROM:+0100
TZOFFSETTO:+0200
TZNAME:CEST
DTSTART:20220327T010000
END:DAYLIGHT
BEGIN:STANDARD
TZOFFSETFROM:+0200
TZOFFSETTO:+0100
TZNAME:CET
DTSTART:20221030T010000
END:STANDARD
END:VTIMEZONE
BEGIN:VEVENT
DTSTART;TZID=Europe/Paris:20220227T080000
DTEND;TZID=Europe/Paris:20220227T210000
DTSTAMP:20260420T044626
CREATED:20210202T131541Z
LAST-MODIFIED:20220223T080708Z
UID:7290-1645948800-1645995600@planinariavanturisti.org.rs
SUMMARY:Фрушка гора :-)
DESCRIPTION:Фрушка гора 🙂 \nГребен Фрушке горе – Иришки венац (Споменик слободе) – Рајковац – манастир Старо Хопово – манастир Ново Хопово – Жарковац + видиковац \n27. Фебруар 2022. – Недеља (од 8 до 21 час) \nПОЛАЗАК:  Окупљамо се на паркингу испред центра „Сава„ (савска страна – Улаз А) и полазимо тачно у 8 сати. \nМолим вас\, дођите 10-ак минута раније како би смо кренули на време! \nПЛАН АКЦИЈЕ \nПолазимо од Сава центра аутопутем ка Новом Саду. У Старој Пазови правимо полусатну паузу за јутарњу кафу и доручак по жељи\, избору у локалној пекари односно кафићу 🙂 \nНастављамо путем преко Руме и Ирига до Иришког венца одакле полази наша данашња планинарска стаза.  \nОпис стазе: На двадесетак минута хода од споменика на Иришком венцу\, колским путем кроз шуму излазимо на гребен Рајковац. Делимично равним путем\, кроз лепу храстову шуму излазимо на диван видик на „равни Срем„. Као на длану види се Ириг а у даљини Рума и Борковачко језеро. Када је видљивост кристално чиста\, види се планина Цер у даљини. \nНиз брдо стижемо и до првих викендица а затим потока и извора термоминералне воде. Прелазимо поток и долазимо до извора хладне питке воде. Десетак минута касније стижемо до манастира Старо Хопово (по предању 16-ти век\, ктитор Деспот Ђорђе Бранковић). \nНакон одмора\, стазом кроз усеке у лесној заравни и кроз борову шуму излазимо на велику ливаду. По преласку ливаде а затим и моста над потоком стижемо до манастира Ново Хопово (по предању 16-ти век\, ктитор Деспот Ђорђе Бранковић).  \nНакон одмора\, благом узбрдицом настављамо гребеном Жарковац до објекта старог хотела „Венац„ а затим и до планинског превоја Иришки венац. \nПланирана дужина стазе је око 11 км са умереном висинском разликом\, намењена свим старосним добима планинара. Идеална за почетнике и добра за стицање кондиције. Ако нам пролазно време буде добро\, могућ је и додатни садржај на Фрушкој гори а пре одласка у одабрани ресторан на ручак 🙂 \nОчекујем да се вратимо у Београд\, стигнемо на велики паркинг испред Сава центра најкасније до 21 час. \nОПРЕМА: Мали ранац са водом (на стази нема извора воде) и храном за једнодневни излет\, планинарске ципеле\, камашне. Одећа прилагођена временским приликама (ветровка\, капа и рукавице обавезно)\, имајте у виду хладније зимско време\, јак ветар на планини и пресвлака. Пожељно је понети и штапове за ходање са зимским крпљицама\, као и батеријску (најбоље чеону) лампу. \nПРИЈАВЕ за акцију\, информације путем телефона\, као и уплата износа котизације и учлањење електронским путем благовремено\, односно најкасније на дан реализације акције. \nИзнос Котизације: 1.100 динара за 40 и више уплата \n1.400 динара за сваки мањи број уплата учесника акције \nКотизација обухвата: превоз и трошкове организације  \nКотизација НЕ обухвата: исхрану\, улазнице за НП и индивидуалне трошкове \n(уплата за акцију се врши на текући рачун\, у крајњем случају на дан пута) \nАкцију реализује планински водич \nБорис Братић – Боки \nТелефони за пријављивање на акцију код водича: \n064/99-248-11  или  063/11-357-99 \nДОБРО ДОШЛИ НА ОВУ ИЗУЗЕТНУ ЗИМСКУ АКЦИЈУ – АВАНТУРУ ЗА ПАМЋЕЊЕ! \nВаш Клуб планинара „АВАНТУРИСТА„ \nВАЖНЕ НАПОМЕНЕ: Учесници акције планинаре на сопствену одговорност\, уз дужно придржавање Правилника о безбедности и одговорности у извођењу планинарских активности Планинарског Савеза Србије. \nНапомињемо да према Закону о туризму (члан 86. став 4) за путовање није обезбеђена заштита у погледу гаранција путовања. \nВодич задржава право измене плана или отказивања акције у случају непредвиђених околности\, односно недовољног броја пријављених учесника. Приликом пријаве за акцију\, пожељна је уплата аконтације\, односно целокупног износа котизације уколико је пријављивање неколико дана пред реализацију акције. У случају одустајања\, наћи адекватну замену\, у супротном уплаћени новац се не враћа\, нити преноси на наредне акције.
URL:https://planinariavanturisti.org.rs/dogadjaj/fruska-gora-2/
LOCATION:Fruška gora\, Stražilovo\, Sremski Karlovci\, Srbija
CATEGORIES:Акција Гљиварска едукација,Високогорска акција,кањонска авантура,Пећинска авантура,Планинарска едукација,Планинарске акције,Трекинг акција
ATTACH;FMTTYPE=image/jpeg:https://planinariavanturisti.org.rs/wp-content/uploads/2021/02/naslovna-Fruska-Gora-februar-2021..jpg
ORGANIZER;CN="%D0%91%D0%BE%D1%80%D0%B8%D1%81%20%D0%91%D1%80%D0%B0%D1%82%D0%B8%D1%9B%20-%20%D0%91%D0%BE%D0%BA%D0%B8":MAILTO:instruktorboris@gmail.com
END:VEVENT
END:VCALENDAR