BEGIN:VCALENDAR
VERSION:2.0
PRODID:-//Клуб планинара &quot;АВАНТУРИСТА&quot; - ECPv5.14.1//NONSGML v1.0//EN
CALSCALE:GREGORIAN
METHOD:PUBLISH
X-WR-CALNAME:Клуб планинара &quot;АВАНТУРИСТА&quot;
X-ORIGINAL-URL:https://planinariavanturisti.org.rs
X-WR-CALDESC:Events for Клуб планинара &quot;АВАНТУРИСТА&quot;
BEGIN:VTIMEZONE
TZID:Europe/Paris
BEGIN:DAYLIGHT
TZOFFSETFROM:+0100
TZOFFSETTO:+0200
TZNAME:CEST
DTSTART:20220327T010000
END:DAYLIGHT
BEGIN:STANDARD
TZOFFSETFROM:+0200
TZOFFSETTO:+0100
TZNAME:CET
DTSTART:20221030T010000
END:STANDARD
END:VTIMEZONE
BEGIN:VEVENT
DTSTART;TZID=Europe/Paris:20220408T173000
DTEND;TZID=Europe/Paris:20220410T220000
DTSTAMP:20260420T075642
CREATED:20220322T060310Z
LAST-MODIFIED:20220324T124142Z
UID:8382-1649439000-1649628000@planinariavanturisti.org.rs
SUMMARY:Водопади Старе планине :-)
DESCRIPTION:Водопади Старе планине 🙂 \nСтара планина – Топли До – Водопади: Крмољски – Чунгуљски – Куртулски – Киселички – Грујин скок – Калуђерски скокови \n8 – 10. Април 2022. – (петак у 17 и 30 – недеља до 22 часа) \nПОЛАЗАК: Окупљамо се на паркингу испред Центра „Сава“ (савска страна-Улаз А) и полазимо тачно у 17 и 30 часова у петак 8. Април 2022. године \nМолим вас\, дођите 10-ак минута раније како би смо кренули на време! \nСтара планина или Балкан припада систему Балканских планина које се пружају од Црног мора на истоку\, па све до Вршке чуке на западу. Дужина овог планинског система износи 530 км. Највиша тачка Старе планине је врх Ботев (2376м) \nОва планина представља део пространог планинског венца који се назива Карпатско – балкански планински лук. У Србији се налази само његов мањи западни део. Као морфолошка целина омеђена је долинама Белог и Трговишког Тимока\, и Височице\, а на истоку је омеђена државном границом Србије и Бугарске. У меридијанском правцу се пружа скоро 100 километара\, док у упоредничком правцу пружања максимална дужина износи око 30 километара (Пиротска котлина – Сребрна глава). \nНа северу масив Старе планине почиње од обронака Вршке чуке (692м) \nИзразитији врхови Старе планине су: Црноглав (764м)\, Врх Баба (1787м)\, Бабин зуб (1758м)\, Тресак (1000м)\, Ветрен (1330м)\, Орлов камен (1737м)\, Свети Никола (врх) (1380м)\, Миџор (2169м)\, Три чуке (1937м)\, Тупанар (1727м) и Сребрна глава (1933м). \nЧесто се Старој планини припаја и Видлич (1413м) чији планински венац припада горњем Понишављу\, међутим то није потпуно тачно. Видлич представља просторну антиклиналу\, која је навучена преко старопланинске зоне\, те стога\, и морфолошки и тектонски\, представља једну засебну целину. \nНајвиша тачка Старе планине у Србији је врх Миџор са висином од 2169 м\, а најнижа тачка је на излазу из долине Прлитског потока (132м). У Бугарској је највиши врх Ботев (2376м). \n(преузето из Википедије\, слободне енциклопедије) \nПЛАН АКЦИЈЕ \nПутујемо аутопутем до Пирота (излаз Пирот запад) уз успутне паузе по потреби а затим преко Темске до Топлог Дола\, где се смештамо у вишекреветне собе Апартманског типа у „Кућа Стојановића – Топли До“. \n   \nСмештај је одличан и нов! Сваки апартман има своју терасу\, кухињу са комплетним прибором\, ТВ\, велико купатило 🙂 За нас који будемо желели\, наши добри домаћини спремају вечеру по договору и коректној цени. Ноћење и одмор пред сутрашњу авантуру. \n   \n Други дан\, субота 9. Април \nУстајемо око 7 сати\, доручак почиње у 7 и 30 и траје око сат времена а затим се изнајмљеним теренским возилом (камионом марке ТАМ 150 у приколици са клупама) возимо у правцу најлепших водопада на Старој планини и Србији. \n   \nВозимо се око 6 км у трајању од око 30-45 минута и стижемо до састава Студеничке и Јаворске реке. Излазимо из камиона и полазимо на стазу која нас води од једног до другог водопада. \n   \nОбилазимо најлепше водопаде на Старој планини 🙂 Набројаћу их редоследом нашег приласка њима. Први нам је Крмољски доњи а покушаћемо да стигнемо и до горњег Крмољског водопада. \n   \nЗатим прелепи Чунгуљски водопад. Следи Мали Куртулски (28м висок) а затим и Велики Куртулски водопад. Најудаљенији водопад до кога стижемо данас је лепи Киселички од кога се враћамо ка камиону и у повратку ка Топлом Долу за крај обилазимо Грујин скок 🙂 \n   \nВозило нас чека и враћа у Топли До у наш смештај\, на касни ручак – рану вечеру. Укупна дужина данашње стазе износи око 4 + 4 км и не спада у тешке али захтева спретност. Стаза иде широким колским\, ливадским и шумским путевима дуж којих ћемо уживати у изузетно лепим пејзажима и водопадима 🙂 Са задовољством је могу проћи скоро све старосне и кондиционе групације планинара и љубитеља природе. Имаћемо целодневни активан боравак у природи 🙂 \nНакон вечере\, дружење и одмарање до одласка на спавање 🙂 \nТрећи дан\, недеља 10. Април \nУстајемо око 7 сати\, доручак почиње у 7 и 30 и траје око сат времена а затим полазимо на данашњу стазу ка највишем водопаду у Србији 🙂 Каскадни водопад Калуђерски скокови (242м висок) је управо најлепши у рано пролеће 🙂 \n   \nУкупна дужина данашње стазе износи око 7 + 7 км\, и спада у уживалачке. Првих 4 км је сеоски колски пут\, затим око 2\,5 км кроз шуму и задњих око 500 метара је стеновит и стрмији пут. Уколико неко не жели да пређе целу стазу\, у сваком тренутку се може вратити назад истим путем. \nВраћамо се у Топли До на ручак\, пакујемо своје ствари у возило и полазимо за Београд. \n   \nУ повратку ка Београду\, ако пролазно време буде добро\, обилазимо манастир Свети Ђорђе у Темској\, затим Тврђаву Кале (Пиротски град\, Момчилов град) и наравно једемо врхунске колаче и пијемо бозу у посластичарници Пеливан крај Нишаве у лепом граду Пироту 🙂 \nОчекујем да се вратимо у Београд\, стигнемо на велики паркинг испред Сава центра до 22 часа. \nОПРЕМА: Мали ранац са водом и храном за једнодневне излете\, планинарске ципеле обавезно. Одећа прилагођена временским приликама (ветровка\, капа и рукавице)\, имајте у виду хладније пролећно време на планини и пресвлака. Пиџама за ноћење и прибор за личну хигијену. Понети батеријску\, најбоље чеону лампу. Пожељно је понети и штапове за планинарење. \nХРАНА: Из свог ранца на стазама у суботу и недељу. Доручак и вечера у суботу\, као и доручак и ручак у недељу су обухваћени котизацијом а вечера у петак по нашем доласку у Топли До је по вашој жељи уз претходну најаву домаћинима и по одличној цени. \nПРИЈАВЕ за акцију\, информације путем телефона\, као и уплата износа котизације и учлањење електронским путем благовремено\, односно најкасније на дан реализације акције. \nИзнос Котизације: 11.200 динара \nБрој места је ограничен! \nКотизација обухвата: превоз рентираним комбијем\, мини или миди бусем\, путарина Београд – Пирот – Београд аутопутем\, смештај и храна за возача\, два полупансиона за нас (два ноћења\, два доручка\, вечера и ручак)\, услуге локалног водича\, превоз ангажованим теренским возилом (камионом) и трошкове организације акције \nКотизација НЕ обухвата: евентуалну вечеру у петак\, евентуалне улазнице и ваше индивидуалне трошкове \n(уплата за акцију се врши на текући рачун\, у крајњем случају на дан пута) \nАкцију реализује планински водич \nБорис Братић – Боки \nТелефони за пријављивање на акцију код водича: \n064/99-248-11  или  063/11-357-99 \nДОБРО ДОШЛИ НА ОВУ ИЗУЗЕТНУ АКЦИЈУ – АВАНТУРУ ЗА ПАМЋЕЊЕ! \nВаш Клуб планинара „АВАНТУРИСТА„ \nУживајте у сваком тренутку са Авантуристима на Старој планини! \nВАЖНЕ НАПОМЕНЕ: Учесници акције планинаре на сопствену одговорност\, уз дужно придржавање Правилника о безбедности и одговорности у извођењу планинарских активности Планинарског Савеза Србије. \nНапомињемо да према Закону о туризму (члан 86. став 4) за путовање није обезбеђена заштита у погледу гаранција путовања. \nВодич задржава право измене плана или отказивања акције у случају непредвиђених околности\, односно недовољног броја пријављених учесника. Приликом пријаве за акцију\, пожељна је уплата аконтације\, односно целокупног износа котизације уколико је пријављивање неколико дана пред реализацију акције. У случају одустајања\, наћи адекватну замену\, у супротном уплаћени новац се не враћа\, нити преноси на наредне акције.
URL:https://planinariavanturisti.org.rs/dogadjaj/vodopadi-stare-planine-1/
LOCATION:Vodopadi Stare planine\, Čunguljski\, Kurtulski\, Kaluđerski skokovi\, Topli Do\, Srbija
CATEGORIES:Акција Гљиварска едукација,Високогорска акција,кањонска авантура,Пећинска авантура,Планинарска едукација,Планинарске акције,Трекинг акција
ATTACH;FMTTYPE=image/jpeg:https://planinariavanturisti.org.rs/wp-content/uploads/2022/03/NASLOVNA-Vodopadi-Stare-planine-April-2022.jpg
ORGANIZER;CN="%D0%91%D0%BE%D1%80%D0%B8%D1%81%20%D0%91%D1%80%D0%B0%D1%82%D0%B8%D1%9B%20-%20%D0%91%D0%BE%D0%BA%D0%B8":MAILTO:instruktorboris@gmail.com
END:VEVENT
END:VCALENDAR