BEGIN:VCALENDAR
VERSION:2.0
PRODID:-//Клуб планинара &quot;АВАНТУРИСТА&quot; - ECPv5.14.1//NONSGML v1.0//EN
CALSCALE:GREGORIAN
METHOD:PUBLISH
X-WR-CALNAME:Клуб планинара &quot;АВАНТУРИСТА&quot;
X-ORIGINAL-URL:https://planinariavanturisti.org.rs
X-WR-CALDESC:Events for Клуб планинара &quot;АВАНТУРИСТА&quot;
BEGIN:VTIMEZONE
TZID:Europe/Paris
BEGIN:DAYLIGHT
TZOFFSETFROM:+0100
TZOFFSETTO:+0200
TZNAME:CEST
DTSTART:20220327T010000
END:DAYLIGHT
BEGIN:STANDARD
TZOFFSETFROM:+0200
TZOFFSETTO:+0100
TZNAME:CET
DTSTART:20221030T010000
END:STANDARD
END:VTIMEZONE
BEGIN:VEVENT
DTSTART;TZID=Europe/Paris:20220425T060000
DTEND;TZID=Europe/Paris:20220425T230000
DTSTAMP:20260420T090240
CREATED:20200715T080237Z
LAST-MODIFIED:20220420T134959Z
UID:7032-1650866400-1650927600@planinariavanturisti.org.rs
SUMMARY:Кањон реке Трибућа – Весин вир - Горње Кошље – Јеличке стене :-)
DESCRIPTION:Кањон реке Трибућа – Весин вир – Горње Кошље – Јеличке стене 🙂 \nТорничко приседо – Доњи Савковић – Кањон реке Трибућа – Весин вир – Провалија – Горње Кошље – Јеличке стене (лет Белоглавих супова) – Разбојиште \n25. Април 2022. – Понедељак (од 6 до 23 часа) \nПОЛАЗАК: Окупљамо се на паркингу испред центра „Сава“ (савска страна – Улаз А) и полазимо тачно у 6 сати. \nМолим вас\, дођите 10-ак минута раније како би смо кренули на време! \nПЛАН АКЦИЈЕ \nПутујемо Ибарском магистралом (можете ући успут) до Ћелија\, где скрећемо ка Лајковцу. На уласку у Ваљево правимо полусатну паузу код пекаре „НАНА“ у месту Попучке за доручак\, односно јутарњу кафу и тоалет у оближњој кафаници 🙂 \nПут настављамо кроз Ваљево према Осечини и Пецки – превоју Прослоп (662 м)\, након кога се спуштамо ка Љубовији до раскрснице на којој скрећемо ка планини Бобија\, кањону реке Трибуће и Јеличким стенама. \n   \nДуж пута ка Бобији и Торничком приседу имаћемо прилику да уживамо у лепоти предела Азбуковице 🙂 Наша стаза полази од Приседа\, путем кроз атар села Савковић у правцу импресивног кањона реке Трибуће и водопада висине 25 метара – Весин Вир. Прилаз водопаду је лаган\, стаза је прилагођена свим планинарима. \n   \nОпчињени амбијентом и водопадом 🙂 настављамо преко „Провалија„ у правцу села Горње Кошље и величанствених видиковаца са платоа Јеличких стена. Изузетно је леп ливадски плато и висока папрат непосредно пред излазак на Јеличке стене. Предео изгледа бајковито 🙂 \nНа четири позиције – видиковаца са Јеличких стена посматрамо величанствене летове Белоглавих супова (заштићених орлова)\, изнад кањона реке Трешњице 🙂 \nУживаћемо у лету Белоглавих супова кроз кањон 🙂 Њихово природно станиште и гнездилиште се налази недалеко\, низводно од Јеличких стена у Кошљанским стенама. \nНаша данашња стаза је дуга 12\,3 км са око 430 м успона и прелази се за око пет и по сати умереног хода са све паузама. Пешачки део акције завршавамо на Разбојишту уз договорен ручак код наших добрих домаћина Милете и Стојке у пријатној атмосвери 🙂 Ручак нас чека топао и спреман. Без много задржавања\, након ручка полазимо за Београд. \nОчекујем да се на велики паркинг испред центра „Сава“ вратимо до 23 часа. \nОПРЕМА: Мали ранац са водом (на стази нема извора воде) и храном за једнодневни излет\, планинарске ципеле\, камашне. Одећа прилагођена временским приликама\, ветровка и пресвлака. Имајте у виду могуће хладније време и ветар на планини. Пожељно је понети и штапове за планинарење\, као и батеријску (најбоље чеону) лампу. \nПРИЈАВЕ за акцију\, информације путем телефона\, као и уплата износа котизације и учлањење електронским путем благовремено\, односно најкасније на дан реализације акције. \nИзнос Котизације: 2.200 динара \nКотизација обухвата: ангажовани превоз и трошкове организације акције  \nКотизација НЕ обухвата: исхрану и индивидуалне трошкове \n(уплата за акцију се врши на текући рачун\, у крајњем случају на дан пута) \nАкцију реализује планински водич \nБорис Братић – Боки \nТелефони за пријављивање на акцију код водича: \n064/99-248-11  или  063/11-357-99 \nДОБРО ДОШЛИ НА ВРХУНСКУ КАЊОНСКО – ПЛАНИНСКУ АКЦИЈУ – АВАНТУРУ ЗА ПАМЋЕЊЕ! \nВаш Клуб планинара „АВАНТУРИСТА„ \nВАЖНЕ НАПОМЕНЕ: Учесници акције планинаре на сопствену одговорност\, уз дужно придржавање Правилника о безбедности и одговорности у извођењу планинарских активности Планинарског Савеза Србије. \nНапомињемо да према Закону о туризму (члан 86. став 4) за путовање није обезбеђена заштита у погледу гаранција путовања. \nВодич задржава право измене плана или отказивања акције у случају непредвиђених околности\, односно недовољног броја пријављених учесника. Приликом пријаве за акцију\, пожељна је уплата аконтације\, односно целокупног износа котизације уколико је пријављивање неколико дана пред реализацију акције. У случају одустајања\, наћи адекватну замену\, у супротном уплаћени новац се не враћа\, нити преноси на наредне акције.
URL:https://planinariavanturisti.org.rs/dogadjaj/kanjon-tribuca-jelicke-stene-2/
LOCATION:Kanjon reke Tribuća\, Torničko Prisedo\, Razbojište\, Savković\, Srbija
CATEGORIES:Акција Гљиварска едукација,Високогорска акција,кањонска авантура,Пећинска авантура,Планинарска едукација,Планинарске акције,Трекинг акција
ATTACH;FMTTYPE=image/jpeg:https://planinariavanturisti.org.rs/wp-content/uploads/2020/07/Kanjon-Tribuće-НАСЛОВНА-Јул-2020..jpg
ORGANIZER;CN="%D0%91%D0%BE%D1%80%D0%B8%D1%81%20%D0%91%D1%80%D0%B0%D1%82%D0%B8%D1%9B%20-%20%D0%91%D0%BE%D0%BA%D0%B8":MAILTO:instruktorboris@gmail.com
END:VEVENT
END:VCALENDAR