BEGIN:VCALENDAR
VERSION:2.0
PRODID:-//Клуб планинара &quot;АВАНТУРИСТА&quot; - ECPv5.14.1//NONSGML v1.0//EN
CALSCALE:GREGORIAN
METHOD:PUBLISH
X-WR-CALNAME:Клуб планинара &quot;АВАНТУРИСТА&quot;
X-ORIGINAL-URL:https://planinariavanturisti.org.rs
X-WR-CALDESC:Events for Клуб планинара &quot;АВАНТУРИСТА&quot;
BEGIN:VTIMEZONE
TZID:Europe/Paris
BEGIN:DAYLIGHT
TZOFFSETFROM:+0100
TZOFFSETTO:+0200
TZNAME:CEST
DTSTART:20220327T010000
END:DAYLIGHT
BEGIN:STANDARD
TZOFFSETFROM:+0200
TZOFFSETTO:+0100
TZNAME:CET
DTSTART:20221030T010000
END:STANDARD
END:VTIMEZONE
BEGIN:VEVENT
DTSTART;TZID=Europe/Paris:20220508T060000
DTEND;TZID=Europe/Paris:20220508T230000
DTSTAMP:20260420T085950
CREATED:20210505T185821Z
LAST-MODIFIED:20220504T120411Z
UID:7496-1651989600-1652050800@planinariavanturisti.org.rs
SUMMARY:Ојдански врх - гребен кањона Великог Рзава :-)
DESCRIPTION:Ојдански врх – гребен кањона Великог Рзава 🙂 \n8. Мај 2022. – Недеља (од 6 до 23 часа) \nПОЛАЗАК:  Окупљамо се на паркингу испред центра „Сава“ (савска страна – Улаз А) и полазимо тачно у 6 сати. \nМолим вас\, дођите 10-ак минута раније како би смо кренули на време! \nПЛАН АКЦИЈЕ \nПутујемо ка Обреновцу и аутопутем Милош Велики до Прељине а затим магистралом преко Чачка и Ужица до села Равни\, одакле полази наша стаза 🙂 \nГостујемо на традиционалној планинарској акцији клуба домаћина ПД „Рујно“ из Ужица 🙂 \nАкција се изводи на обронцима планине Златибор. Стаза нас води живописним пределима и гребеном кањона Великог Рзава 🙂 \nОПИС АКЦИЈЕ: \nПолазимо из центра села Равни благим успоном ка видиковцу Равањско поље а затим долазимо до споменика Сладун код кога правимо краћу паузу. \n   \nОд споменика благим успоном стижемо до Ојданског врха 888 м. Са врха се пружа поглед на венац Чиготе\, као на длану се виде Торник\, Мучањ\, Градина\, … \n   \nНастављамо гребенском стазом изнад кањона Великог Рзава до видиковца а затим се спуштамо ка домаћинству Ојданић и Равањском пољу. \n   \nВода се може допунити у локалним сеоским домаћинствима дуж стазе. А у домаћинству Ојданић можемо купити млечне производе. \n   \nПодаци о стази – дужина стазе: око 13 км. Успон: око 450 м\, планирано време пешачења: 6 сати. Тежина стазе: Средње захтевна\, умерене тежине\, за све узрасте планинара. \nОчекујем да се вратимо у Београд\, стигнемо на велики паркинг испред Сава центра око 23 часа. \nОПРЕМА: Мали ранац са водом и храном за једнодневни излет\, планинарске ципеле. Одећа прилагођена временским приликама и пресвлака. Понети батеријску лампу а пожељно је и штапове за планинарење. \nХРАНА: Из свог ранца. Можете купити сендвич и јутарњу кафу на пумпи „Леонардо“ у Чачку. Ручак по завршетку стазе\, у домаћинству (пасуљ\, купус салата и хлеб 250 динара) Потребно је понети прибор за ручавање (две посуде и кашика). \nПРИЈАВЕ за акцију и информације путем телефона а уплата износа котизације и учлањење електронским путем\, односно на дан реализације акције. \nМала група\, путујемо комбијем \nАкцију реализује планински водич \nБорис Братић – Боки \nТелефони за пријављивање на акцију код водича: \n064/99-248-11  или  063/11-357-99 \nДОБРО ДОШЛИ НА ОВУ ИЗУЗЕТНУ АКЦИЈУ – АВАНТУРУ ЗА ПАМЋЕЊЕ! \nВаш Клуб планинара „АВАНТУРИСТА„
URL:https://planinariavanturisti.org.rs/dogadjaj/ojdanski-vrh-greben-velikog-rzava2/
LOCATION:Ojdanski vrh\, selo Ravni\, kanjon Velikog Rzava\, Užice\, Srbija
CATEGORIES:Акција Гљиварска едукација,Високогорска акција,кањонска авантура,Пећинска авантура,Планинарска едукација,Планинарске акције,Трекинг акција
ATTACH;FMTTYPE=image/jpeg:https://planinariavanturisti.org.rs/wp-content/uploads/2021/05/Ojdanski-vrh-насловна-ПД-Рујно-Ужице-Мај-2021..jpg
ORGANIZER;CN="%D0%91%D0%BE%D1%80%D0%B8%D1%81%20%D0%91%D1%80%D0%B0%D1%82%D0%B8%D1%9B%20-%20%D0%91%D0%BE%D0%BA%D0%B8":MAILTO:instruktorboris@gmail.com
END:VEVENT
END:VCALENDAR