BEGIN:VCALENDAR
VERSION:2.0
PRODID:-//Клуб планинара &quot;АВАНТУРИСТА&quot; - ECPv5.14.1//NONSGML v1.0//EN
CALSCALE:GREGORIAN
METHOD:PUBLISH
X-WR-CALNAME:Клуб планинара &quot;АВАНТУРИСТА&quot;
X-ORIGINAL-URL:https://planinariavanturisti.org.rs
X-WR-CALDESC:Events for Клуб планинара &quot;АВАНТУРИСТА&quot;
BEGIN:VTIMEZONE
TZID:Europe/Paris
BEGIN:DAYLIGHT
TZOFFSETFROM:+0100
TZOFFSETTO:+0200
TZNAME:CEST
DTSTART:20220327T010000
END:DAYLIGHT
BEGIN:STANDARD
TZOFFSETFROM:+0200
TZOFFSETTO:+0100
TZNAME:CET
DTSTART:20221030T010000
END:STANDARD
END:VTIMEZONE
BEGIN:VEVENT
DTSTART;TZID=Europe/Paris:20220521T060000
DTEND;TZID=Europe/Paris:20220521T220000
DTSTAMP:20260420T090348
CREATED:20200609T094611Z
LAST-MODIFIED:20220517T093707Z
UID:6983-1653112800-1653170400@planinariavanturisti.org.rs
SUMMARY:Сесалац – Тумба - Сесалачка пећина - Извор реке Моравице :-)
DESCRIPTION: Сесалац – Тумба – Сесалачка пећина – Извор реке Моравице 🙂 \n– регионална планинарска акција ПСТР – \nСЕСАЛАЦ (430мнв) – БЕЗДАН – ТУМБА (842мнв) – КЛИСУРА МАЂАРСКЕ РЕКЕ (480мнв) – ВИДИКОВАЦ ОРЛИ СКОК (570мнв) – ГРЕБЕН СТУБЛИНЕ (650мнв) – СЕСАЛАЧКА ПЕЋИНА (630мнв) – СЕСАЛАЦ (430мнв) \n21. Мај 2022. – Субота (од 6 до 22 часа) \nПОЛАЗАК: Окупљамо се на паркингу испред центра „Сава“ (савска страна – Улаз А) и полазимо тачно у 6 сати. \nМолим вас\, дођите 10-ак минута раније како би смо кренули на време! \nПЛАН АКЦИЈЕ \nГостујемо на регионалној планинарској акцији ПСТР и Традиционалној планинарској Акцији клуба домаћина ПК „Озрен“ из Сокобање. \nПутујемо аутопутем до изласка за Алексиначке руднике уз успутну паузу на ЕКО пумпи код Ћуприје за јутарњу кафу и тоалет. На путу према Сокобањи и кроз њу\, пролазимо поред прелепог Бованског језера 🙂 Напослетку стижемо у село Сесалац испред локалног Дома културе\, одакле полази наша стаза. \nОПИС АКЦИЈЕ: \nВелика стаза – дужина стазе: око 16\,5 км. Успон: 730 м\, планирано време пешачења: око шест и по сати. СЕСАЛАЦ (430мнв) – БЕЗДАН – ТУМБА (842мнв) – КЛИСУРА МАЂАРСКЕ РЕКЕ (480мнв) – ВИДИКОВАЦ ОРЛИ СКОК (570мнв) – ГРЕБЕН СТУБЛИНЕ (650мнв) – СЕСАЛАЧКА ПЕЋИНА (630мнв) – СЕСАЛАЦ (430мнв). Тежина стазе: Средње захтевна\, умерене тежине. \nМала стаза – дужина стазе: око 11\,5 км. Успон: 360 м\, планирано време пешачења: око четири и по сата. Иста рута\, као велика стаза\, осим што се не пење врх Тумба. Тежина стазе: Лака\, за све узрасте планинара и уживаоца природе. \nОпис стаза: Полазна тачка је село Сесалац (надморска висина 430м)\, одакле се колским путем иде према пределу Бездан. Затим се излази на Рујишки пут и код моста преко Мађарске реке се одваја велика стаза. Мала стаза – наставља путем и пролази кроз Клисуру Мађарске реке и затим скреће удесно. После краћег успона долази се до одвајања за видиковац Орли скок. Након обиласка видиковца наставља се успон до гребена Стублине одакле се пружа леп поглед на Ртањ са југоисточне стране. Наставља се стеновитим гребеном\, а затим се скреће улево и након краћег времена се излази на колски пут који води до Сесалачке пећине. Велика стаза – прелази се мост и иде према Сињем виру\, и брзо се одваја улево. Прати се колска стаза са нешто јачим успоном. Затим се излази на равнији део\, где се улази у шумску стазу. Стаза води кроз шуму поред каменитог гребена. Затим се излази на чистину\, одакле следи краћи и јачи успон на сам врх Тумбе (842 мнв). Са врха се пружа леп поглед на све околне планине. Повратак је истом стазом до места раздвајања од мале стазе. Затим се наставља трасом мале стазе до Сеселачке пећине. Улазак и обилазак ове лепе пећине са нашим лампама. \nОкупљање и полазна тачка акције – село Сесалац (удаљено од Сокобање 16 км\, на 10км од Сокобање у правцу Књажевца скретање према селу Сесалац\, и 6 км до села) код Дома. Организатор (клуб домаћин акције ПК „Озрен“ из Сокобање) ће обезбедити Бесплатан ручак на отвореном\, (планинарски пасуљ\, купус салата + хлеб) на локалитету код Сесалачке пећине. Обавезно понети свој прибор за јело! \nНакон ручка се возимо до села Врело у коме се налази прелепи извор реке Моравице. Недалеко од извора се налази црква Светог Илије\, задужбина кнегиње Персиде Карађорђевић а у порти поред споменика и дрво Бора старо неколико стотина година. Извор реке Моравице се налази у подножју планине Девица\, вода је одличног квалитета и користи се за пиће. Недалеко је и пећина са два отвора до које води обележена стаза. \nОчекујем да се вратимо у Београд\, стигнемо на велики паркинг испред „Сава центра“ око 22 часа. \nОПРЕМА: Мали ранац са водом (на стази има извор воде Бањица на око 2\,5 км од почетка стазе) и храном за једнодневни излет\, планинарске ципеле. Одећа прилагођена временским приликама\, ветровка и пресвлака\, заштита од јаког сунца на планини. Пожељно је понети и штапове за планинарење\, као и батеријску (најбоље чеону) лампу. \nХРАНА: Из свог ранца. По завршетку планинско – пешачког дела акције\, имамо бесплатан ручак – поклон наших домаћина.  Обавезно понети свој прибор за јело! \nПРИЈАВЕ за акцију\, информације путем телефона\, као и уплата износа котизације и учлањење електронским путем благовремено\, односно најкасније на дан реализације акције. \nИзнос Котизације: 2.800 динара \nКотизација обухвата: превоз комбијем\, путарину\, порезе и доприносе\, допринос Клубу\, трошкове организације и вођења акције \nКотизација НЕ обухвата: исхрану (добијамо бесплатан ручак)\, индивидуалне трошкове \n(уплата за акцију се врши на текући рачун\, у крајњем случају на дан пута) \nАкцију реализује планински водич \nБорис Братић – Боки \nТелефони за пријављивање на акцију код водича: \n064/99-248-11  или  063/11-357-99 \nДОБРО ДОШЛИ НА ОВУ ИЗУЗЕТНУ АКЦИЈУ – АВАНТУРУ ЗА ПАМЋЕЊЕ! \nВаш Клуб планинара „АВАНТУРИСТА„ \nВАЖНЕ НАПОМЕНЕ: Учесници акције планинаре на сопствену одговорност\, уз дужно придржавање Правилника о безбедности и одговорности у извођењу планинарских активности Планинарског Савеза Србије. \nНапомињемо да према Закону о туризму (члан 86. став 4) за путовање није обезбеђена заштита у погледу гаранција путовања. \nВодич задржава право измене плана или отказивања акције у случају непредвиђених околности\, односно недовољног броја пријављених учесника. Приликом пријаве за акцију\, пожељна је уплата аконтације\, односно целокупног износа котизације уколико је пријављивање неколико дана пред реализацију акције. У случају одустајања\, наћи адекватну замену\, у супротном уплаћени новац се не враћа\, нити преноси на наредне акције.
URL:https://planinariavanturisti.org.rs/dogadjaj/sesalacka-pecina-2022/
LOCATION:Sesalačka pećina\, Sesalac\, Sokobanja\, Srbija
CATEGORIES:Акција Гљиварска едукација,Високогорска акција,кањонска авантура,Пећинска авантура,Планинарска едукација,Планинарске акције,Трекинг акција
ATTACH;FMTTYPE=image/jpeg:https://planinariavanturisti.org.rs/wp-content/uploads/2020/06/Sesalac-Tumba-Sesalacka-pecina-2.jpg
ORGANIZER;CN="%D0%91%D0%BE%D1%80%D0%B8%D1%81%20%D0%91%D1%80%D0%B0%D1%82%D0%B8%D1%9B%20-%20%D0%91%D0%BE%D0%BA%D0%B8":MAILTO:instruktorboris@gmail.com
END:VEVENT
END:VCALENDAR