BEGIN:VCALENDAR
VERSION:2.0
PRODID:-//Клуб планинара &quot;АВАНТУРИСТА&quot; - ECPv5.14.1//NONSGML v1.0//EN
CALSCALE:GREGORIAN
METHOD:PUBLISH
X-WR-CALNAME:Клуб планинара &quot;АВАНТУРИСТА&quot;
X-ORIGINAL-URL:https://planinariavanturisti.org.rs
X-WR-CALDESC:Events for Клуб планинара &quot;АВАНТУРИСТА&quot;
BEGIN:VTIMEZONE
TZID:Europe/Paris
BEGIN:DAYLIGHT
TZOFFSETFROM:+0100
TZOFFSETTO:+0200
TZNAME:CEST
DTSTART:20220327T010000
END:DAYLIGHT
BEGIN:STANDARD
TZOFFSETFROM:+0200
TZOFFSETTO:+0100
TZNAME:CET
DTSTART:20221030T010000
END:STANDARD
END:VTIMEZONE
BEGIN:VEVENT
DTSTART;TZID=Europe/Paris:20220619T060000
DTEND;TZID=Europe/Paris:20220619T223000
DTSTAMP:20260422T105003
CREATED:20220615T082909Z
LAST-MODIFIED:20220615T141043Z
UID:8562-1655618400-1655677800@planinariavanturisti.org.rs
SUMMARY:Голи Крш - Бучје - Борски Стол :-)
DESCRIPTION:Голи Крш – Бучје – Борски Стол \nРегионална акција ПСТР – „Успон на Голи крш – варијанта Бучје – Стол 1.155 мнв 2022“ \n19. Јун 2022. – Недеља (од 6 до 22 и 30 часова) \nПОЛАЗАК: Окупљамо се на паркингу испред центра „Сава“ (Савска страна – улаз А) и полазимо тачно у 6 сати. \nМолим вас\, дођите 10-ак минута раније како би смо кренули на време! \nПЛАН АКЦИЈЕ \nПутујемо аутопутем до Параћина а затим магистралним путем у правцу града Бора\, уз успутну паузу по потреби. Пролазимо Бор и стижемо у село Бучје испред локалног Дома културе\, одакле полази наша стаза. \nИз позивног писма домаћина акције \nТрадиционално у месецу Јуну\, ПСД “Црни врх“ из Бора својим пријатељима планинарима и љубитељима природе организује успон на Голи крш и планину Стол. Окупљање учесника планирано је до 9 сати испред Дома културе у селу Бучје\, око 20 км од Бора. Стаза је укупне дужине око 10 км. \nДо врха планине Стол и успутних КТ се долази преко гребена\, шумским путем и планинарском стазом. Да би успон био лакши\, кретаћемо се изохипсом. Стаза је линијска.  \nДо 09:00 – пријава и предаја спискова учесника акције. \n09:00 – 09:30 Културно уметнички програм КУД „Стол“ из Бучја \n9:30 отварање акције испред Дома културе у селу Бучје \n9:45 полазак на успон на Голи крш \n13:30 до 14:30 излазак на врх планине Стол 1.155 мнв \n15:30 долазак (силазак) до планинарског дома на Столу \n16:00 заједнички ручак и дружење \n16:30 подела захвалница друштвима\, клубовима и организованим групама \n17:00 затварање акције \nТраса Акције: \nСтарт: Дом културе у селу Бучје 510 мнв \nКТ 1: Лакур 828 мнв \nКТ 2: Понориште Лучке реке 800 мнв \nКТ 3: Стол 1.155 мнв \nЦиљ: Планинарски дом „Стол“ на Столу 844 мнв \nДужина стазе око 10 км са висинском разликом од око 700 м успона и 350 м спуста и спада у средње тешке стазе. \nПодлога стазе је макадам\, шумски пут и камен. \nВреме планирано за прелазак стазе је око 6 сати са задржавањем\, уживањем на врху Стол. \nРУЧАК (Планинарски пасуљ + купус салата + хлеб) је код Дома „Стол„ и бесплатан је за све учеснике ове лепе Акције! \nОбавезно понети свој прибор за јело! \nРазноврсност овог терена\, флоре и фауне\, омогућава и разноврсност уживања! \nОчекујем да се на велики паркинг испред центра „Сава“ вратимо око 22 и 30. \nОПРЕМА: Мали ранац са водом (на стази има воде на самом почетку) и храном за једнодневни излет\, планинарске ципеле. Одећа прилагођена временским приликама\, ветровка и пресвлака\, заштита од јаког сунца на планини. Пожељно је понети и штапове за планинарење\, као и батеријску (најбоље чеону) лампу. \nХРАНА: Из свог ранца. По завршетку планинско – пешачког дела акције\, имамо бесплатан ручак – поклон наших домаћина.  Обавезно понети свој прибор за јело! \nПРИЈАВЕ за акцију\, информације путем телефона\, као и уплата износа котизације и учлањење електронским путем благовремено\, односно најкасније на дан реализације акције. \nИзнос Котизације: 3.000 динара \nКотизација обухвата: превоз комбијем\, путарину\, порезе и доприносе\, допринос Клубу\, трошкове организације и вођења акције \nКотизација НЕ обухвата: исхрану (добијамо бесплатан ручак)\, индивидуалне трошкове \n(уплата за акцију се врши на текући рачун\, у крајњем случају на дан пута) \nАкцију реализује планински водич \nБорис Братић – Боки \nТелефони за пријављивање на акцију код водича: \n064/99-248-11  или  063/11-357-99 \nДОБРО ДОШЛИ НА ОВУ ИЗУЗЕТНУ АКЦИЈУ – АВАНТУРУ ЗА ПАМЋЕЊЕ! \nВаш Клуб планинара „АВАНТУРИСТА„ \nВажне напомене : \n– Домаћин и организатор регионалне акције ПСТР је ПСД „Црни врх“ из Бора. \n– Организатор акције обезбеђује водиче на стази. КП „Авантуриста“ има свог водича на стази. \n– Са собом понети личну карту\, здравствену књижицу и планинарску картицу ПСС са маркицом за текућу годину. Уколико нисте обновили чланство\, моћићете у нашем превозу на дан акције. \n– На стази нема извора\, понети најмање 1\,5 литара воде.\n– Организатор не сноси одговорност за евентуалне повреде и несрећне случајеве изазване самовољом појединаца\, здравственим проблемима учесника\, несреће узроковане дејством алкохола и недозвољених супстанци\, повреде настале због неадекватне опреме\, неприлагођене условима успона.\n– Организатор није одговоран за учеснике који крену на стазу самостално\, пре или након организованог поласка (или полазака)\, као ни за учеснике који одаберу други правац кретања од предвиђеног.\n– Водичи успона задржавају право да учеснике без одговарајуће опреме\, као и оне који се непримерено односе према организаторима\, природи или другим учесницима не поведу на стазу или искључе из групе.\n– Услед непредвиђених околности\, водичи као и организатор акције имају право измене плана акције на терену. \nВАЖНЕ НАПОМЕНЕ: Учесници акције планинаре на сопствену одговорност\, уз дужно придржавање Правилника о безбедности и одговорности у извођењу планинарских активности Планинарског Савеза Србије. \nНапомињемо да према Закону о туризму (члан 86. став 4) за путовање није обезбеђена заштита у погледу гаранција путовања. \nВодич задржава право измене плана или отказивања акције у случају непредвиђених околности\, односно недовољног броја пријављених учесника. Приликом пријаве за акцију\, пожељна је уплата аконтације\, односно целокупног износа котизације уколико је пријављивање неколико дана пред реализацију акције. У случају одустајања\, наћи адекватну замену\, у супротном уплаћени новац се не враћа\, нити преноси на наредне акције.
URL:https://planinariavanturisti.org.rs/dogadjaj/goli-krs-bucje-borski-stol/
LOCATION:Goli krš\, Goli krš\, Planina Stol\, Bučje\, Srbija
CATEGORIES:Акција Гљиварска едукација,Високогорска акција,кањонска авантура,Пећинска авантура,Планинарска едукација,Планинарске акције,Трекинг акција
ATTACH;FMTTYPE=image/jpeg:https://planinariavanturisti.org.rs/wp-content/uploads/2022/06/Brzinska-naslovna-2-Borski-Stol-Goli-Krs-19.-Jun-2022.jpg
ORGANIZER;CN="%D0%91%D0%BE%D1%80%D0%B8%D1%81%20%D0%91%D1%80%D0%B0%D1%82%D0%B8%D1%9B%20-%20%D0%91%D0%BE%D0%BA%D0%B8":MAILTO:instruktorboris@gmail.com
END:VEVENT
END:VCALENDAR