BEGIN:VCALENDAR
VERSION:2.0
PRODID:-//Клуб планинара &quot;АВАНТУРИСТА&quot; - ECPv5.14.1//NONSGML v1.0//EN
CALSCALE:GREGORIAN
METHOD:PUBLISH
X-WR-CALNAME:Клуб планинара &quot;АВАНТУРИСТА&quot;
X-ORIGINAL-URL:https://planinariavanturisti.org.rs
X-WR-CALDESC:Events for Клуб планинара &quot;АВАНТУРИСТА&quot;
BEGIN:VTIMEZONE
TZID:Europe/Paris
BEGIN:DAYLIGHT
TZOFFSETFROM:+0100
TZOFFSETTO:+0200
TZNAME:CEST
DTSTART:20220327T010000
END:DAYLIGHT
BEGIN:STANDARD
TZOFFSETFROM:+0200
TZOFFSETTO:+0100
TZNAME:CET
DTSTART:20221030T010000
END:STANDARD
END:VTIMEZONE
BEGIN:VEVENT
DTSTART;TZID=Europe/Paris:20221002T080000
DTEND;TZID=Europe/Paris:20221002T213000
DTSTAMP:20260423T114915
CREATED:20210923T215123Z
LAST-MODIFIED:20220926T195153Z
UID:7884-1664697600-1664746200@planinariavanturisti.org.rs
SUMMARY:ЗАСАВИЦА 2022 + бања Јокин Граб :-)
DESCRIPTION:Планинарску – трекинг акцију са ПАК „Чивија“ Шабац – организује \nКлуб Планинара „АВАНТУРИСТА“ из Београда \nЗасавица 2022 + бања Јокин Граб 🙂 \n2. Октобар 2022. – Недеља (од 8 до 21 и 30 часова) \nПОЛАЗАК:  Окупљамо се на платоу – код паркинга испред центра „Сава“ (Савска страна зграде – сада у реновирању) и полазимо тачно у 8 сати. \n Молим вас\, дођите 10-ак минута раније како би смо кренули на време! \nПЛАН АКЦИЈЕ \nПутујемо аутопутем до излаза за Сремску Митровицу а затим до СРП „Засавица“ 🙂 \nГостујемо на планинарској – трекинг акцији клуба домаћина ПАК „Чивија“ из Шапца. \n   \nАкција се изводи у СРП Засавица\, живописним пределима и селу Равње са обиласком музеја 🙂 \n   \nСпецијални резерват природе Засавица се налази у северној Мачви. Засавица је и назив за напуштено речно корито\, око доње Дрине\, некада је била корито Саве\, па Дрине\, а данас је ван хидрографске функције\, фосилно речно корито. Засавица је царство птица мочварица и старих раса домаћих животиња – подолско говече огромних рогова\, виторога коза\, балкански магарац\, головрата кокош\, и чувена мангулица\, карактеристична по месу са ниским садржајем холестерола. Заштитни знак резервата је ретка риба Умбра\, познатија као пас који плива. \n   \nВизиторски центар представља централно туристичко место резервата. Изграђена је дрвена грађевина са торњем висине 18 м са кога се пружа поглед ка пашњаку од 300 ха и најширем и најлепшем делу тока Засавице. У овом објекту налази се трафика за продају сувенира. Испред је дрвени док који води до чамаца и туристичког брода Умбра којим посетиоци обилазе резерват. \nПоред дрвеног објекта налази се долап као туристичка атракција. Од присутних објеката ту су: „Бирцуз код дабра„ и етно-соба са надстрешницом као етнографско-историјска поставка старих кућних и пољопривредних предмета и алата са краја 19 и почетка 20 века. \n   \nОПИС АКЦИЈЕ: \nОкупљање учесника у резервату Засавица до 10 сати\, затим са водичем полазак на стазу. \n10:30 – Полазак на пешачку туру. Стаза је рекреативна\, доступна свима\, укупне дужине око 15 км \n   \nОд „старта“ идемо ка КТ1 затим ка КТ4 – шанац Зеке Буљубаше – музеј у Равњу. \n   \nУлаз у СРП „Засавица“ као и у музеј у Равњу је бесплатан за учеснике Акције! \nУчесницима су на располагању сви садржаји које нуди СРП Засавица. \n   \n15:00 – Ручак. 16:00 – Додела захвалница и признања друштвима\, клубовима и појединцима. \nНапомене: Обезбеђен је ручак\, пасуљ са сланином од мангулице\, салата и хлеб по цени од 400 динара у СРП Засавица. Посуђе и прибор су такође обезбеђени. \nСтазе су већим делом на отвореном терену\, те је потребно имати адекватну заштиту\, зависно од временских услова! Понети довољну количину воде и хране до ручка. \nПодаци о стази – Успон: занемарљив 🙂 Планирано време пешачења: око четири сата. Тежина стаза: Лака\, за све узрасте планинара. \n   \nДодатак акцији је одлазак у Богатић\, тачније речено у бању „Јокин Граб“ на купање\, освежење\, бањање у термалним водама температуре 39 степени у трајању око један и по сат (улазница се плаћа 300 динара по особи). \nОчекујем да се вратимо у Београд\, стигнемо на велики паркинг испред Сава центра до 21 и 30 часова. \nОПРЕМА: Мали ранац са водом и храном (воће\, сендвич\, слаткиши) за једнодневни излет\, планинарске ципеле\, односно чвршће спортске патике са Вибрам ђоном. Понети опрему за купање у бањи Јокин Граб! Одећа прилагођена временским приликама\, ветровка и пресвлака\, заштита од сунца\, кише\, ветра. \nХРАНА и Пиће: Из свог ранца. Кафу можемо наручити\, као и сендвич по доласку у Засавицу у ресторану\, а пре поласка на стазу. Ручак имамо по завршетку стазе у ресторану СРП Засавица. \nПРИЈАВА за акцију код водича – Борис Братић\, позивом на број 064 99 248 11 или SMS\, преко Viber-a на број 063 11 357 99 E-mail: instruktorboris@gmail.com \nНа акцију се иде\, реализоваће се без обзира на временску прогнозу! \nИзнос Котизације: 1.800 динара \nКотизација за акцију обухвата реалне трошкове организације и превоза\, не обухвата исхрану\, улазнице и индивидуалне трошкове\, непрофитног је карактера и зависи од више елемената. Уплата за акцију је обавезна приликом пријаве. \nДОБРО ДОШЛИ НА ОВУ ИЗУЗЕТНУ АКЦИЈУ – АВАНТУРУ ЗА ПАМЋЕЊЕ! \nВаш Клуб планинара „АВАНТУРИСТА„ \nВАЖНЕ НАПОМЕНЕ: Учесници акције „Засавица 2022 + бања Јокин Граб“ дана 2. Октобар 2022. планинаре на сопствену одговорност\, уз дужно придржавање Правилника о безбедности и одговорности у извођењу планинарских активности Планинарског Савеза Србије. \nНапомињемо да према Закону о туризму (члан 86. став 4) за путовање (за једнодневне излете – акције\, путовања краћа од 24 сата) није обезбеђена заштита у погледу гаранција путовања. \nВодич задржава право измене плана или отказивања акције у случају непредвиђених околности\, односно недовољног броја пријављених учесника. Приликом пријаве за акцију\, обавезна је уплата износа котизације у целости\, ако је остало мање од 10 дана до реализације акције. У случају одустајања\, наћи адекватну замену\, у супротном уплаћени новац се не враћа\, нити преноси на наредне акције.
URL:https://planinariavanturisti.org.rs/dogadjaj/zasavica-2022/
LOCATION:Zasavica\, Zasavica\, Jokin Grab\, Sremska Mitrovica\, Srbija
CATEGORIES:Акција Гљиварска едукација,Високогорска акција,кањонска авантура,Пећинска авантура,Планинарска едукација,Планинарске акције,Трекинг акција
ATTACH;FMTTYPE=image/jpeg:https://planinariavanturisti.org.rs/wp-content/uploads/2021/09/Naslovna-Zasavica-2.jpg
ORGANIZER;CN="%D0%91%D0%BE%D1%80%D0%B8%D1%81%20%D0%91%D1%80%D0%B0%D1%82%D0%B8%D1%9B%20-%20%D0%91%D0%BE%D0%BA%D0%B8":MAILTO:instruktorboris@gmail.com
END:VEVENT
END:VCALENDAR