BEGIN:VCALENDAR
VERSION:2.0
PRODID:-//Клуб планинара &quot;АВАНТУРИСТА&quot; - ECPv5.14.1//NONSGML v1.0//EN
CALSCALE:GREGORIAN
METHOD:PUBLISH
X-WR-CALNAME:Клуб планинара &quot;АВАНТУРИСТА&quot;
X-ORIGINAL-URL:https://planinariavanturisti.org.rs
X-WR-CALDESC:Events for Клуб планинара &quot;АВАНТУРИСТА&quot;
BEGIN:VTIMEZONE
TZID:Europe/Paris
BEGIN:DAYLIGHT
TZOFFSETFROM:+0100
TZOFFSETTO:+0200
TZNAME:CEST
DTSTART:20220327T010000
END:DAYLIGHT
BEGIN:STANDARD
TZOFFSETFROM:+0200
TZOFFSETTO:+0100
TZNAME:CET
DTSTART:20221030T010000
END:STANDARD
END:VTIMEZONE
BEGIN:VEVENT
DTSTART;TZID=Europe/Paris:20221009T080000
DTEND;TZID=Europe/Paris:20221009T200000
DTSTAMP:20260423T001210
CREATED:20221004T130610Z
LAST-MODIFIED:20221004T150538Z
UID:8653-1665302400-1665345600@planinariavanturisti.org.rs
SUMMARY:Авантуристи у царству Гљива :-)
DESCRIPTION:Гљиварску акцију организује планинарски Клуб: \nКлуб Планинара „АВАНТУРИСТА“ из Београда – Гљиварска секција! \nАВАНТУРИСТИ У ЦАРСТВУ ГЉИВА \nГодина пета – Седми пут! \nГљиварење на Дивчибарама – планина Маљен \n9. Октобар 2022. – Недеља (од 8 до 20 часова) \nПОЛАЗАК: Окупљамо се на платоу – код паркинга испред центра „Сава“ (Савска страна зграде – сада у реновирању) и полазимо тачно у 8 сати. \nМолим вас\, дођите 10-ак минута раније како би смо кренули на време! \nПЛАН АКЦИЈЕ \nПутујемо Ибарском магистралом (можете ући успут) до Ћелија\, где скрећемо ка Лајковцу. \nУ центру Мионице правимо полусатну паузу за доручак по жељи у некој од пекара\, јутарњу кафу у локалној кафани\, куповину у продавници\, или само шетњу лепо уређеним варошким тргом. \n   \nДолазимо у центар Дивчибара\, недалеко од цркве\, и са плетеним корпама од прућа\, памучним торбицама\, или кесама од картона (никако од ПВЦ материјала) полазимо ка боровој и мешовитој шуми са циљем упознавања и брања проверених\, добро знаних јестивих врста гљива. \n   \nБеремо шумско благо уз искусног и признатог гљивара који је уједно и наш ментор на терену\, на стази. Шетамо по изузетно лепим боровим шумама на Дивчибарама. \nУ овом периоду године\, на овим просторима у боровим и мешовитим шумама би требало да се нађу следеће јестиве врсте гљива одличног квалитета. \n   \nНабројаћемо најзначајније врсте које тражимо и беремо: \n\nВисока Сунчаница – Macrolepiota procera\nЦрвени Дед – Турчин – Leccinum aurantiacum\nРујна млечница – Рујница – Lactarius deliciosus\nБорова Пужевица – Hygrophorus hypotheius\nЈелова Рујница – Lactarius salmonicolor\nЗрнати Слузавац (Слинавка\, Овчарка\, Вучји Хљебац) – Suillus granulatus\nСмрекина Рујница – Lactarius deterrimus\nБрезов Дед – Leccinum scabrum\nВелика Гнојиштарка – Coprinus comatus\n\nНа одабраном месту\, НА ОТВОРЕНОМ у природи\, након брања (најсвежија информација са терена да их има) – (Рујнице\, Дедове\, Овчарке и Сунчанице) печемо на таландари. \n   \nАктивно боравимо у природи 5-6 сати\, спознајемо\, едукујемо се\, детерминишемо\, беремо и спремамо гљиве. \nСтаза коју прелазимо у потрази за гљивама је дуга око 10 км\, са малом висинском разликом. \n   \nСтаза није захтевна (шумски путеви\, стазе и богазе) спада у рекреативне и погодује свим узрастима љубитеља природе\, гљива и планинарења. \nНакон детаљне провере убраних\, спремања гљива на таландари и конзумације у природи\, поспремамо терен\, и иза себе остављамо све чисто и безбедно\, и полазимо за Београд. Евентуално у повратку правимо краћу успутну паузу у Лајковцу у одличној посластичарници 🙂 \n   \nСа Дивчибара полазимо најкасније у 17 часова\, како би уз успутну паузу у Лајковцу\, стигли на велики паркинг испред центра „Сава„ до 20 часова\, а можда и који минут пре. \nОПРЕМА: Мали ранац (најбоље само корпа) са водом и храном (сендвич и чоколадице) за једнодневни излет\, гумене чизме за кретање шумом или планинарске ципеле – гојзерице\, камашне могу\, а не морају (нису услов)\, плетена корпа од прућа\, памучна торбица или кеса од картона за брање гљива и ножић обавезно\, пластична посуда или картонски тањирић + виљушка (прибор за конзумацију гљива са таландаре)\, одећа прилагођена временским приликама и пресвлака. Штапови за планинарење вам само сметају\, јер носите корпу\, осим ако сте навикли и не можете без њих. Понети за сваки случај и батеријску (најбоље чеону) лампу. \nВАЖНА НАПОМЕНА: На овој лепој планинско – едукативно – гљиварској акцији\, креативно СВИ учествујемо у брању и потом припремању гљива на таландари (колегијални приступ)! \nХРАНА: Из свог ранца или корпе. Доручкујемо\, а можемо и попити кафу у Мионици. По обављеном гљиварењу\, спремамо СВИ заједно гљиве\, печемо на таландари\, и обедујемо на терену у природи а као закуска нас чека посластичарница у Лајковцу 🙂 \nЈОШ ВАЖНИЈЕ – НАЈВАЖНИЈЕ је то да по повратку са терена сви НАЈПРЕ истресамо гљиве из своје котарице на преглед стручњацима – ГЉИВАРИМА\, како би се свака убрана печурка преконтролисала и са сигурношћу детерминисала! \nПРИЈАВА за акцију код водича – Борис Братић\, позивом на број 064 99 248 11 или SMS\, преко Viber-a на број 063 11 357 99 E-mail: instruktorboris@gmail.com \nНа акцију се иде\, реализоваће се без обзира на временску прогнозу! \nИзнос Котизације: 2.000 динара \nКотизација за акцију обухвата реалне трошкове организације и превоза\, не обухвата исхрану\, улазнице и индивидуалне трошкове\, непрофитног је карактера и зависи од више елемената. Уплата за акцију је обавезна приликом пријаве. \nДОБРО ДОШЛИ НА ОВУ ИЗУЗЕТНУ ГЉИВАРСКУ АКЦИЈУ! \nВаш Клуб планинара „АВАНТУРИСТА„ \nВАЖНЕ НАПОМЕНЕ: \nНапомињемо да према Закону о туризму (члан 86. став 4) за путовање (за једнодневне излете – акције\, путовања краћа од 24 сата) није обезбеђена заштита у погледу гаранција путовања. \nВодич задржава право измене плана или отказивања акције у случају непредвиђених околности\, односно недовољног броја пријављених учесника. Приликом пријаве за акцију\, обавезна је уплата износа котизације у целости\, ако је остало мање од 10 дана до реализације акције. У случају одустајања\, наћи адекватну замену\, у супротном уплаћени новац се не враћа\, нити преноси на наредне акције.
URL:https://planinariavanturisti.org.rs/dogadjaj/avanturisti-u-carstvu-gljiva-7/
LOCATION:Divčibare\, Mionica\, Divčibare\, Golubac\, Planina Maljen\, Srbija
CATEGORIES:Акција Гљиварска едукација,Планинарска едукација,Планинарске акције,Трекинг акција
ATTACH;FMTTYPE=image/jpeg:https://planinariavanturisti.org.rs/wp-content/uploads/2022/10/Naslovna-Avanturisti-u-carstvu-gljiva-Oktobar-2021.jpg
ORGANIZER;CN="%D0%91%D0%BE%D1%80%D0%B8%D1%81%20%D0%91%D1%80%D0%B0%D1%82%D0%B8%D1%9B%20-%20%D0%91%D0%BE%D0%BA%D0%B8":MAILTO:instruktorboris@gmail.com
END:VEVENT
END:VCALENDAR