BEGIN:VCALENDAR
VERSION:2.0
PRODID:-//Клуб планинара &quot;АВАНТУРИСТА&quot; - ECPv5.14.1//NONSGML v1.0//EN
CALSCALE:GREGORIAN
METHOD:PUBLISH
X-WR-CALNAME:Клуб планинара &quot;АВАНТУРИСТА&quot;
X-ORIGINAL-URL:https://planinariavanturisti.org.rs
X-WR-CALDESC:Events for Клуб планинара &quot;АВАНТУРИСТА&quot;
BEGIN:VTIMEZONE
TZID:Europe/Paris
BEGIN:DAYLIGHT
TZOFFSETFROM:+0100
TZOFFSETTO:+0200
TZNAME:CEST
DTSTART:20240331T010000
END:DAYLIGHT
BEGIN:STANDARD
TZOFFSETFROM:+0200
TZOFFSETTO:+0100
TZNAME:CET
DTSTART:20241027T010000
END:STANDARD
END:VTIMEZONE
BEGIN:VEVENT
DTSTART;TZID=Europe/Paris:20240301T170000
DTEND;TZID=Europe/Paris:20240303T210000
DTSTAMP:20260423T015428
CREATED:20211207T165258Z
LAST-MODIFIED:20240218T163711Z
UID:8044-1709312400-1709499600@planinariavanturisti.org.rs
SUMMARY:Национални паркови ТАРА и ДРИНА :-)
DESCRIPTION:Национални паркови ТАРА и ДРИНА 🙂 \n1 – 3. Март 2024. – (петак у 17 часова – недеља око 21 час) \nДруги дан – СУБОТА => Национални Парк ТАРА – Калуђерске Баре – језеро Јаревац – видиковци Соколарица – Споменик на Боровом брду – Манастир Свих Светих – видиковац Црњесково – Калуђерске Баре \nТрећи дан – НЕДЕЉА => Калуђерске Баре – Бајина Башта – ГП Скелани (БиХ) – Национални Парк ДРИНА (РС) – Подравањ – видиковац Погледала \nПОЛАЗАК:  Окупљамо се на паркингу испред Центра „Сава“ (савска страна – Улаз А) и полазимо тачно у 17 часова у петак 1. Март 2024. године \nМолим вас\, дођите 15-ак минута раније како би смо кренули на време! \nПЛАН АКЦИЈЕ \nПутујемо ИБАРСКОМ магистралом до Ћелија (пауза у маркету ДИС за набавку) а затим кроз Лајковац и Ваљево до чувеног ресторана „ПЛАТАНИ“. У ресторану вечерамо\, односно ако не вечерате\, можете попити кафу\, пиће или појести палачинке уколико желите 🙂 \n   \nПут настављамо кроз живописне пределе преко Јабланице и Сушице (брана Стубо – Ровни)\, Дебелог Брда\, Рогачице и Бајине Баште до Калуђерских Бара на Тари\, где се смештамо у приватне куће. Собе су углавном дво и тро креветне. По смештају у собе се окупљамо (по жељи) у просторији за дружење у Радетовој кући. Слободне активности и ноћење. \nДруги дан – Субота 2. Март \nУстајање у 7 а полазак на стазу у 8 сати. По жељи јутарња кафа код наших домаћина. У трпезарији можете доручковати храну коју сте понели од куће\, купили у хипермаркету ДИС у петак. Као и доручковати у хотелу „Тара“ уз претходну најаву. \n   \nПреко платоа Калуђерских Бара\, стижемо на почетак шетне стазе „Јаревац“ која води кроз изузетно живописно подручје потока Јаревац. Прелазимо преко ливада и дрвених мостића „Борови“\, „Јаревац“ и „Радмиловац“. \n   \nЗатим улазимо у шуму одакле почиње планинарска стаза. Пратећи поток Јаревац\, кога местимично више пута прелазимо по плитком кориту каменитог дна\, уживаћемо у погледу на столетна стабала смрче и омрике прекривена снегом\, камењу обраслом зеленом маховином и жубору планинског потока 🙂 \n   \nСтаза се завршава на улазу у Резерват природе „Клисура Рача“ код бране и језера Јаревац\, код кога правимо паузу. \n   \nБлагим успоном од језера пролазимо поред старог хотела „Тара“ а затим асфалтним и макадамским путем под снегом долазимо до три видиковца Соколарица. Ови видиковци се налазе изнад кањона реке Раче и са њих се обрушавају стрме стене окићене високим стаблима борова. \n   \nУз хук воде који се чује из кањона\, шири се поглед према Рачанској Шљивовици а са друге стране ка археолошком локалитету „Градина“\, видиковцу Црњесково и усеку који се спушта према манастиру Рача. Они који буду желели мало више адреналина могу се упутити према врху стене завршног видиковца до које се стиже потпуно безбедно\, имајући у виду да је постављена сајла. \n   \nСа видиковца Соколарица\, истим путем се враћамо до језера Јаревац и успоном који траје 10-ак минута стижемо до раскрснице шумских путева\, на којој скрећемо ка споменику на Боровом брду. \n   \nОд споменика пешачимо четинарском шумом ка изузетно лепом видиковцу „Црњесково“ са кога се као на длану види резерват „Клисура Раче“\, стара „Градина“\, „Крстата стена“\, манастир Рача и Бајина Башта у даљини 🙂 Са видиковца крећемо у правцу Манастира Свих Светих (Сабор Српских Светитеља). Посећујемо манастир и правимо краћу паузу. У наставку\, пролазећи поред ергеле коња и кроз викенд насеље кружно затварамо стазу на Калуђерским Барама. \n   \nНаша данашња стаза иде највећим делом кроз четинарску шуму и пространим ливадама\, обилује лепим пејзажима\, релативно је лака\, приступачна свим старосним групацијама планинара и истинских љубитеља природе. Планирана стаза је једним делом кружна\, и дужа од 20 км\, са малом висинском разликом. Постоји могућност скраћења стазе и прилагођавање укупне километраже учесницима Акције. Имаћемо целодневни активни боравак у природи. \n   \nУ први сумрак се враћамо на Калуђерске Баре. Можемо имати хотелску вечеру око 19 часова уз претходни договор са управом ресторана (није обавезна\, нити урачуната у котизацију за акцију) или у сопственој режији. Након вечере\, слободне активности до одласка на спавање. \nТрећи дан – Недеља 3. Март \nУстајемо\, припремамо се за Акцију\, доручкујемо\, своје спаковане ствари уносимо у комбије и крећемо у правцу Бајине Баште и Скелана\, тачно у 8 сати. По жељи јутарња кафа код наших домаћина. У трпезарији можете доручковати храну коју сте понели од куће\, купили у хипермаркету ДИС у петак\, као и доручковати у хотелу „Тара“ (шведски сто) уз претходну најаву. \n   \nПрелазимо гранични прелаз са БиХ (потребна лична карта или пасош) и улазимо у Републику Српску. Затим преко Скелана\, пролазећи изнад Перућачког језера\, долазимо до рудника боксита\, код кога излазимо из возила и шумским путем се преко Подравња крећемо према литици која се обрушава у кањон Дрине. \n   \nСа видиковаца „Погледала“\, из позиције Националног парка Дрина у Републици Српској\, пружа се несвакидашњи поглед који дословно оставља без даха – „кањон Дрине“ која у свом току из правца Вишеграда прави заокрет\, окружујући Велики Крај\, строги резерват природе Националног парка Тара. Укупна дужина данашњих стаза је око 12 км. Опчињени погледом са видиковаца\, враћамо се до нашег возила и крећемо за Београд. \n   \nУ повратку ка Београду\, на изласку из Бајине Баште застајемо крај ресторана „Студенац“ како би фотографисали јединствену „кућицу на Дрини“ 🙂 \n   \nПутујемо преко Дебелог Брда а паузу за вечеру правимо у ресторану „ПЛАТАНИ“ у Ваљеву. \n Планирани повратак у Београд\, на паркинг испред Центра Сава је око 21 час. \nОПРЕМА: Мали ранац са водом и храном за једнодневне излете\, планинарске ципеле\, камашне. Прибор за тоалет\, пешкир\, спаваћица (пиџама). Одећа прилагођена временским приликама и пресвлака. Обавезно ветровка\, капа и рукавице\, имајте у виду хладније зимско време на планини. Понети батеријску\, најбоље чеону лампу а пожељно је и штапове за планинарење. \nХРАНА: Из свог ранца. Можете купити храну и пиће по жељи у маркету „ДИС“ код Лазаревца на првој паузи у петак. У петак и недељу имамо вечеру у ресторану Платани у Ваљеву а у суботу могућа вечера у хотелу Тара на Калуђерским Барама или у сопственој режији. \nПРИЈАВА за акцију код водича – Борис Братић\, позивом на број 064 99 248 11 или SMS\, преко Viber-a на број 063 11 357 99 E-mail: instruktorboris@gmail.com \nНа акцију се иде\, реализоваће се без обзира на временску прогнозу! \nИзнос Котизације: 8.500 динара \nБрој места за акцију је ограничен – путујемо комбијима! \nКотизација обухвата: превоз комбијима\, два ноћења на Тари у приватном смештају и трошкове организације \nКотизација НЕ обухвата: исхрану\, евентуалне улазнице и ваше индивидуалне трошкове \nКотизација за акцију обухвата реалне трошкове организације и превоза\, не обухвата исхрану\, улазнице и индивидуалне трошкове\, непрофитног је карактера и зависи од више елемената. Уплата за акцију је обавезна приликом пријаве\, на текући рачун. \nДОБРО ДОШЛИ НА ОВУ ВРХУНСКУ АКЦИЈУ – АВАНТУРУ ЗА ПАМЋЕЊЕ! \nВаш Клуб планинара „АВАНТУРИСТА“ \nВАЖНЕ НАПОМЕНЕ: Учесници викенд акције „Национални паркови ТАРА и ДРИНА“ у периоду од 1– 3. Марта 2024. планинаре на сопствену одговорност\, уз дужно придржавање Правилника о безбедности и одговорности у извођењу планинарских активности Планинарског Савеза Србије. На акцију се иде\, реализоваће се без обзира на временску прогнозу! \nНапомињемо да према Закону о туризму (члан 86. став 4) за путовање (за једнодневне излете – акције\, путовања краћа од 24 сата) није обезбеђена заштита у погледу гаранција путовања. \nВодич задржава право измене плана или отказивања акције у случају непредвиђених околности\, односно недовољног броја пријављених учесника. Приликом пријаве за акцију\, обавезна је уплата износа котизације у целости\, ако је остало мање од 10 дана до реализације акције. У случају одустајања\, наћи адекватну замену\, у супротном уплаћени новац се не враћа\, нити преноси на наредне акције. \nУживајте у тренуцима за памћење са Авантуристима на Тари 🙂
URL:https://planinariavanturisti.org.rs/dogadjaj/np-tara-drina-2/
LOCATION:Tara – Kaluđerske Bare\, Tara - Kaluđerske Bare\, Bajina Bašta\, Srbija
CATEGORIES:Акција Гљиварска едукација,Високогорска акција,кањонска авантура,Пећинска авантура,Планинарска едукација,Планинарске акције,Трекинг акција
ATTACH;FMTTYPE=image/jpeg:https://planinariavanturisti.org.rs/wp-content/uploads/2021/12/Насловна-Tara-Март-2024.jpg
ORGANIZER;CN="%D0%91%D0%BE%D1%80%D0%B8%D1%81%20%D0%91%D1%80%D0%B0%D1%82%D0%B8%D1%9B%20-%20%D0%91%D0%BE%D0%BA%D0%B8":MAILTO:instruktorboris@gmail.com
END:VEVENT
END:VCALENDAR