BEGIN:VCALENDAR
VERSION:2.0
PRODID:-//Клуб планинара &quot;АВАНТУРИСТА&quot; - ECPv5.14.1//NONSGML v1.0//EN
CALSCALE:GREGORIAN
METHOD:PUBLISH
X-WR-CALNAME:Клуб планинара &quot;АВАНТУРИСТА&quot;
X-ORIGINAL-URL:https://planinariavanturisti.org.rs
X-WR-CALDESC:Events for Клуб планинара &quot;АВАНТУРИСТА&quot;
BEGIN:VTIMEZONE
TZID:Europe/Paris
BEGIN:DAYLIGHT
TZOFFSETFROM:+0100
TZOFFSETTO:+0200
TZNAME:CEST
DTSTART:20240331T010000
END:DAYLIGHT
BEGIN:STANDARD
TZOFFSETFROM:+0200
TZOFFSETTO:+0100
TZNAME:CET
DTSTART:20241027T010000
END:STANDARD
END:VTIMEZONE
BEGIN:VEVENT
DTSTART;TZID=Europe/Paris:20240518T060000
DTEND;TZID=Europe/Paris:20240518T230000
DTSTAMP:20260425T124221
CREATED:20170304T010633Z
LAST-MODIFIED:20240426T222737Z
UID:1444-1716012000-1716073200@planinariavanturisti.org.rs
SUMMARY:Тресковац - На врху давно охлађеног вулкана :-)
DESCRIPTION:Тресковац – На врху давно охлађеног вулкана 🙂 \nАвантура у парку природе „Гвоздена Врата“ у Румунији \n18. Мај 2024. – Субота (од 6 до 23 часа) \nПОЛАЗАК: Окупљамо се на платоу – код паркинга испред центра „Сава“ (Савска страна зграде – Сада у реновирању) и полазимо тачно у 6 сати. \nМолим вас\, дођите 10-ак минута раније како би смо кренули на време! \nПЛАН АКЦИЈЕ \nПутујемо преко Панчева\, Ковина и Беле Цркве до граничног прелаза Калуђерово – Најдаш са Румунијом\, без успутних пауза. По преласку границе\, пут настављамо ка Дунаву и градићу „Молдова Нова“. \n   \nПрва успутна пауза је у Румунији\, на изласку из града\, на пумпи „PETROM“ за потребе тоалета а можемо и купити кафу из аутомата\, освежавајуће напитке\, готове сендвиче\, слаткише и платити искључиво лејима или платним картицама 🙂 \n   \nВозећи се Румунском магистралом дуж леве обале Дунава\, уживаћемо све време у погледу на Српску обалу реке\, Голубачку тврђаву\, наше бројне тунеле\, ушћа притока и мале речне заливе све до одличног погледа на модерну грађевину којом је покривен археолошки локалитет Лепенски Вир 🙂 \n   \nТоком нашег пута ка одредишту\, месту поласка на успон ка врху Тресковац\, видећемо изблиза чувену стену на улазу у Ђердапску клисуру „БАБАКАЈ“\, Румунске Ветрењаче\, симпатични пиратски ресторан на самој обали реке\, више лепо уређених поседа и ресторанчића\, остатке тврђаве у сред моћне реке који одолевају деценијама уназад од изградње хидроелектране Ђердап I\, модерне бунгалове на води\, као и аветињски напуштено насеље – градић „COZLA“ са својим вишеспратницама. \n   \nНа магистрали имамо и извор – чесму квалитетне пијаће воде\, код кога можемо застати\, а свакако у повратку и обићи малу пећину у стени изнад пута. \n   \nТребало би да стигнемо око 11 часова до места на магистрали (95 мнв) са кога полазимо на успон ка врху Тресковац (Varful Trescovat 755 мнв).  \n   \nЕкотуристичка и маркирана планинарска стаза почиње недалеко од магистрале умереним успоном кроз шуму ширим колским путем\, до изласка на ливаду са које видимо као на длану наш „Лепенски Вир“ \n   \nЗатим путем поред воћњака\, салаша\, старе куће и даље шумском стазом у благом\, па јачем успону до изласка на врх Тресковац. Претходних година смо затицали и прелепе коње на цветним ливадама\, мноштво печурака као и мештане који разумеју српски језик и табле са информацијама. \n   \nВременски већи део успона\, одушевљени погледом пратимо грандиозну охлађену вулканску громаду. А на врху Тресковца уживамо у фантастичном погледу на моћни Дунав у свом великом луку и врхове на нашој страни „Соколовац и Чока Њалта“ уздигнуте високо изнад реке.  \n   \nВиди се Мироч у даљини и ушће Бољетинске реке у Дунав. Пространство и лепота погледа са врха нам неће дозволити да брзо кренемо у спуст и повратак ка нашем возилу. \n   \nЗадовољни призором са врха\, након одмора и фоткања\, полазимо другом\, можда и лепшом стазом у спуст ка нашем возилу. Она је спој шумских и ливадских путева са дивним погледима на Дунав. \n   \nУкупна дужина наше кружне стазе износи 10\,7 км\, са кумулативним успоном од 660 м. Највећим делом иде кроз шуму\, спада у средње захтевне стазе. Изузетно је атрактивна и релаксирајућа. Кретаћемо се лагано\, уживалачки и са задовољством је можемо прећи за око шест и по сати са све паузама. \n   \nУ завршници спуста нас чека очаравајући видиковац са стена и простране ливаде крај салаша а недалеко по изласку на магистралу и наше возило којим одмах крећемо пут Београда. \n   \nУколико пођемо за Београд у 17 и 30 часова\, направимо једну успутну паузу у Румунији за обилазак мале пећине у стени и на граници не изгубимо више од сат времена\, могли би стићи око 22 и 30 испред центра Сава. Идеја је да нам успутне паузе буду што краће\, с тога не би свраћали у ресторан у повратку\, па вас молим\, понесите довољно хране\, односно по вашим дневним потребама за једнодневни излет. \nНАПОМЕНЕ: Обавезно понети пасош за прелазак државне границе! \n \nЗа улазак у Румунију је неопходно имати са собом важећи пасош. \nОПРЕМА: Мали ранац са водом (на стази нема извора воде) и храном за једнодневни излет (целодневни боравак у природи)\, планинарске ципеле. Одећа прилагођена временским приликама\, ветровка\, капа\, кабаница\, имајте у виду могуће хладније време на планини и пресвлака. Понети батеријску лампу и штапове за планинарење. \nХРАНА: Из свог ранца. Воду\, кафу\, освежавајућа пића и слаткише можемо купити у доласку на првој паузи у Румунији на пумпи Петром. \nПРИЈАВА за акцију код водича – Борис Братић\, позивом на број 064 99 248 11 или SMS\, преко Viber-a на број 063 11 357 99 E-mail: instruktorboris@gmail.com \nНа акцију се иде\, реализоваће се без обзира на најаву временске прогнозе! \nИзнос Котизације: 2.700 динара \nКотизација за акцију обухвата реалне трошкове организације и превоза\, не обухвата исхрану\, улазнице и индивидуалне трошкове\, непрофитног је карактера и зависи од више елемената. Уплата за акцију је обавезна приликом пријаве. \nДОБРО ДОШЛИ НА ОВУ ИЗУЗЕТНУ ПРОЛЕЋНУ АКЦИЈУ И АВАНТУРУ ЗА ПАМЋЕЊЕ! \nВаш Клуб планинара „АВАНТУРИСТА„ \nВАЖНЕ НАПОМЕНЕ: Учесници акције планинаре на сопствену одговорност\, уз дужно придржавање Правилника о безбедности и одговорности у извођењу планинарских активности Планинарског Савеза Србије. На пут се иде без обзира на најаву временске прогнозе! \nНапомињемо да према Закону о туризму (члан 86. став 4) за путовање (за једнодневне излете – акције\, путовања краћа од 24 сата) није обезбеђена заштита у погледу гаранција путовања. \nВодич задржава право измене плана или отказивања акције у случају непредвиђених околности\, односно недовољног броја пријављених учесника. Приликом пријаве за акцију\, обавезна је уплата износа котизације у целости\, ако је остало мање од 10 дана до реализације акције. У случају одустајања\, наћи адекватну замену\, у супротном уплаћени новац се не враћа\, нити преноси на наредне акције.
URL:https://planinariavanturisti.org.rs/dogadjaj/treskovac-vulkanski-vrh-8/
LOCATION:Svinita\, Varful Trescovat\, Svinita\, Rumunija
CATEGORIES:Акција Гљиварска едукација,Високогорска акција,кањонска авантура,Пећинска авантура,Планинарска едукација,Планинарске акције,Трекинг акција
ATTACH;FMTTYPE=image/jpeg:https://planinariavanturisti.org.rs/wp-content/uploads/2017/03/Naslovna-Treskovac-3-1.-Maj-2022.jpg
ORGANIZER;CN="%D0%91%D0%BE%D1%80%D0%B8%D1%81%20%D0%91%D1%80%D0%B0%D1%82%D0%B8%D1%9B%20-%20%D0%91%D0%BE%D0%BA%D0%B8":MAILTO:instruktorboris@gmail.com
END:VEVENT
END:VCALENDAR