BEGIN:VCALENDAR
VERSION:2.0
PRODID:-//Клуб планинара &quot;АВАНТУРИСТА&quot; - ECPv5.14.1//NONSGML v1.0//EN
CALSCALE:GREGORIAN
METHOD:PUBLISH
X-WR-CALNAME:Клуб планинара &quot;АВАНТУРИСТА&quot;
X-ORIGINAL-URL:https://planinariavanturisti.org.rs
X-WR-CALDESC:Events for Клуб планинара &quot;АВАНТУРИСТА&quot;
BEGIN:VTIMEZONE
TZID:Europe/Paris
BEGIN:DAYLIGHT
TZOFFSETFROM:+0100
TZOFFSETTO:+0200
TZNAME:CEST
DTSTART:20260329T010000
END:DAYLIGHT
BEGIN:STANDARD
TZOFFSETFROM:+0200
TZOFFSETTO:+0100
TZNAME:CET
DTSTART:20261025T010000
END:STANDARD
END:VTIMEZONE
BEGIN:VEVENT
DTSTART;TZID=Europe/Paris:20260315T070000
DTEND;TZID=Europe/Paris:20260315T210000
DTSTAMP:20260419T194036
CREATED:20180322T231957Z
LAST-MODIFIED:20260310T172053Z
UID:4653-1773558000-1773608400@planinariavanturisti.org.rs
SUMMARY:Манастирица – водопад Скакало - Дивчибаре - Подбукови (Миља)
DESCRIPTION:Манастирица – водопад Скакало – Дивчибаре – Подбукови (Миља) \n Осеченица – стара воденица на реци Манастирица – Суботићи – чесма – водопад Скакало – Дивчибаре – видиковац Љути Крш – камп Бреза – Подбукови (Миља) \nТрадиционална акција Клуба планинара „АВАНТУРИСТА“ – Бисер пролећно – јесењих Акција клуба! \n15. Март 2026. – Недеља (Полазимо у 7 сати а враћамо се око 21 час) \nИСКОРИСТИТЕ НА НАЈЛЕПШИ НАЧИН ВАШ СЛОБОДАН ДАН! \nПОЛАЗАК: Окупљамо се на платоу – код паркинга\, испред центра „Сава“ (Савска страна зграде – Гледа ка реци Сава) и полазимо тачно у 7 сати. \nТачно место поласка: куцајте на GOOGLE MAPS – „parking iza sava centra“ \nМолим вас\, дођите 10-ак минута раније како би смо кренули на време! \nПешачимо ка водопаду Скакало на реци Манастирица лепим шумско-колским стазама\, посећујемо водопад када је најлепши и уживамо у погледу са видиковца на Љутом Кршу. Током пешачења ће бити успона и спуштања шумским и колским путевима и стазама\, прелазака мостића\, излазака из шуме на чистину\, а све у циљу максималног уживања у изузетно лепој природи и успутним видиковцима. \nПЛАН АКЦИЈЕ: \nПутујемо Ибарском магистралом (можете ући успут\, дуж трасе пута\, само нагласите приликом пријављивања за акцију) до Ћелија\, где скрећемо ка Лајковцу и Дивцима. \nУ центру Мионице правимо полусатну или краћу паузу у зависноси од бројчаног стања групе\, за доручак по жељи у одличној пекари\, јутарњу кафу у локалној кафани\, куповину у продавници\, или само шетњу лепо уређеним варошким тргом по вашој жељи. \n   \nНакон паузе се возимо до раскрснице са колским путем недалеко од каменолома у атару села Осеченица\, подгорини планине Маљен. Уживање је возити се овом деоницом пута због прелепих пејсажа. Стаза нас води ка старој воденици породице Суботић у истоименом засеоку на реци Манастирица. \n   \nОд воденице\, прелазимо мостић на Манастирици и вијугавим колским путем поред кућа породица Суботића и Станковића долазимо до задње куће у засеоку\, домаћинства бака Љиљане Станковић. Прошле године смо обишли цркву Светог Николе у Крчмару\, потрудићемо се и ове! \n   \nПовише њене куће улазимо у шумску стазу\, затим колским\, гребенским путем\, преко више поточића\, пратећи узводно  реку Манастирицу високо изнад ње\, а не како неки мисле кроз кањон (рекреативна планинска шетња за свакога)\, стижемо до чесме са квалитетном-лековитом пијаћом водом. \n   \nОд чесме\, пар стотина метара асфалтом\, улазимо у шуму и спуштамо се у стрмом спусту\, обезбеђеном од стране водича Ужетом-гелендером\, до прелепог водопада „Скакало“ висине 25 метара. \n   \nВодопад је управо у ово доба године најлепши\, раскошан и моћан јер обилује великом количином воде\, од снега који се убрзано топи. \n   \nСпуст кроз шуму до величанственог водопада Скакало је кратак\, али изузетно стрм\, па је потребан додатан опрез\, спретност\, а и помоћ пријатеља неће изостати! \n   \nБиће постављен гелендер (водичко уже)\, ради сигурности и безбедности свих нас. Враћамо се до чесме истом стазом\, где нас чека наш бус\, којим се превозимо неколико километара даље до полазне тачке стазе ка видиковцу „Љути Крш“. Односно\, молићу вас за стрпљење како би водич обезбедио долазак возила до паркинга код чесме уколико наша група буде мања! Стаза није кружна већ линијска! \n   \nШетајући стазом кроз четинарску шуму као из бајке\, долазимо до видиковца са кога пуца поглед на хоризонте предивних Ваљевских планина. Са видиковца полукружно затварамо стазу пролазећи кроз насеље камп „Бреза“ са пуно лепих викендица и уређених окућница на Дивчибарама. \n   \nДужина ове изузетно лепе планинске стазе износи око 12\,5 км + додатних 3 км по жељи. Прелази се за око пет сати хода са све успутним паузама за фото и друга уживања. Највећим делом иде уређеним стазама кроз шуму и колским путевима\, преко потока и речица\, са изузетно лепим видиковцима. \n   \nНије пуно захтевна\, лака до средње тежине\, спада у рекреативне и погодује свим узрастима планинара. \n   \nСа Дивчибара се возимо\, спуштамо преко Каоне до уласка у Подбукове\, домаћинство Обрадовић\, где смо радо виђени и добродошли гости. Ручамо домаћу храну направљену вредним рукама наше домаћице Миље. \n   \nАкцију завршавамо у пријатном амбијенту домаћинства Обрадовић\, где за нас спрема врхунски ручак наша домаћица Миља о чијим специјалитетима испод сача се прича на далеко. Ручак обухвата: предјело (сир\, кајмак)\, домаћа чорба\, Миљин специјалитет испод сача (гриловано поврће\, кромпир и две врсте меса (пилеће и свињско)\, сезонска салата\, пројице и домаћи хлеб. Једете колико можете и све ово за 1.300 динара по особи. Постоји могућност договора са домаћицом уколико желите посан оброк (пастрмка + пасуљ пребранац) Уплате за ручак ће бити у нашем превозу на дан акције\, ради тачног броја оброка. \n   \nНакон ручка\, односно вечере и окрепљења код Миље крећемо пут Београда. Очекивано време повратка на велики паркинг испред центра „Сава“ је око 21 час. \nОПРЕМА: Мали ранац са водом и храном за једнодневни излет\, планинарске ципеле\, опционо камашне. Одећа прилагођена временским приликама (ветровка\, капа и рукавице)\, имајте у виду још увек зимско време и могућ ветар на планини\, пресвлака. Пожељно је понети и штапове за ходање\, опционо и чеону батеријску лампу. \nХРАНА: Из свог ранца. У центру Мионице доручкујемо и пијемо јутарњу кафу. По завршетку планинско – пешачког дела акције\, можемо имати код наше домаћице Миље у Подбуковима комплетан ручак\, као и купити њене домаће производе за понети својој кући. \nПРИЈАВА за акцију код водича – Борис Братић\, позивом на бројеве 063 11 357 99 и/или 064 99 248 11 или SMS поруком\, односно путем Viber-а (како год будете желели) \nНа акцију се иде\, реализоваће се без обзира на најаву временске прогнозе! \nИзнос Котизације: 2.800 динара (превоз минибусем или рентираним комбијем\, аутима) \n\nСвојим превозом 1.500 динара по особи\n\nКотизација за акцију обухвата реалне трошкове организације\, вођења и превоза\, путарине ако је има\, не обухвата исхрану\, евентуалне улазнице и ваше индивидуалне трошкове\, непрофитног је карактера и зависи од више елемената. Уплата за акцију је обавезна приликом вашег пријављивања за исту. \nДОБРО ДОШЛИ НА ОВУ ИЗУЗЕТНУ ПЛАНИНСКУ АКЦИЈУ – АВАНТУРУ ЗА ПАМЋЕЊЕ! \nВаш Клуб планинара „АВАНТУРИСТА„ \nВАЖНЕ НАПОМЕНЕ: Учесници планинске акције „Манастирица – водопад Скакало – Дивчибаре – Подбукови (Миља)“ дана 15. Март 2026. – Недеља – планинаре на сопствену одговорност\, уз дужно придржавање Правилника о безбедности и одговорности у извођењу планинарских активности Планинарског Савеза Србије. \nНапомињемо да према Закону о туризму (члан 86. став 4) за путовање (за једнодневне излете – акције\, путовања краћа од 24 сата) није обезбеђена заштита у погледу гаранција путовања. \nВодич задржава право измене плана или отказивања акције у случају непредвиђених околности\, односно недовољног броја пријављених учесника. Приликом пријаве за акцију\, обавезна је уплата износа котизације у целости\, ако је остало мање од 10 дана до реализације акције. У случају одустајања\, наћи адекватну замену\, у супротном уплаћени новац се не враћа\, нити преноси на наредне акције.
URL:https://planinariavanturisti.org.rs/dogadjaj/manastirica-vodopad-skakalo-5/
LOCATION:Divčibare\, Mionica\, Divčibare\, Golubac\, Planina Maljen\, Srbija
CATEGORIES:Акција Гљиварска едукација,Високогорска акција,кањонска авантура,Пећинска авантура,Планинарска едукација,Планинарске акције,Трекинг акција
ATTACH;FMTTYPE=image/jpeg:https://planinariavanturisti.org.rs/wp-content/uploads/2018/03/Naslovna-Manastirica-Jun-2020..jpg
ORGANIZER;CN="%D0%91%D0%BE%D1%80%D0%B8%D1%81%20%D0%91%D1%80%D0%B0%D1%82%D0%B8%D1%9B%20-%20%D0%91%D0%BE%D0%BA%D0%B8":MAILTO:instruktorboris@gmail.com
END:VEVENT
END:VCALENDAR