BEGIN:VCALENDAR
VERSION:2.0
PRODID:-//Клуб планинара &quot;АВАНТУРИСТА&quot; - ECPv5.14.1//NONSGML v1.0//EN
CALSCALE:GREGORIAN
METHOD:PUBLISH
X-WR-CALNAME:Клуб планинара &quot;АВАНТУРИСТА&quot;
X-ORIGINAL-URL:https://planinariavanturisti.org.rs
X-WR-CALDESC:Events for Клуб планинара &quot;АВАНТУРИСТА&quot;
BEGIN:VTIMEZONE
TZID:Europe/Paris
BEGIN:DAYLIGHT
TZOFFSETFROM:+0100
TZOFFSETTO:+0200
TZNAME:CEST
DTSTART:20260329T010000
END:DAYLIGHT
BEGIN:STANDARD
TZOFFSETFROM:+0200
TZOFFSETTO:+0100
TZNAME:CET
DTSTART:20261025T010000
END:STANDARD
END:VTIMEZONE
BEGIN:VEVENT
DTSTART;TZID=Europe/Paris:20260405T070000
DTEND;TZID=Europe/Paris:20260405T210000
DTSTAMP:20260419T193852
CREATED:20180214T191639Z
LAST-MODIFIED:20260403T130741Z
UID:4277-1775372400-1775422800@planinariavanturisti.org.rs
SUMMARY:Слапови и водопади Таорских врела
DESCRIPTION:Слапови и водопади Таорских врела \nТрадиционална акција Клуба планинара „АВАНТУРИСТА“ – Реприза јер сте ви то желели! \n5. Април 2026. – Недеља (Полазимо у 7 сати – враћамо се око 21 час) \nСело Радановци – споменик Ж. Ј. Шпанац на брду у Радановцима – Гребеном изнад Ћировине – Рудине (подножје) – ТАОРСКА ВРЕЛА – (Пепића воденица – ручак за већу групу) – Мајдан Сиге – Таорска стена (извор) – река Скрапеж – Бели поток – Косјерић (ресторан хотела Парк – за мању групу) \nПОЛАЗАК: Окупљамо се на платоу – односно на паркингу\, иза центра „Сава“ (Савска страна зграде – Гледа ка реци Сава) и полазимо тачно у 7 сати. \nТачно место поласка: куцајте на GOOGLE MAPS – „parking iza sava centra“ \nМолим вас\, дођите 10-ак минута раније како би смо кренули на време! \nПЛАН АКЦИЈЕ \nПутујемо Ибарском магистралом (Уколико вам одговара\, можете ући успут. Обавезно нагласите приликом пријаве за Акцију) до Ћелија\, где скрећемо ка Лајковцу\, затим брзом саобраћајницом ка Ваљеву. Паузу за доручак и јутарњу кафу правимо у центру Косјерића ако је група мања\, односно у Кафани „Јелен“ у Буковима уколико је група већа. \nУ наставку право уживање – вожња деоницом пута преко Каоне и Ражане због прелепих пејсажа 🙂 \nУ Косјерићу скрећемо за село Радановци\, а у Радановцима подно споменика Жикици Јовановићу Шпанцу\, излазимо из комбија или нашег буса и полазимо на пешачку стазу. \nМогућ је и алтернативни прилаз од „Сијања“ и кретање истом трасом у случају већег снега на путу. \n   \nНе дуго по поласку наилазимо на прелепи и моћни Бели поток\, изнад кога се листопадном шумском стазом крећемо ка ушћу у реку Скрапеж. Имамо и мањи каптирани извор успут. На пространој ливади око ушћа правимо краћу паузу за уживање. \n   \nДаље\, путем кроз четинарску шуму долазимо до широке долине са сеоским кућама изграђеним од заштићеног природног камена „СИГЕ“ и карактеристичног споменика војнику из првог светског рата. \n   \nНедалеко од споменика\, а близу ушћа Таорске реке у Скрапеж се налази величанствени водопад\, чија количина воде у рано пролеће никога не оставља равнодушним. \n Управо је буђење пролећа најлепше на овом месту 🙂 \n   \nУ наставку нашег кретања ка „Стени“ преко слапова\, главном изворишту (каптажи) Таорске реке за потребе водопривреде Косјерић зазиданом у стени\, следе бројни мањи и већи водопади и каскаде са воденицама\, некада их је било 14\, од којих је само једна обновљена – Пепића воденица\, у употреби\, а ту су још увек и сведоче о давно прошлим временима процвата читавог овог краја. \n   \nЛепа је вест\, да је на темељима некадашње никла потпуно НОВА воденица – Пепића воденица\, овога пута више за потребе посетилаца – туриста и планинара. \nПауза на „Врелима“ је идеална за потпуно уживање и опуштање у природној хармонији\, уз фотографисање и мир који доносе слапови реке. \nРелаксирани и освежени енергијом воде (врела) крај које уживамо у амбијенту полазимо ка засеоку Антонијевића у долини реке Скрапеж. Колским а делимично и новим асвалтним путем поред старог гробља на билу\, пролазимо сеоску продавницу и школу.  \nПутем\, познатијим као Ћировина\, затварамо круг и долазимо до раскрснице са које смо пошли у нашу авантуру прелепим крајолицима. \n   \nНа овом путу\, све време уживамо у видицима – погледу на Ваљевске планине\, Субјел\, Овчар и Каблар у даљини\, као и околне висове и врхове. \nПо окупљању код комбија\, биће времена за оне који буду желели да направе још корак више и попну се на брдо и обиђу споменик Жикици Јовановићу Шпанцу са кога се пружа поглед на околне и врхове у даљини. \nУкупна дужина стазе износи око 14 км са кумулативним успоном од око 600 м. Најнижа тачка је 589 мнв\, а највиша 839 мнв. Стаза је кружна и највећим делом иде кроз шуму\, ливадама и колским путем. Од прошле године идемо новом и бољом стазом до Таорских врела! \nНије тешка\, а ни кондиционо захтевна. На више места прелазимо потоке и реку\, преко уређених мостића\, и газимо по плитким каскадним врелима\, због јединствених фотографија\, само уколико то желимо. \nAктивно боравимо у природи око пет сати без дужих пауза. \nМогућ је ручак у природи „на самим врелима“ по претходном договору са власницима Пепића воденице за већу групу\, односно у ресторану хотела „Парк“ у Косјерићу за мању групу. Инфо о ручку имамо на дан Акције! Након ручка крећемо пут Београда. \n \nОчекивано време повратка на велики паркинг испред центра „Сава“ је око 21 час. \nОПРЕМА: Мали ранац са водом и храном за једнодневни излет\, планинарске ципеле\, опционо камашне. Одећа прилагођена временским приликама (ветровка\, капа и рукавице)\, имајте у виду још увек зимско време и могућ ветар на планини\, пресвлака. Пожељно је понети и штапове за ходање\, опционо и чеону батеријску лампу. \nПРИЈАВА за акцију код водича – Борис Братић\, позивом на бројеве 063 11 357 99 и/или 064 99 248 11 или SMS поруком\, односно путем Viber-а (како год будете желели) \nНа акцију се иде\, реализоваће се без обзира на најаву временске прогнозе! \nИзнос Котизације: 3.000 динара (превоз минибусем или рентираним комбијем\, аутима) \n\nСвојим превозом 1.500 динара по особи\n\nКотизација за акцију обухвата реалне трошкове организације\, вођења и превоза\, путарине ако је има\, не обухвата исхрану\, евентуалне улазнице и ваше индивидуалне трошкове\, непрофитног је карактера и зависи од више елемената. Уплата за акцију је обавезна приликом вашег пријављивања за исту. \nДОБРО ДОШЛИ НА ОВУ ВРХУНСКУ ПРОЛЕЋНУ АКЦИЈУ – АВАНТУРУ ЗА ПАМЋЕЊЕ! \nВаш Клуб планинара „АВАНТУРИСТА„ \nТрадиционална акција Клуба планинара „АВАНТУРИСТА„ \nВАЖНЕ НАПОМЕНЕ: Учесници акције „Слапови и водопади Таорских врела“ дана 5. Април 2026. – НЕДЕЉА – планинаре на сопствену одговорност\, уз дужно придржавање Правилника о безбедности и одговорности у извођењу планинарских активности Планинарског Савеза Србије. \nНапомињемо да према Закону о туризму (члан 86. став 4) за путовање (за једнодневне излете – акције\, путовања краћа од 24 сата) није обезбеђена заштита у погледу гаранција путовања. \nВодич задржава право измене плана или отказивања акције у случају непредвиђених околности\, односно недовољног броја пријављених учесника. Приликом пријаве за акцију\, обавезна је уплата износа котизације у целости\, ако је остало мање од 10 дана до реализације акције. У случају одустајања\, наћи адекватну замену\, у супротном уплаћени новац се не враћа\, нити преноси на наредне акције.
URL:https://planinariavanturisti.org.rs/dogadjaj/slapovi-vodopadi-taorskih-vrela-11/
LOCATION:Vodenice kod Taorskog Vrela\, Donji Taor\, Kosjerić\, Radanovci\, Srbija
CATEGORIES:Акција Гљиварска едукација,Високогорска акција,кањонска авантура,Пећинска авантура,Планинарска едукација,Планинарске акције,Трекинг акција
ATTACH;FMTTYPE=image/jpeg:https://planinariavanturisti.org.rs/wp-content/uploads/2022/03/Taorska-vrela-2022.jpg
ORGANIZER;CN="%D0%91%D0%BE%D1%80%D0%B8%D1%81%20%D0%91%D1%80%D0%B0%D1%82%D0%B8%D1%9B%20-%20%D0%91%D0%BE%D0%BA%D0%B8":MAILTO:instruktorboris@gmail.com
END:VEVENT
END:VCALENDAR