BEGIN:VCALENDAR
VERSION:2.0
PRODID:-//Клуб планинара &quot;АВАНТУРИСТА&quot; - ECPv5.14.1//NONSGML v1.0//EN
CALSCALE:GREGORIAN
METHOD:PUBLISH
X-WR-CALNAME:Клуб планинара &quot;АВАНТУРИСТА&quot;
X-ORIGINAL-URL:https://planinariavanturisti.org.rs
X-WR-CALDESC:Events for Клуб планинара &quot;АВАНТУРИСТА&quot;
BEGIN:VTIMEZONE
TZID:Europe/Paris
BEGIN:DAYLIGHT
TZOFFSETFROM:+0100
TZOFFSETTO:+0200
TZNAME:CEST
DTSTART:20260329T010000
END:DAYLIGHT
BEGIN:STANDARD
TZOFFSETFROM:+0200
TZOFFSETTO:+0100
TZNAME:CET
DTSTART:20261025T010000
END:STANDARD
END:VTIMEZONE
BEGIN:VEVENT
DTSTART;TZID=Europe/Paris:20260413T060000
DTEND;TZID=Europe/Paris:20260413T220000
DTSTAMP:20260419T211758
CREATED:20210317T105943Z
LAST-MODIFIED:20260330T120057Z
UID:7392-1776060000-1776117600@planinariavanturisti.org.rs
SUMMARY:Северни Кучај – Ракобарски вис – пећина Вртеч – водопади Шумећа – Мало Врело - Бурев
DESCRIPTION:Северни Кучај – Ракобарски вис – пећина Вртеч – водопади Шумећа – Мало Врело – Бурев \nВодопади и пећине Северног Кучаја \n13. Април 2026. – Васкршњи Понедељак (Полазимо у 6 сати – Враћамо се око 22 часа) \nСеверни Кучај – Врело и водопад Шумећа – извор и водопад Мало Врело – Ракобарски вис 691м – пећина Вртеч (Шевичка) – водопад Бурев – Манастир Тумане – Голубац \nПОЛАЗАК: Окупљамо се на платоу – односно на паркингу иза Сава центра (Савска страна зграде – Гледа ка реци Сави) и полазимо тачно у 6 сати. \nМолим вас\, дођите 10-ак минута раније како би смо кренули на време! \nТачно место поласка: куцајте на GOOGLE MAPS – „parking iza sava centra“ \nПЛАН АКЦИЈЕ \nПутујемо аутопутем\, до искључења за Пожаревац. Правимо успутну паузу уз магистралу\, за куповину више врста проверено добрих сендвича (одлични су\, а повољније је него да правите своје)\, воде\, слаткиша у продавници „Јера“ код Љубичева\, и за понети. Кафу или Капућино из аутомата\, добијамо на поклон од наших добрих домаћина у знак захвалности за године поверења и сарадње. Ако има потребе за тоалетом\, може на пумпи преко пута. \n   \nНастављамо пут преко Салаковца и Раброва у правцу Кучева до Турије у којој посећујемо изузетно леп водопад Шумећа и извор-врело из стене истоимене речице. Затим настављамо комбијем до Ракове Баре. Наша стаза полази из насеља\, колским путем ка Ракобарском вису 691м. На нашој стази\, долазимо до бигреног каскадног водопада висине око 15 метара „Мало Врело“ а затим и до јаког крашког извора реке из стене. Стаза нас даље води ка Ракобарском вису\, видиковцу\, иначе најлепшем на Звишким планинама. Са видиковца се пружа поглед на околне планине Северног Кучаја и Хомоља. \n   \nСа виса се спуштамо лагано кроз лепу букову шуму у правцу села Шевица и ка пећини „Вртеч“ (Шевичкој пећини). Она није туристички уређена а изузетно је атрактивна. Пролазак пећинским каналима је врхунска авантура која захтева знање\, спретност\, сналажљивост и солидарност. Ми улазимо највише 30-ак метара. Улаз у пећину је у једној ували\, долини на локалитету Мали Вртеч\, у атару села Шевица\, по којем је и добила име. \n   \nДном долине тече маловодна речица\, више поток – Кржановића\, који понире испод кречњачког одсека на улазу у Шевичку пећину. Истраживање Шевичке пећине је обавио тим Др Раденка Лазаревића у два наврата\, крајем седамдесетих и крајем деведесетих година прошлог века. У пећини је издвојено неколико различитих целина: Улазна дворана\, Црквени канал\, Канал између два водопада\, Језерски канал и Повратни канал. Наша група ће ући првих неколико десетина метара колико је потпуно безбедно и где није потребна специјална спелео опрема. \n   \nНастављамо у правцу села Шевица\, где на месту званом „Бурев“\, Шевичка река (десна притока реке Пек) готово на самом извору ствара импозантан водопад. Након свега 50-так метара од извора\, вода се рачва у више малих токова\, који затим падају са бигреног платоа обраслог маховином ширине око 30 метара. \n   \nСпуштамо се у подножје водопада\, да осетимо\, удахнемо лепоту призора. \n   \nШумском стазом се спуштамо до првих кућа – најближих у селу Шевица до места где нас чека бус. Стаза је дуга око 16 км\, са успоном од око 700 метара.  \nУколико наша група буде мања\, и возило (комби) нам остане у Раковој Бари\, тада имамо две могућности: прва да уместо одласка на водопад Бурев стазу кружно затворимо у правцу водопада – насеља Шумећа\, а друга да се враћамо колским путем и шумском стазом између два села (Шевица и Ракова Бара) и затворимо круг. У том случају\, стаза ће бити дужа и износити око 21\,5 км и кумулативним успоном око 850 метара. Стаза је изузетно лепа\, средње тежине\, неоптерећујућа\, лагано ходамо\, уживамо у природним лепотама водопада и пећина Северног Кучаја. \nНаш повратак за Београд иде преко манастира Тумане\, који можемо посетити уколико не буде сувише касно. Затим излазимо на Голубац и Велико Градиште у коме можемо вечерати по слободном избору у одабраном ресторану\, ако нам пролазно време буде добро и група расположена. \nОчекујем да се вратимо на велики паркинг испред центра „Сава“ око 22 часа. \nОПРЕМА: Мали ранац са водом (на стази можемо воду уточити на изворима-врелима) и храном за једнодневни излет\, планинарске ципеле\, камашне. Одећа прилагођена временским приликама (ветровка\, капа)\, имајте у виду још увек могуће хладније време и ветар на планини\, резервна пресвлака. Пожељно је понети и планинске штапове за ходање\, као и батеријску (најбоље чеону) лампу. \nХРАНА: Из свог ранца. Богате сендвиче\, воду и слаткише можемо купити у доласку на првој паузи\, у продавници Јера у Љубичеву. Ручак – вечеру можемо имати у одабраном ресторану у Голупцу или Великом Градишту уколико нам пролазно време на стази то дозволи. \nПРИЈАВА за акцију код водича – Борис Братић\, позивом на бројеве 063 11 357 99 и/или 064 99 248 11 или SMS поруком\, односно путем Viber-а (како год будете желели) E-mail: instruktorboris@gmail.com \nНа акцију се иде\, реализоваће се без обзира на најаву временске прогнозе! \nИзнос Котизације: 2.800 динара (превоз минибусем или рентираним комбијем\, аутима) \n\nСвојим превозом 1.500 динара по особи\n\nКотизација за акцију обухвата реалне трошкове организације и превоза\, путарине ако је има\, не обухвата исхрану\, евентуалне улазнице и ваше индивидуалне трошкове\, непрофитног је карактера и зависи од више елемената. Уплата за акцију је обавезна приликом вашег пријављивања за исту. \nДОБРО ДОШЛИ НА ОВУ ВРХУНСКУ АКЦИЈУ – АВАНТУРУ ЗА ПАМЋЕЊЕ! \nВаш Клуб планинара „АВАНТУРИСТА„ \nТрадиционална акција Клуба планинара „АВАНТУРИСТА„ \nВАЖНЕ НАПОМЕНЕ: Учесници акције „Северни Кучај – Ракобарски вис – пећина Вртеч – водопади Шумећа – Мало Врело – Бурев“ дана 13. Април 2026. – Васкршњи Понедељак – планинаре на сопствену одговорност\, уз дужно придржавање Правилника о безбедности и одговорности у извођењу планинарских активности Планинарског Савеза Србије. \nНапомињемо да према Закону о туризму (члан 86. став 4) за путовање (за једнодневне излете – акције\, путовања краћа од 24 сата) није обезбеђена заштита у погледу гаранција путовања. \nВодич задржава право измене плана или отказивања акције у случају непредвиђених околности\, односно недовољног броја пријављених учесника. Приликом пријаве за акцију\, обавезна је уплата износа котизације у целости\, ако је остало мање од 10 дана до реализације акције. У случају одустајања\, наћи адекватну замену\, у супротном уплаћени новац се не враћа\, нити преноси на наредне акције.
URL:https://planinariavanturisti.org.rs/dogadjaj/vodopad-burev-pecina-vrtec-5/
LOCATION:Vodopad Burev i Malo Vrelo\, Pećina Vrteč\, Rakova Bara\, Srbija
CATEGORIES:Акција Гљиварска едукација,Високогорска акција,кањонска авантура,Пећинска авантура,Планинарска едукација,Планинарске акције,Трекинг акција
ATTACH;FMTTYPE=image/jpeg:https://planinariavanturisti.org.rs/wp-content/uploads/2020/02/Severni-Kučaj-vodopadi-Burev-i-Malo-Vrelo-Ševička-pećina-NASLOVNA.jpg
ORGANIZER;CN="%D0%91%D0%BE%D1%80%D0%B8%D1%81%20%D0%91%D1%80%D0%B0%D1%82%D0%B8%D1%9B%20-%20%D0%91%D0%BE%D0%BA%D0%B8":MAILTO:instruktorboris@gmail.com
END:VEVENT
END:VCALENDAR