BEGIN:VCALENDAR
VERSION:2.0
PRODID:-//Клуб планинара &quot;АВАНТУРИСТА&quot; - ECPv5.14.1//NONSGML v1.0//EN
CALSCALE:GREGORIAN
METHOD:PUBLISH
X-WR-CALNAME:Клуб планинара &quot;АВАНТУРИСТА&quot;
X-ORIGINAL-URL:https://planinariavanturisti.org.rs
X-WR-CALDESC:Events for Клуб планинара &quot;АВАНТУРИСТА&quot;
BEGIN:VTIMEZONE
TZID:Europe/Paris
BEGIN:DAYLIGHT
TZOFFSETFROM:+0100
TZOFFSETTO:+0200
TZNAME:CEST
DTSTART:20260329T010000
END:DAYLIGHT
BEGIN:STANDARD
TZOFFSETFROM:+0200
TZOFFSETTO:+0100
TZNAME:CET
DTSTART:20261025T010000
END:STANDARD
END:VTIMEZONE
BEGIN:VEVENT
DTSTART;TZID=Europe/Paris:20260417T173000
DTEND;TZID=Europe/Paris:20260419T210000
DTSTAMP:20260419T211635
CREATED:20260318T202150Z
LAST-MODIFIED:20260319T113615Z
UID:10290-1776447000-1776632400@planinariavanturisti.org.rs
SUMMARY:Априлска Тара са Авантуристима
DESCRIPTION:Априлска Тара са Авантуристима \n17 – 19. Април 2026. – (Полазимо у петак у 17 и 30 часова – Враћамо се у недељу око 21 час) \nДруги дан – СУБОТА => Национални Парк ТАРА – Калуђерске Баре – језеро Јаревац – Споменик на Боровом брду – видиковац Црњесково – Манастир Свих Светих – хотел Тара или Оморика \n   \nТрећи дан – НЕДЕЉА=> Национални Парк ТАРА – Калуђерске Баре – Заовинско језеро – Караклије – врх Јањач – Митровац на Тари – видиковац Бањска стена – Тепих ливада – „кућица на Дрини“ – ресторан Платани \n   \nПОЛАЗАК: Окупљамо се на платоу – односно на паркингу иза Сава центра (Савска страна зграде – Гледа ка реци Сава) и полазимо тачно у 17 и 30 часова у петак 17. Април 2026. године. \nМолим вас\, дођите 10-ак минута раније како би смо кренули на време! \nТачно место поласка: куцајте на GOOGLE MAPS – „parking iza sava centra“ \n ПЛАН АКЦИЈЕ \nПутујемо Ибарском магистралом (Уколико вам одговара\, можете ући успут. Обавезно нагласите приликом пријављивања за Акцију) до Ћелија\, где скрећемо ка Лајковцу\, затим брзом саобраћајницом ка Ваљеву. Правимо паузу у хипермаркету „ДИС“ код Лазаревца за набавку хране и пића за наредне дане на Тари и затим другу паузу за вечеру у познатом и провереном ресторану „ПЛАТАНИ“. Уколико не желите јести у ресторану\, док чекате\, можете само попити пиће по својој жељи. \nПут настављамо кроз живописне пределе преко Јабланице и Сушице (брана Стубо – Ровни)\, Дебелог Брда\, Рогачице и Бајине Баште до Калуђерских Бара на Тари\, где се смештамо у приватне куће. Собе су углавном дво и тро креветне са спратним купатилима. По смештању у собе се окупљамо (по жељи) у просторији за дружење у Радетовој кући. Слободне активности и ноћење. \nДруги дан – Субота 18. Април \nУстајање у 7 а полазак на стазу у 8 сати. По жељи јутарња кафа код наших домаћина у сопственој режији. У трпезарији можете доручковати храну коју сте понели од куће\, купили у маркету „ДИС“ у петак у доласку\, односно у продавници на Тари. Постоји могућност и да се купи пециво у оближњој пекари на „Платоу“ Калуђерских Бара ако тада буде радила. Информацију о раду пекаре добијате током пута. \n   \nПреко платоа Калуђерских Бара\, стижемо на почетак шетне стазе „Јаревац“ која води кроз изузетно живописно подручје потока Јаревац. Прелазимо преко ливада и дрвених мостића „Борови“\, „Јаревац“ и „Радмиловац“. \nЗатим улазимо у шуму одакле почиње планинарска стаза. Пратећи поток Јаревац\, кога местимично више пута прелазимо по плитком кориту каменитог дна\, уживаћемо у погледу на столетна стабала смрче и омрике\, камењу обраслом зеленом маховином и жубору планинског потока. \n   \nСтаза се завршава на улазу у Резерват природе „Клисура Рача“ код бране и језера Јаревац\, код кога правимо паузу. Са језера Јаревац успоном који траје 10-ак минута стижемо до раскрснице шумских путева\, на којој скрећемо ка споменику на Боровом брду. Од споменика пешачимо четинарском шумом ка изузетно лепом видиковцу „Црњесково“ са кога се као на длану види резерват „Клисура Раче“\, стара „Градина“\, „Крстата стена“\, манастир Рача и Бајина Башта у даљини. Са видиковца крећемо у правцу Манастира Свих Светих (Сабор Српских Светитеља). Посећујемо манастир и правимо краћу паузу. У наставку\, пролазећи поред ергеле коња и кроз викенд насеље кружно затварамо стазу на Калуђерским Барама. \n   \nНаша данашња стаза иде највећим делом кроз четинарску шуму и пространим ливадама\, обилује лепим пејзажима\, релативно је лака\, приступачна свим старосним групацијама планинара и истинских љубитеља природе. Планирана стаза је дуга око 12 км\, са малом висинском разликом и није много захтевна. Стаза иде широким колским\, ливадским и шумским путевима дуж којих ћемо уживати у изузетно лепим пејзажима и видиковцима. Враћамо се на Калуђерске Баре. Имаћемо договорену хотелску вечеру око 18 часова или раније по коректној цени (није урачуната у износ за Акцију и није обавезна)\, односно ресторан по сопственом избору. Након вечере\, дружење планинара и одмарање до одласка на спавање. \nТрећи дан – Недеља 19. Април \nУстајање у 7 а полазак у 8 сати. По жељи јутарња кафа код наших домаћина у сопственој режији. У трпезарији можете доручковати храну коју сте понели од куће\, купили у маркету „ДИС“ у петак у доласку\, односно у продавници на Тари. Постоји могућност и да се купи пециво у оближњој пекари на „Платоу“ Калуђерских Бара ако тада буде радила. Информацију о раду пекаре добијате током пута. Затим напуштамо смештај са свим стварима и полазимо ка Митровцу на Тари. \n   \nНа Митровцу на Тари правимо кратку паузу за посету дирекцији НП Тара\, затим се возимо до Заовинског језера и стајемо на брани Лазићи 870 мнв. Недалеко од бране се налази локалитет „Вис“ са видиковцем\, одакле се пружа поглед на мало језеро Спајићи и Панчићеве оморике\, које је августа 1875. године открио ботаничар др Јосиф Панчић. \nОд бране настављамо путем до села Доње Караклије\, места одакле полазимо на успон ка граничном врху Јањач 1.473 мнв. Пешачимо кроз живописне пределе ка Горњим Караклијама\, преко велике ливаде\, шумском стазом и широким гребеном до врха са кога се пружа панорамски поглед са једне стране на Вишеград и стари мост „На Дрини Ћуприја“ а са друге на језеро Заовине. \n   \nСа врха Јањач се враћамо до нашег возила кружном стазом и возимо преко Митровца до почетка стазе ка најлепшем и најпознатијем видиковцу на Тари – Бањска стена. Са пет позиција овог видиковца се пружа величанствен поглед на ушће Дервенте у Дрину\, Перућачко језеро и дубоко у суседну Босну. \nУкупна дужина стазе Доње Караклије – врх Јањач је око 8 км са висинском разликом од око 380 метара у успону. Стаза иде колским\, ливадским\, шумским и пространим гребенским путем дуж којих ћемо уживати у изузетно лепим пејзажима и видиковцима. Стаза ка Бањској стени је готово раван колски пут у дужини око 1 км и исто толико у повратку до возила. \n   \nУ повратку са Бањске стене обилазимо резерват природе Црвени Поток (шума тресава – прашумског типа) у коме ћемо видети јединствену Тепих ливаду. \nСа задовољством је могу проћи све старосне и кондиционе групације планинара и љубитеља природе. Имаћемо целодневни активан боравак у природи. \nОпчињени погледом са видиковаца и Тепих ливаде полазимо за Београд. У повратку ка Београду\, на изласку из Бајине Баште застајемо крај ресторана „Студенац“ како би фотографисали јединствену „кућицу на Дрини“ и одмах наставили пут ка Ваљеву и ресторану Платани. \n   \nПутујемо преко Дебелог Брда а паузу за вечеру правимо у ресторану „ПЛАТАНИ“ у Ваљеву. \n Планирани повратак у Београд\, на паркинг испред Центра Сава је око 21 час\, најкасније до 22 часа. \nНАПОМЕНА: У случају најаве кише пре реализације планинарске акције – акција се НЕ ОТКАЗУЈЕ! \nВодич задржава право измене плана акције у складу са новонасталом ситуацијом на терену. \nОПРЕМА: Мали ранац са водом и храном за једнодневне излете\, планинарске ципеле\, камашне. Прибор за тоалет\, пешкир\, спаваћица (пиџама). Одећа прилагођена временским приликама и пресвлака. Обавезно ветровка\, капа и рукавице\, имајте у виду хладније време на планини. Понети батеријску\, најбоље чеону лампу а пожељно је и штапове за планинарење. \nХРАНА: Из свог ранца. Можете купити храну и пиће по жељи у хипермаркету „ДИС“ код Лазаревца у петак коју користите током акције\, доручкујете је у суботу и недељу\, или носите своју храну из Београда. У петак у доласку и у недељу у повратку\, можемо имати вечеру у ресторану „Платани“ у Ваљеву по слободном избору. У суботу можемо договорити вечеру са хотелом Тара на Калуђерским Барама\, у коме можете и доручковати на бази шведског стола (резервација унапред) уколико будете желели и цена вам одговарала\, односно ресторан са повољним ценама код хотела ВУ Оморика. \nПРИЈАВА за акцију код водича – Борис Братић\, позивом на бројеве 063 11 357 99 и/или 064 99 248 11 или SMS поруком\, односно путем Viber-а (како год будете желели) E-mail: instruktorboris@gmail.com \nНа акцију се иде\, реализоваће се без обзира на најаву временске прогнозе! \nИзнос Котизације: 11.500 динара (превоз минибусем или рентираним комбијем) \nБрој места ограничен\, пожурите са пријавама за Акцију! \nКотизација обухвата: Комби превоз\, два ноћења на Тари у приватном смештају\, Улаз у НП Тара комбијем\, смештај и храна за возача и трошкове организације Акције \nКотизација НЕ обухвата: Исхрану и ваше индивидуалне трошкове! \nКотизација за акцију обухвата реалне трошкове организације\, смештаја и превоза\, не обухвата исхрану\, појединачне или групне улазнице у НП Тара уколико их буде и ваше индивидуалне трошкове\, непрофитног је карактера и зависи од више елемената. Уплата за акцију је обавезна\, на текући рачун\, приликом пријављивања за исту. \nДОБРО ДОШЛИ НА ОВУ ИЗУЗЕТНУ ПЛАНИНСКУ АКЦИЈУ – АВАНТУРУ ЗА ПАМЋЕЊЕ! Најлепша је Тара са Авантуристима 🙂 \nВаш Клуб планинара „АВАНТУРИСТА„ \nВАЖНЕ НАПОМЕНЕ: Учесници викенд акције „Априлска Тара са Авантуристима“ у периоду од 17 – 19. Априла 2026. планинаре на сопствену одговорност\, уз дужно придржавање Правилника о безбедности и одговорности у извођењу планинарских активности Планинарског Савеза Србије. \nНа акцију се иде\, реализоваће се без обзира на временску прогнозу! \nНапомињемо да према Закону о туризму (члан 86. став 4) за путовање (за једнодневне излете – акције\, путовања краћа од 24 сата) није обезбеђена заштита у погледу гаранција путовања. \nВодич задржава право измене плана или отказивања акције у случају непредвиђених околности\, односно недовољног броја пријављених учесника. Приликом пријаве за акцију\, обавезна је уплата износа котизације у целости\, ако је остало мање од 10 дана до реализације акције. У случају одустајања\, наћи адекватну замену\, у супротном уплаћени новац се не враћа\, нити преноси на наредне акције. \nУживајте у тренуцима за памћење са Авантуристима на Тари!
URL:https://planinariavanturisti.org.rs/dogadjaj/aprilska-tara/
LOCATION:Tara – Kaluđerske Bare\, Tara - Kaluđerske Bare\, Bajina Bašta\, Srbija
CATEGORIES:Акција Гљиварска едукација,Високогорска акција,кањонска авантура,Пећинска авантура,Планинарска едукација,Планинарске акције,Трекинг акција
ATTACH;FMTTYPE=image/jpeg:https://planinariavanturisti.org.rs/wp-content/uploads/2023/03/Насловна-Tara-april-2023.jpg
ORGANIZER;CN="%D0%91%D0%BE%D1%80%D0%B8%D1%81%20%D0%91%D1%80%D0%B0%D1%82%D0%B8%D1%9B%20-%20%D0%91%D0%BE%D0%BA%D0%B8":MAILTO:instruktorboris@gmail.com
END:VEVENT
BEGIN:VEVENT
DTSTART;TZID=Europe/Paris:20260418T060000
DTEND;TZID=Europe/Paris:20260418T220000
DTSTAMP:20260419T211635
CREATED:20190330T001152Z
LAST-MODIFIED:20260403T224148Z
UID:6175-1776492000-1776549600@planinariavanturisti.org.rs
SUMMARY:Пећина Церемошња - Буковска река – Љубишина воденица – Ваља Мика - Клисура и водопад Бобот – Вучја долина
DESCRIPTION:Пећина Церемошња – Буковска река – Љубишина воденица – Ваља Мика – Клисура и водопад Бобот – Вучја долина \nБисер пролећних акција Клуба планинара „АВАНТУРИСТА“ \n18. Април 2026. – Субота (Полазимо у 6 сати – враћамо се око 22 часа) \nПОЛАЗАК: Окупљамо се на платоу – односно на паркингу иза Сава центра (Савска страна зграде – Гледа ка реци Сави) и полазимо тачно у 6 сати. \nМолим вас\, дођите 10-ак минута раније како би смо кренули на време! \nТачно место поласка: куцајте на GOOGLE MAPS – „parking iza sava centra“ \nПЛАН АКЦИЈЕ \nПутујемо аутопутем\, до искључења за Пожаревац. Правимо успутну паузу уз магистралу\, за куповину више врста проверено добрих сендвича (одлични су\, а повољније је него да правите своје)\, воде\, слаткиша у продавници „Јера“ код Љубичева\, и за понети. Кафу или Капућино из аутомата\, добијамо на поклон од наших добрих домаћина у знак захвалности за године поверења и сарадње. Ако има потребе за тоалетом\, може на пумпи преко пута. \n    \nНастављамо пут у правцу Кучева и Нереснице до места Кисела Вода (на Влашком АПА АКРА)\, где на изворишту природне минералне воде можемо исту уточити и понети. На другом километру од изворишта нас очекује изузетно лепа слика предела „КОРЊЕТ“ и необичне стене са пуно малих пећинских отвора\, чак седам на малом растојању. \n    \nНапредујемо ка Љубишиној воденици\, ваљавици у Буковској реци (идеално место за пикник) Недалеко од воденице\, полазимо на стазу поред Буковске реке\, кроз село а затим бајковитом шумском стазом кроз живописну клисуру Бобот уз речицу\, долазимо до малог водопада и стена „камења чудног облика“ који побуђују нашу машту. \n   \nШумском стазом\, поред речице и потока\, преко долине „Ваља Новакоњ“ излазимо на венац „Фундоње“ којим стаза иде у правцу прелепе пећине „Церемошња“ На стази кроз „ЗМЈЕУР“ наилазимо на извор „ЛАБУТОАРКА“ – чесма са Овновом главом\, Јанков гроб и баба Станкину кућу у којој је до скора живела најстарија жена у Србији. \n   \nПролазимо магично леп крајолик „ТУПАНАСКА“ и успоном кроз шуму долазимо подно Штубејских стена. Фантастични пејсажи и у спусту преко „Краку лу Фрунзе“ и Вучје долине стижемо до пећине Церемошња. \n   \nКроз скривена блага пећинског накита\, сталактита\, сталагмита и величанствених драперија ће нас провести наш домаћин и локални водич Љубиша. Цена улазнице за прелепу Церемошњу је износила 350 рсд а за нашу групу Љубиша има лепо изненађење\, поклон качкет са мотивом пећине. \nПо обиласку пећине Церемошња\, имамо ручак по жељи искључиво по претходном договору о врсти хране и цени\, или се можете само освежити уз неко пиће или кафу у башти ресторана недалеко од пећине. Имамо више опција за ручак: Влашки тигањ (локални специјалитет 900 рсд) или Пасуљ са месом 500 рсд. \nДужина ове изузетно лепе стазе износи око 17\,5 км са кумулативним успоном од 750м а постоји могућност скраћења за планинаре са слабијом кондицијом код локалитета Тупанаска. Прелази се за око шест сати хода са успутним паузама за фото и друга уживања. Стаза је средње тешка\, није технички али јесте кондиционо захтевна\, ипак спада у рекреативне и погодује свим узрастима планинара. Највећим делом иде шумом (широким шумско – колским путевима) и преко ливада кроз ониже растиње. \nЗа Београд полазимо по обиласку пећине Церемошња и након касног ручка – ране вечере. \nОчекујем да се на велики паркинг испред центра „Сава“ вратимо око 22 часа. \nОПРЕМА: Мали ранац са водом и храном за једнодневни излет\, планинарске ципеле. Одећа прилагођена временским приликама\, ветровка и пресвлака. Пожељно је понети и штапове за ходање\, као и батеријску (најбоље чеону) лампу. \nХРАНА: Из свог ранца. Богате сендвиче\, воду и слаткише можемо купити у доласку на првој паузи\, у продавници Јера у Љубичеву. Домаћински ручак\, на Влашки начин имамо по завршетку планинско – пешачког дела акције у Љубишином ресторану код пећине Церемошња. \nПРИЈАВА за акцију код водича – Борис Братић\, позивом на бројеве 063 11 357 99 и/или 064 99 248 11 или SMS поруком\, односно путем Viber-а (како год будете желели) E-mail: instruktorboris@gmail.com \nНа акцију се иде\, реализоваће се без обзира на најаву временске прогнозе! \nИзнос Котизације: 3.000 динара (превоз минибусем или рентираним комбијем\, аутима) \n\nСвојим превозом 1.500 динара по особи\n\nКотизација за акцију обухвата реалне трошкове организације и превоза\, путарине ако је има\, не обухвата исхрану\, евентуалне улазнице и ваше индивидуалне трошкове\, непрофитног је карактера и зависи од више елемената. Уплата за акцију је обавезна приликом вашег пријављивања за исту. \nДОБРО ДОШЛИ НА ОВУ ВРХУНСКУ АКЦИЈУ – АВАНТУРУ ЗА ПАМЋЕЊЕ! \nВаш Клуб планинара „АВАНТУРИСТА„ \nТрадиционална акција Клуба планинара „АВАНТУРИСТА„ \nВАЖНЕ НАПОМЕНЕ: Учесници акције „Пећина Церемошња – Буковска река – Љубишина воденица – Ваља Мика – Клисура и водопад Бобот – Вучја долина“ дана 18. Април 2026. – Субота – планинаре на сопствену одговорност\, уз дужно придржавање Правилника о безбедности и одговорности у извођењу планинарских активности Планинарског Савеза Србије. \nНапомињемо да према Закону о туризму (члан 86. став 4) за путовање (за једнодневне излете – акције\, путовања краћа од 24 сата) није обезбеђена заштита у погледу гаранција путовања. \nВодич задржава право измене плана или отказивања акције у случају непредвиђених околности\, односно недовољног броја пријављених учесника. Приликом пријаве за акцију\, обавезна је уплата износа котизације у целости\, ако је остало мање од 10 дана до реализације акције. У случају одустајања\, наћи адекватну замену\, у супротном уплаћени новац се не враћа\, нити преноси на наредне акције.
URL:https://planinariavanturisti.org.rs/dogadjaj/bukovska-reka-ljubisina-vodenica-7/
LOCATION:Bukovska reka\, Kučevo\, Ceremošnja\, Bukovska\, Srbija
CATEGORIES:Акција Гљиварска едукација,Високогорска акција,кањонска авантура,Пећинска авантура,Планинарска едукација,Планинарске акције,Трекинг акција
ATTACH;FMTTYPE=image/jpeg:https://planinariavanturisti.org.rs/wp-content/uploads/2019/03/Naslovnica-Bukovska-reka-Ljubišina-vodenica-Klisura-Bobot-Pećina-Ceremošnja-14.-April-2019..jpg
ORGANIZER;CN="%D0%91%D0%BE%D1%80%D0%B8%D1%81%20%D0%91%D1%80%D0%B0%D1%82%D0%B8%D1%9B%20-%20%D0%91%D0%BE%D0%BA%D0%B8":MAILTO:instruktorboris@gmail.com
END:VEVENT
END:VCALENDAR