BEGIN:VCALENDAR
VERSION:2.0
PRODID:-//Клуб планинара &quot;АВАНТУРИСТА&quot; - ECPv5.14.1//NONSGML v1.0//EN
CALSCALE:GREGORIAN
METHOD:PUBLISH
X-WR-CALNAME:Клуб планинара &quot;АВАНТУРИСТА&quot;
X-ORIGINAL-URL:https://planinariavanturisti.org.rs
X-WR-CALDESC:Events for Клуб планинара &quot;АВАНТУРИСТА&quot;
BEGIN:VTIMEZONE
TZID:Europe/Paris
BEGIN:DAYLIGHT
TZOFFSETFROM:+0100
TZOFFSETTO:+0200
TZNAME:CEST
DTSTART:20260329T010000
END:DAYLIGHT
BEGIN:STANDARD
TZOFFSETFROM:+0200
TZOFFSETTO:+0100
TZNAME:CET
DTSTART:20261025T010000
END:STANDARD
END:VTIMEZONE
BEGIN:VEVENT
DTSTART;TZID=Europe/Paris:20260430T060000
DTEND;TZID=Europe/Paris:20260503T233000
DTSTAMP:20260420T004307
CREATED:20180322T130435Z
LAST-MODIFIED:20260312T224953Z
UID:4647-1777528800-1777851000@planinariavanturisti.org.rs
SUMMARY:Видин - Враца - Врачански Балкан – Водопади Боров камен и Скакља - Белоградчик – пећина Магура
DESCRIPTION:Видин – Враца – Врачански Балкан – Водопади Боров камен и Скакља – Белоградчик – пећина Магура – Бугарска \n30. Април – 3. Мај 2026. ~ Полазимо у Четвртак у 6 сати – Враћамо се у Недељу око поноћи! \nПОЛАЗАК: Окупљамо се на платоу – односно на паркингу иза Сава центра (Савска страна зграде – Гледа ка реци Сава) и полазимо тачно у 6 сати. \nМолим вас\, дођите 10-ак минута раније како би смо кренули на време! \nТачно место поласка: куцајте на GOOGLE MAPS – „parking iza sava centra“ \nПЛАН АКЦИЈЕ \nПрви дан\, Четвртак 30. Април – Београд – Видин – прераст БОЖИЯ МОСТ – Враца \nПутујемо аутопутем до Параћина (успутна пауза на већој пумпи или у ресторану)\, затим магистралом ка Зајечару и до граничног прелаза Вршка Чука. По преласку границе\, пут настављамо ка Видину. \nAutori lepih gotografija iz Vidina su: Time 2 Travel with Ivko i Emil Lazarov \n    \nПрошетаћемо градом и разгледати културно – историјске знаменитости са акцентом на главном симболу – Тврђава „Баба Вида“ из 14-ог века\, на самој обали Дунава. По жељи нешто појести у одабраној механи или кафеу (кафа\, колачи\, сладолед) и наставити вожњу аутопутем ка Монтани. \n   \nУ селу Љиљаче\, обилазимо камени лавиринт Пешкето и природни феномен – прераст „Божји мост“ као и остатке оближње тврђаве (Борованска хумка) из Римског периода. Блага\, лагана стаза око 5-6 км. \nНа послетку стижемо у град Враца и одмах се размештамо по собама у провереном приватном смештају. Ако буде жеље и воље\, индивидуално или групно разгледање места\, вечера у одабраној Механи или ресторану са националном кухињом. Слободне активности\, одмор и спавање. \n         Други дан\, Петак 1. Мај – Природен парк „ВРАЧАНСКИ БАЛКАН“ \nВраца – Парк природе Врачански Балкан – Згориград – кањон реке Лева – водопад Боров камък – хижа Пършевица – врх Бегличка Могила (опционо пећина Леденика) \n   \nУстајање\, кафа по жељи\, доручак (у сопственој режији). Недалеко од нашег смештаја имамо пекару и продавницу\, као и ресторан брзе хране. \nВозимо се до села Згориград из кога полазимо на атрактивну стазу кањоном реке Лева (Врачанска Екоптека) Стаза иде узводно кроз кањон реке Лева\, пролази преко шест дрвених мостова и мостића\, дрвеним степеницама са оградама у успону до величанственог водопада Боров камен (висина водопада 63м) \n     \nУживаћемо у призору „под стрехом“ крај водопада а затим уклесаном стазом у стени и преко дрвених степеница стижемо до изнад водопада. Шумском стазом излазимо у долину реке Лева\, ходамо прекрасном пољаном крај кућице\, заклона до извора квалитетне воде. Затим прелазимо реку преко мостића и успоном кроз шуму напредујемо ка ДОМ-у\, хижи Пршевица. \n    \nНајвећим делом стаза иде листопадном шумом дуж реке и траје око четири сата са успоном око 700 метара. У дому заслужена пауза и окрепљење на тераси са клупама и погледом. Додатак за расположене би био да од хиже Паршевица благим успоном попнемо и највиши врх Врачанског Балкана – Бегличка Могила 1.481 мнв (од хиже око 2км са око 215 м успона\, прелази се за око сат и по)\, евентуално још мало у правцу „Кобилне стене“ и назад до хиже. \n    \nУ наставку\, у зависности од расположивог времена и договора групе\, можемо посетити пећину Леденика (изузетно лепа пећина\, богата пећинским накитом: сталактитима\, сталагмитима\, драперијама и бигреним кадама). \n    \nУ зависности да ли стижемо до завршетка радног времена пећине\, односно повратак групе у Врацу и опционо нова пешачка тура кроз „Врачански карст“ шумом до подножја водопада Скакля (висина водопада 141м)\, односно опуштајућа шетња градом. \n   \nУ смирај дана\, предвече имамо слободно време за обилазак лепог градића Враца. Вечерамо у одабраној Механи или ресторану са националном кухињом\, дружимо се\, купујемо сувенире и одмарамо\, спавамо. \nТрећи дан\, Субота 2. Мај – Природен парк „ВРАЧАНСКИ БАЛКАН“ \nВраца – Парк природе Врачански Балкан – Врачански Карст – водопад Скакля – Церово Ливаге – Качуля – Избата – Купена – Околчица (споменик Христо Ботев) \nУстајање\, кафа по жељи\, доручак (у сопственој режији). Недалеко од нашег смештаја имамо пекару и продавницу\, као и ресторан брзе хране. \nВозимо се десетак минута и полазимо на стазу. Стаза иде кроз Врачански Карст\, шумским путем\, преко потока до водопада Скакља (висина водопада 141м) а затим преко ливада\, шумом и историјским колским путем до Околчице и монументалног споменика Христо Ботеву\, истакнути Бугарски песник\, револуционар и борац за слободу Балканских народа. \nСтаза је изузетно атрактивна\, дуга око 14 км\, успон око 600 метара и прелази се за око шест сати са све паузама. Возило ће нас чекати у селу Паволче. \nПо повратку у Врацу\, обилазимо град и Природњачки центар „НАТУРА“. \nУ смирај дана\, предвече имамо слободно време за обилазак лепог градића Враца. Вечерамо у одабраној Механи или ресторану са националном кухињом\, дружимо се\, купујемо сувенире и одмарамо\, спавамо. \nЧетврти дан\, Недеља 3. Мај – Враца – Белоградчик – Пећина Магура – Београд \n Враца – Монтана – Белоградчик – Мегалити и тврђава Калето + стаза около Мегалита – Пећина Магура – језеро Рабиша – улазак у Србију – Београд \nУстајемо\, доручкујемо ко жели и спремамо се за полазак. Најкасније у 7 и 30 са спакованим ранцима полазимо за Белоградчик. У Белоградчику доручкујемо и пијемо јутарњу кафу. Потом обилазимо тврђаву Калето\, симбол града и читавог краја. Тврђаву су саградили Римљани а током прошлости је служила разним народима (Словени\, Турци\, Бугари) и њиховим војскама. \n   \nНаправићемо туру задовољства – Авантуристичка шетња стазом крај стена уз разгледање јединствених Мегалита – карактеристичних остењака – камених фигура које су знамење Белоградчика и овог предела у трајању од око сат и по времена. \n   \nТврђава Калето и стене Белоградчика се налазе на листи UNESCO-а. \n    \nА својевремено су биле и Бугарски предлог за осмо светско чудо. \n    \nПолазимо за село Рабиша у коме се налази најлепша и најдужа пећина у Бугарској\, са праисторијским цртежима неолитског човека – пећина Магура. Са задовољством обилазимо овај драгуљ Бугарске. \n   \nНа једној страни брда улазимо у пећину а на другој излазимо из ње и угледамо лепо језеро Рабиша. Ту је и туристички возић уколико желите да се возите назад до полазне тачке испред пећине Магура. \n   \nСат и по вожње од Магуре нас дели до државне границе и Србије. По преласку граничног прелаза Вршка Чука путујемо преко Зајечара\, магистралом до Параћина\, где се укључујемо у аутопут ка Београду. \n   \nПо преласку границе можемо застати крај успутног ресторана да вечерамо или директно идемо за Београд у зависности од пролазног времена и расположења у групи. Прошле године смо уживали у одличном ресторану „Колиба  на Грзи“.  \nПовратак у Београд на паркинг испред „центра Сава“ је у недељу око поноћи. \nОПРЕМА и ИСХРАНА: Мали ранац са водом и храном за једнодневне излете (дневна пешачења)\, планинарске ципеле (гојзерице)\, камашне и планински штапови. Одећа прилагођена временским приликама\, пресвлака\, пиџама за ноћење\, лична апотека. Храна је у сопственој режији\, односно ручаћемо-вечерати у провереним ресторанима-Механама. \nВАЖНЕ НАПОМЕНЕ: Приликом пријаве за акцију\, дајете следеће податке: Име и презиме\, ваш контакт телефон\, број картице ПСС\, као и назив клуба/друштва чији сте члан. Ако нисте члан ПСС\, учланићете се код нас. \n – Резервација места за акцију се врши уплатом аконтације приликом пријављивања у износу од 6.000 динара. Динарски део\, и уплату у еврима је потребно измирити најкасније 10 дана пре поласка на Акцију! \n– Број места за акцију је ограничен! Рок за пријављивање је до среде 22. Априла\, односно до попуне слободних места! По Правилнику Клуба\, у случају одустајања из било ког разлога\, уплаћена аконтација се враћа искључиво ако се обезбеди замена (од стране учесника\, или Клуба ако постоји листа чекања) \n-Уколико узимате\, ваше индивидуално осигурање треба бити спортско за планинарске активности. \n– Обавезно понети са собом важећу личну карту и здравствену картицу за Србију\, односно пасош за Бугарску на дан почетка акције! \n\nЗа улазак у Бугарску\, неопходан је важећи пасош Републике Србије.\n\nПРИЈАВА за акцију код водича – Борис Братић\, позивом на бројеве 063 11 357 99 и/или 064 99 248 11 или SMS поруком\, односно путем Viber-а (како год будете желели) E-mail: instruktorboris@gmail.com \nНа акцију се иде\, реализоваће се без обзира на најаву временске прогнозе! \nИзнос Котизације: 14.000 динара + део у еврима за смештај (три ноћења у Враци) 60 € \nКотизација обухвата: превоз\, путарине и вињету\, паркинге за возило\, три ноћења у приватном смештају у Враци\, трошкове ноћења и хране за возача и трошкове организације домаћина акције \nКотизација НЕ обухвата: исхрану\, улазнице (пећине Магура и опционо Леденика\, тврђава Баба Вида у Видину и Калето у Белоградчику\, ПП Врачански Балкан)\, путно-здравствено осигурање\, ваше индивидуалне трошкове. Храна је у Бугарској повољнија него у Србији. \nДОБРО ДОШЛИ НА ОВУ ВРХУНСКУ АКЦИЈУ – АВАНТУРУ ЗА ПАМЋЕЊЕ! \nВаш Клуб планинара „АВАНТУРИСТА„ \nВАЖНЕ НАПОМЕНЕ: Учесници Првомајске акције „Видин – Враца – Врачански Балкан – Водопади Боров камен и Скакља – Белоградчик – пећина Магура – Бугарска“ од 30. Априла до 3. Маја 2026. планинаре\, учествују на сопствену одговорност\, уз дужно придржавање Правилника о безбедности и одговорности у извођењу планинарских активности Планинарског Савеза Србије. \nНапомињемо да према Закону о туризму (члан 86. став 4) за путовање (за једнодневне излете – акције\, путовања краћа од 24 сата) није обезбеђена заштита у погледу гаранција путовања. \nВодич задржава право измене плана\, елемената акције по данима\, или отказивања акције у случају непредвиђених околности\, елементарних непогода\, више силе\, односно недовољног броја пријављених учесника. Приликом вашег пријављивања за акцију\, обавезна је уплата износа котизације (динарски део) у целости\, ако је остало мање од 10 дана до реализације акције. У случају одустајања\, наћи адекватну замену\, у супротном уплаћени новац се не враћа\, нити преноси на наредне акције.
URL:https://planinariavanturisti.org.rs/dogadjaj/vracanski-balkan-belogradcik-6/
LOCATION:vratsa\, vratsa\, Bugarska
CATEGORIES:Акција Гљиварска едукација,Високогорска акција,кањонска авантура,Пећинска авантура,Планинарска едукација,Планинарске акције,Трекинг акција
ATTACH;FMTTYPE=image/jpeg:https://planinariavanturisti.org.rs/wp-content/uploads/2018/03/Naslovnica-Vracanski-Balkan-Maj-2019.jpg
ORGANIZER;CN="%D0%91%D0%BE%D1%80%D0%B8%D1%81%20%D0%91%D1%80%D0%B0%D1%82%D0%B8%D1%9B%20-%20%D0%91%D0%BE%D0%BA%D0%B8":MAILTO:instruktorboris@gmail.com
END:VEVENT
BEGIN:VEVENT
DTSTART;TZID=Europe/Paris:20260527T060000
DTEND;TZID=Europe/Paris:20260531T233000
DTSTAMP:20260420T004307
CREATED:20240903T122612Z
LAST-MODIFIED:20260326T181616Z
UID:9436-1779861600-1780270200@planinariavanturisti.org.rs
SUMMARY:Park prirode "Biokovo" - Sky walk - vrh Vošac - vrh Sveti Jure - poluotok Sveti Petar - Osejava - Makarska + izlet brodom na Hvar i Brač - Hrvatska
DESCRIPTION:Planinsko – treking – spoznajno – hedonističku akciju organizuje \nKlub Planinara „AVANTURISTA“ iz Beograda \nPark prirode Biokovo – Sky walk – vrh Vošac – vrh Sveti Jure – poluotok Sveti Petar – Osejava – Makarska + izlet brodom na Hvar i Brač – Hrvatska \n27 – 31. Maj 2026. ~ Polazimo u Sredu u 6 sаti – Povratak je u nedelju oko ponoći! \nPOLAZAK: Okupljamo se na platou – ispred ulaza u centar „Sava“ (Savska strana zgrade – Gleda ka reci Sava) i polazimo u Sredu tačno u 6 sati! \nMolim vas\, dođite 10-ak minuta ranije kako bi smo krenuli na vreme! \nZa lepe fotografije u opisu Akcije kao i za idejno rešenje celokupnog toka Akcije zaslužan je naš dugogodišnji i odani član – planinar Zoran Židić Zoki \nPlan Akcije \nPrvi dan\, Sreda 27. Maj \nBeograd – Han Pogled – Sarajevo – Jablanica – Makarska \nPolazak u 6 sati. Putujemo autoputem ka Loznici i graničnom prelazu Trbušnica – Šepak i ulazimo u BiH. Naš put ide preko Zvornika\, Milića i Vlasenice do Han Pjeska (pauza na Han Pogledu u odličnom restoranu)\, zatim preko Sokolca\, Podromanije i Romanije do Sarajeva. Pauza od oko sat i po vremena za kraći obilazak Sarajeva – Baščaršije (ćevapi kod Želje\, čuvena poslastičarnica\,…) a zatim nastavljamo ka Jablanici u kojoj obilazimo stari srušeni most na Neretvi iz drugog svetskog rata i eventualno muzej\, a nakon pauze za ručak u restoranu „Zdrava Voda“ nastavljamo prema Mostaru i graničnom prelazu Metković.  \n   \nPrelazimo u Hrvatsku i putujemo Jadranskom magistralom prema Pločama i Makarskoj. Dolazimo u Makarsku kasno posle podne\, uveče. Imaćemo koktel dobrodošlice\, odnosno večeru (biće tačna info pred naš put) i smeštamo se po sobama\, a za raspoložene obilazimo mesto uz mogućnost noćnog kupanja u moru ako bude prijatna voda (bilo ranijih godina). Slobodne aktivnosti i spavanje. \nDrugi dan\, Četvrtak 28. Maj \nMakarska – Gradac – vidikovci Adrion i Vrisje – Osejava – vidikovci na more – plaža Nugal kupanje – poluotok Sveti Petar \nUstajanje\, kafa\, čaj\, bogat doručak – švedski sto i priprema za polazak na turu. Polazimo kombijima ka mestu Gradac uz dnevno uživanje u pogledu na more-pučinu tokom vožnje. Polazak na uspon izuzetno lepo uređenom stazom prema vidikovcima Adrion i Vrisje. Uspon i spust (povratak) traju oko tri sata i nisu zahtevni. Pogled sa vidikovaca Vrisje i Adrion je impozantan na ostrva Hvar i Brač. Po spustu\, obilazak mesta Gradac i polazak za Makarsku. Obilazimo poluotoke u Makarskoj\, Osejava i Sveti Petar. Pešačimo gornjim putem kroz šumu četinara i mirise borova\, i uživamo u pogledu sa vidikovaca na čuvenu plažu Nugal a zatim se spuštamo do iste i provodimo vreme na njoj a u zavisno od vremenskih uslova se i kupamo. \n   \nVraćamo se donjom stazom pored mora do Makarske. Osveženje u nekom cafeu u Makarskoj\, odnosno polazimo ka drugom poluostrvu\, Sveti Petar i obilazak najlepših vidikovaca sve do Svetionika. \nPovratak u smestaj u kasnim popodnevnim satima na dogovorenu večeru u restoranu kod Pece uz moguću muziku uživo\, slobodne aktivnosti\, večernji obilazak Makarske\, uz eventualno noćno kupanje u moru\, odmor i spavanje. \n   \nTreći dan\, Petak 29. Maj \nPark prirode „Biokovo„ – Sky walk – vrh Vošac – vrh Sveti Jure – Makarska plaže \nUstajanje\, kafa\, čaj\, bogat doručak – švedski sto i priprema za polazak na turu. Polazak kombijima u Park prirode Biokovo. Vožnja serpentinama sa usponom i fantastičnim pogledima\, do ulaza u Park prirode Biokovo. Put je uzan sa krivinama i veoma zahtevan i propušta se po nekoliko vozila. Ulaznica se kupuje putem interneta na njihovom sajtu više dana unapred zbog velikog interesovanja (prošle godine je iznosila 8 eura po osobi\, imaćemo info pred naš put). Ulaznice će u ime naše grupe\, blagovremeno kupiti vaš vodič. \nZa one koji budu želeli\, biće jači\, pravi uspon na Vrhove Vošac i Sveti Jure – kamenom stazom starom više od 100 godina sa vrhunskim vidicima i pogledima na more uz više od 1000 metara uspona! Za uspeh ove jače priče sa usponom iz mesta Makar\, potrebno je da nas bude barem petoro od svih učesnika Akcije. Za ovaj uspon se dogovaramo na našim klupskim sastancima sredom\, blagovremeno pred naš put u Hrvatsku.  \n   \nZa najveći deo naše grupe – Vozilom stižemo do Skywalka koji obilazimo\, slikamo se i uživamo na istom. Zatim nastavljamo put kombijem do početka uspona na vrh Vošac 1422 mnv – od novog planinarskog doma\, koji je ujedno i najlepši vidikovac na Jadranu a nalazi se iznad same Makarske. Uživamo na vrhu koliko nam bude prijalo. Moguć je uspon na vrh Vošac iz Makarske – tačnije iz mesta Makar za najspremnije među nama\, po našem dogovoru! \nUspon\, uživanje u pogledu\, i silazak sa vrha Vošac traje oko dva sata\, oko 120m uspona\, oko tri km. Sa vrha se pruža pogled na ostrva Brač\, Hvar\, Pelješac\, Korčulu\, Lastovo i Vis\, kao i prema Splitu. Zatim polazimo kombijima prema najvišem vrhu Biokova Sveti Jure 1764 mnv\, odnosno pešačimo planinskom stazom. Zanimljiva je staza od doma pod Svetim Jurom do vrha i može se izvesti na dva načina. Prvi kojim idemo mi\, atraktivniji pomoću brodskog konopa u dužini oko 250 metara ili drugi\, vozilom do ispred vrha. Na vrhu se nalaze repetitori i pruža se fantastičan pogled. Vraćamo se preko Podgore ili Tučepa do Makarske. Povratak u naš smeštaj u kasnim popodnevnim satima na dogovorenu večeru u restoranu kod Pece\, moguća muzika uživo. Odmaranje\, opuštanje od ture u apartmanima\, na balkonima\, slobodne aktivnosti\, večernji obilazak Makarske\, možda noćno kupanje u moru i spavanje. \nČetvrti dan\, Subota 30. Maj \nIzlet brodom na ostrva Hvar i Brač + ručak na brodu – fisch piknik \nUstajanje\, kafa\, čaj\, bogat doručak – švedski sto i priprema za polazak na turu. U saradnji i dogovoru sa Agencijom Peca Tours biće organizovan celodnevni izlet brodom na ostrva Brač i Hvar. Pešačimo do čuvene plaže Bol i kupamo se\, odnosno na ostrvu Hvar do plaže Jelsa. Na brodu će biti organizovan i ručak (fisch piknik – morska riba sa vinom) Prošlogodišnja cena za našu grupu sa popustom je bila 35 eura (biće tačna info pred naš put). \n   \nVarijanta za one koji ostaju u Makarskoj\, ne idu na izlet brodom\, ako bude takvih\, je razgledanje grada u sopstvenoj režiji\, kao i kupanje na nekoj od izabranih plaža. \nPovratak našeg broda u Makarsku se očekuje u kasnim popodnevnim satima. Stižemo u naš smeštaj na dogovorenu večeru u restoranu kod Pece\, moguća muzika uživo. Odmaranje\, opuštanje od ture u apartmanima\, na balkonima\, slobodne aktivnosti\, večernji obilazak Makarske\, možda noćno kupanje u moru i spavanje.Večernji obilazak grada\, slobodne aktivnosti\, možda noćno kupanje i spavanje. \n   \nPeti dan\, Nedelja 31. Maj \nMakarska – Gradac – Baćinska jezera – Ploče – ušće reke Neretve u more – Počitelj – vrelo Bune – Mostar – Sarajevo – Beograd \nUstajanje\, kafa\, čaj\, bogat doručak – švedski sto i priprema za polazak na turu. Zatim napuštamo smeštaj (najkasnije u 7 sati kod kombija spremni) sa svim stvarima i polazimo ka Beogradu. Putujemo ka Pločama\, prolazimo Gradac i druga lepa mesta uz more\, koja u dolasku nismo videli zbog mraka. Prolazimo pored Baćinskih jezera i obilazimo\, tačnije dolazimo do ušća reke Neretve u more (pauza za uživanje u pogledu). Nastavljamo ka graničnom prelazu Metković. Po ulasku u BiH\, obilazimo srednjevekovnu tvrđavu Počitelj kod Čapljine\, zatim idemo na vrelo reke Bune u Blagaju\, obilazimo i Tekiju. Potom se vozimo u Mostar u kome pravimo pauzu od oko dva sata za obilazak grada\, najpre starog mosta u Mostaru. Ručamo u Jablanici u odličnom restoranu i nastavljamo put preko Sarajeva\, i istim putem nazad ka Beogradu uz usputne pauze po potrebi. Dolazak u Beograd na parking ispred Sava centra u kasnim noćnim satima u nedelju na ponedeljak. \nOPREMA i ISHRANA: Mali ranac sa vodom i hranom za jednodnevne izlete\, cipele za planinarenje ili patike sa Vibram đonom. Odeća prilagođena vremenskim prilikama\, presvlaka\, pidžama za noćenja\, oprema za kupanje u moru. Dobra zaštita od sunca (krema sa UV faktorom)\, vetrovka ili tanji polar za ujutro\, tanka kapa\, letnje rukavice\, za eventualne padavine\, kabanica i kišobran\, lična apoteka. Planinarski štapovi nisu obavezni ali su uvek i na svakoj akciji dobrodošli. Imamo odličnu hranu kod Pece (doručak i večera) ako bude potrebe\, duž plaže postoje brojni restorani i sa brzom hranom kao i brojne prodavnice – nekoliko velikih dobro snabdevenih marketa u Makarskoj. \nVAŽNE NAPOMENE: Prilikom prijave za akciju\, dajete sledeće podatke: Ime i prezime\, vaš kontakt telefon\, broj kartice PSS\, kao i naziv kluba/društva čiji ste član. Ako niste član PSS\, učlanićete se kod nas. \n– Rezervacija mesta za akciju se vrši uplatom akontacije u iznosu od 10.000 dinara prilikom prijavljivanja a najkasnije dve sedmice pre polaska na Akciju treba sve izmiriti\, na redovnim sastancima Kluba – Sredom u 19 časova na Novom Beogradu! \n– Broj mesta za akciju je ograničen! Rok za prijavljivanje je do 10. Maja\, odnosno do popune slobodnih mesta! Po Pravilniku Kluba\, u slučaju odustajanja iz bilo kog razloga\, uplaćena akontacija se vraća isključivo ako se obezbedi zamena (od strane učesnika\, ili Kluba ako postoji lista čekanja) \n-Ukoliko uzimate\, vaše individualno osiguranje treba biti sportsko za planinarske aktivnosti. \n– Obavezno poneti sa sobom važeću ličnu kartu i zdravstvenu karticu za Srbiju i BiH\, odnosno pasoš za Hrvatsku na dan početka akcije! \n– Za ulazak u Hrvatsku\, neophodan je važeći pasoš Republike Srbije\, sa datumom isteka starijim od tri meseca. \n-Zabranjeno je unositi svoju hranu u Republiku Hrvatsku! \nPRIJAVA za akciju kod vodiča – Boris Bratić\, pozivom na brojeve 063 11 357 99 i/ili 064 99 248 11 ili SMS porukom\, odnosno putem Viber-a (kako god budete želeli) E-mail: instruktorboris@gmail.com \nNa akciju se ide\, realizovaće se bez obzira na najavu vremenske prognoze! \nIznos Kotizacije: 20.000 dinara + deo u evrima za smeštaj i hranu (četiri polupansiona = četiri noćenja sa doručkom na bazi švedskog stola + 4 večere u Makarskoj) 180 € \nDoručak je na bazi Švedskog stola – Bogato\, izbor hrane za svakog od nas\, kao i večere spremane u dogovoru sa nama! \nKotizacija obuhvata: prevoz kombijem (mala grupa=veće mogućnosti i bolji ugođaj)\, putarine\, parking karte za vozilo\, četiri noćenja u odličnom privatnom smeštaju (uglavnom dvokrevetne sobe) u Makarskoj sa boravišnom taksom i polupansionom (doručkom na bazi švedskog stola i večere)\, troškove noćenja i hrane za vozače i troškove organizacije akcije \nKotizacija NE obuhvata: Vašu dodatnu ishranu\, ulaznice u PP Biokovo i ostale ulaznice za znamenitosti po planu naše Akcije\, individualno putno-zdravstveno osiguranje\, vaše individualne troškove \n-Smeštaj naše grupe je po kućama-vilama u Makarskoj\, kategorisanim sa zvezdicama visoke turističke klase u apartmanima\, uglavnom dvokrevetnim i trokrevetnim sobama sa kupatilom\, sa peškirima i priborom za toalet\, u većini sa balkonom\, frižider\, TV\, klima. \nDOBRO DOŠLI NA OVU VRHUNSKU AKCIJU 5 u 1 (kombinaciju planinarenja\, kupanja u moru sa obilaskom znamenitosti po programu ture i prirodnih lepota\, potpuni hedonizam) – AVANTURU ZA PAMĆENJE! \nVaš Klub planinara „AVANTURISTA“ \nVAŽNE NAPOMENE: Učesnici akcije „Park prirode „Biokovo“ – Sky walk – vrh Vošac – vrh Sveti Jure – poluotok Sveti Petar – Osejava – Makarska + izlet brodom na Hvar i Brač – Hrvatska“ od 27 – 31. Maj 2026. planinare\, učestvuju na sopstvenu odgovornost\, uz dužno pridržavanje Pravilnika o bezbednosti i odgovornosti u izvođenju planinarskih aktivnosti Planinarskog Saveza Srbije. \nNapominjemo da prema Zakonu o turizmu (član 86. stav 4) za putovanje (za jednodnevne izlete – akcije\, putovanja kraća od 24 sata) nije obezbeđena zaštita u pogledu garancija putovanja. \nPlaninarske akcije nisu turističke\, već sportskog karaktera\, te nemaju garanciju putovanja! \nVodič zadržava pravo izmene plana\, elemenata akcije po danima ili otkazivanja akcije u slučaju nepredviđenih okolnosti\, elementarnih nepogoda\, više sile\, odnosno nedovoljnog broja prijavljenih učesnika. Prilikom vašeg prijavljivanja za akciju\, obavezna je uplata iznosa kotizacije (dinarski deo) u celosti\, ako je ostalo manje od 20 dana do realizacije akcije. U slučaju odustajanja\, naći adekvatnu zamenu\, u suprotnom uplaćeni novac se ne vraća\, niti prenosi na naredne akcije.
URL:https://planinariavanturisti.org.rs/dogadjaj/park-prirode-biokovo-makarska4/
LOCATION:Park prirode Biokovo\, Sky walk - Vošac - Sveti Jure\, Makarska\, Hrvatska
CATEGORIES:Акција Гљиварска едукација,Високогорска акција,кањонска авантура,Пећинска авантура,Планинарска едукација,Планинарске акције,Трекинг акција
ATTACH;FMTTYPE=image/jpeg:https://planinariavanturisti.org.rs/wp-content/uploads/2024/09/naslovna.jpg
ORGANIZER;CN="%D0%91%D0%BE%D1%80%D0%B8%D1%81%20%D0%91%D1%80%D0%B0%D1%82%D0%B8%D1%9B%20-%20%D0%91%D0%BE%D0%BA%D0%B8":MAILTO:instruktorboris@gmail.com
END:VEVENT
END:VCALENDAR